Workbook

Sheet algemene inleiding

Sheet handleiding
A2: Hoe gebruiken we de kwaliteitstool MAEIA?

Sheet expertenteam
A1: MET DANK AAN HET EXPERTENTEAM
A2: Nele Clottens
A3: Mieke Van Tomme
A4: Lore Holmstock
A5: Inge Dreesen
A6: Wim Borghys
A7: Sarah Van Broek
A8: David Devolder
A9: Kathleen Seghers
A10: Clara Roes
A11: Jean-Paul Juckler
A12: Raïssa Dopchie

Sheet inleiding ..... 
A1: INLEIDING PRODUCTIE

Sheet inhoudstafel

Sheet proces productie
A2: VERSIE 20240730 | B2: PRODUCTIE | C2: NIVEAU | D2: Referentie | E2: ter info: artikelnummer, §, pagina | G2: ANTWOORD | H2: OPMERKINGEN | J2: extra factor gewicht | L2: TOTAL | M2: SCORE
C3: 1 = WETGEVING (= 6 punten) | H3: OPMERKINGEN | L3: =SUBTOTAL(9,L7:L794) -> 3 | M3: =SUBTOTAL(9,M7:M794) -> 3
C4: 2 = RICHTLIJNEN, NORMEN, AANBEVELINGEN (= 3 punten) | G4: Ja
C5: 3 = GOOD PRACTICE (= 1 punt) | G5: Neen
G6: NVT | K6: Code | L6: Total | M6: Score
A7: I | B7: Kwaliteitsopvolging van het productieproces | C7: Progress :: | G7: =SUBTOTAL(3,G10:G12)/SUBTOTAL(3,C10:C12) -> 0.33333333 | L7: =SUBTOTAL(9,L10:L12) -> 3 | M7: =SUBTOTAL(9,M10:M12) -> 3
B8: AUDITVRAGEN
B9: Controleer altijd de documentatie en de toepassing op de werkvloer.
A10: 1 | B10: Werden alle genomen acties op basis van de tekortkomingen van niveau 1 die bij de vorige audit werden vastgesteld adequaat opgevolgd en met met succes geïmplementeerd? | C10: 3 | D10: Good Practice | G10: Ja | J10: X3 | K10: =C10&J10&G10 -> 3X3Ja | L10: =IFERROR(VLOOKUP($K10,Mapping!$F:$H,2,0),"") -> 3 | M10: =IFERROR(VLOOKUP($K10,Mapping!$F:$H,3,0),"") -> 3 | N10: =C10&G10 -> 3Ja
A11: 2 | B11: Werden alle genomen acties op basis van de verbeterpunten van niveau 2 die bij de vorige audit werden vastgesteld adequaat opgevolgd en met met succes geïmplementeerd? | C11: 3 | D11: Good Practice | J11: X2 | K11: =C11&J11&G11 -> 3X2 | L11: =IFERROR(VLOOKUP($K11,Mapping!F:H,2,0),"") | M11: =IFERROR(VLOOKUP($K11,Mapping!$F:$H,3,0),"") | N11: =C11&G11 -> 3
A12: 3 | B12: Werden alle genomen acties op basis van de verbeterpunten van niveau 3 die bij de vorige audit werden vastgesteld adequaat opgevolgd en met met succes geïmplementeerd? | C12: 3 | D12: Good Practice | J12: X1 | K12: =C12&J12&G12 -> 3X1 | L12: =IFERROR(VLOOKUP($K12,Mapping!F:H,2,0),"") | M12: =IFERROR(VLOOKUP($K12,Mapping!$F:$H,3,0),"") | N12: =C12&G12 -> 3
A13: II | B13: Personeel | C13: Progress :: | G13: =SUBTOTAL(3,G16:G56)/SUBTOTAL(3,C16:C56) -> 0 | L13: =SUBTOTAL(9,L16:L56) -> 0 | M13: =SUBTOTAL(9,M16:M56) -> 0
B14: AUDITVRAGEN
B15: Controleer altijd de documentatie en de toepassing op de werkvloer.
A16: 1 | B16: Is er een organogram beschikbaar specifiek van de afdeling productie? | C16: 1 | D16: KB 30 sept 2020 Bijlage III 2.2 | J16: X1 | K16: =C16&J16&G16 -> 1X1 | L16: =IFERROR(VLOOKUP($K16,Mapping!F:H,2,0),"") | M16: =IFERROR(VLOOKUP($K16,Mapping!$F:$H,3,0),"") | N16: =C16&G16 -> 1
A17: 2 | B17: Zijn de verantwoordelijkheden, beoogde competenties en taken van de medewerkers van de productie duidelijk omschreven in een functiebeschrijving? | C17: 1 | D17: KB 30 sept 2020 Bijlage III 2.2 | J17: X1 | K17: =C17&J17&G17 -> 1X1 | L17: =IFERROR(VLOOKUP($K17,Mapping!F:H,2,0),"") | M17: =IFERROR(VLOOKUP($K17,Mapping!$F:$H,3,0),"") | N17: =C17&G17 -> 1
A18: 3 | B18: Is er een Verantwoordelijke Persoon aangeduid die de eindverantwoorelijkheid draagt voor alle bereidingsaspecten van geneesmiddelen, met inbegrip van de vrijgave ervan? | C18: 1 | D18: KB 30 sept 2020 Bijlage III 2.2 | J18: X1 | K18: =C18&J18&G18 -> 1X1 | L18: =IFERROR(VLOOKUP($K18,Mapping!F:H,2,0),"") | M18: =IFERROR(VLOOKUP($K18,Mapping!$F:$H,3,0),"") | N18: =C18&G18 -> 1
A19: 4 | B19: Heeft de Verantwoordelijke Persoon een toereikende wetenschappelijke, microbiële en technische opleiding genoten en beschikt deze over voldoende praktische en theoretische ervaring om deze taak uit te voeren? | C19: 1 | D19: KB 30 sept 2020 Bijlage III Bijlage 1.5 | J19: X1 | K19: =C19&J19&G19 -> 1X1 | L19: =IFERROR(VLOOKUP($K19,Mapping!F:H,2,0),"") | M19: =IFERROR(VLOOKUP($K19,Mapping!$F:$H,3,0),"") | N19: =C19&G19 -> 1
A20: 5 | B20: Wordt er bij afwezigheid van de Verantwoordelijke Persoon steeds een plaatsvervanger aangewezen? | C20: 1 | D20: KB 30 sept 2020 Bijlage III 2.2 | J20: X1 | K20: =C20&J20&G20 -> 1X1 | L20: =IFERROR(VLOOKUP($K20,Mapping!F:H,2,0),"") | M20: =IFERROR(VLOOKUP($K20,Mapping!$F:$H,3,0),"") | N20: =C20&G20 -> 1
A21: 6 | B21: Heeft de afdeling productie een toereikend aantal bekwame personeelsleden om het bereidingsproces op een kwalitatieve manier te ondersteunen? | C21: 1 | D21: KB 30 sept 2020 Bijlage III 2.2 | J21: X1 | K21: =C21&J21&G21 -> 1X1 | L21: =IFERROR(VLOOKUP($K21,Mapping!F:H,2,0),"") | M21: =IFERROR(VLOOKUP($K21,Mapping!$F:$H,3,0),"") | N21: =C21&G21 -> 1
A22: 7 | B22: Heeft het personeel dat de bereidingen maakt de juiste competenties en de passende opleiding doorlopen in overeenstemming met hun functie? | C22: 1 | D22: KB 30 sept 2020 Bijlage III 1.3 | J22: X1 | K22: =C22&J22&G22 -> 1X1 | L22: =IFERROR(VLOOKUP($K22,Mapping!F:H,2,0),"") | M22: =IFERROR(VLOOKUP($K22,Mapping!$F:$H,3,0),"") | N22: =C22&G22 -> 1
A23: 8 | B23: Is er een algemene procedure beschikbaar voor de opleiding van het personeel van de afdeling productie? | C23: 1 | D23: KB 30 sept 2020 Bijlage III 4.5.1.g | J23: X1 | K23: =C23&J23&G23 -> 1X1 | L23: =IFERROR(VLOOKUP($K23,Mapping!F:H,2,0),"") | M23: =IFERROR(VLOOKUP($K23,Mapping!$F:$H,3,0),"") | N23: =C23&G23 -> 1
A24: 9 | B24: Wordt er een register bijgehouden van de opleiding van het personeel? | C24: 1 | D24: KB 30 sept 2020 Bijlage III 4.5.2 | J24: X1 | K24: =C24&J24&G24 -> 1X1 | L24: =IFERROR(VLOOKUP($K24,Mapping!F:H,2,0),"") | M24: =IFERROR(VLOOKUP($K24,Mapping!$F:$H,3,0),"") | N24: =C24&G24 -> 1
A25: 10 | B25: Zijn er hygiënische voorzorgsmaatregelen beschreven voor personeelsleden? | C25: 1 | D25: KB 30 sept 2020 Bijlage III 2.4 | J25: X1 | K25: =C25&J25&G25 -> 1X1 | L25: =IFERROR(VLOOKUP($K25,Mapping!F:H,2,0),"") | M25: =IFERROR(VLOOKUP($K25,Mapping!$F:$H,3,0),"") | N25: =C25&G25 -> 1
A26: 11 | B26: Wordt het personeel opgeleid volgens de hygiënische voorzorgsmaatregelen? | C26: 1 | D26: KB 30 sept 2020 Bijlage III 2.4 | J26: X1 | K26: =C26&J26&G26 -> 1X1 | L26: =IFERROR(VLOOKUP($K26,Mapping!F:H,2,0),"") | M26: =IFERROR(VLOOKUP($K26,Mapping!$F:$H,3,0),"") | N26: =C26&G26 -> 1
A27: 12 | B27: Bevat de opleiding van de bereiders voldoende informatie over de goede bereidingspraktijken en steriele vaardigheden? | C27: 1 | D27: KB 30 sept 2020 Bijlage III Bijlage 1.9 | J27: X1 | K27: =C27&J27&G27 -> 1X1 | L27: =IFERROR(VLOOKUP($K27,Mapping!F:H,2,0),"") | M27: =IFERROR(VLOOKUP($K27,Mapping!$F:$H,3,0),"") | N27: =C27&G27 -> 1
... A52: 37 | B52: Is er een aangepaste opleiding voorzien voor alle thuisverpleegkunidgen, patiënten en mantelzogers die in contact komen met toxische stoffen? | C52: 3 | D52: Good Practice | J52: X1 | K52: =C52&J52&G52 -> 3X1 | L52: =IFERROR(VLOOKUP($K52,Mapping!F:H,2,0),"") | M52: =IFERROR(VLOOKUP($K52,Mapping!$F:$H,3,0),"") | N52: =C52&G52 -> 3
A53: 38 | B53: Worden besmettelijke ziekten of open letsels steeds gemeld aan de hoofdverantwoordelijke van de productie zodanig dat deze verantwoordelijke persoon kan beoordelen of een personeelslid geschikt is om zijn werkzaamheden uit te voeren? | C53: 1 | D53: KB 30 sept 2020 Bijlage III 2.4 | J53: X1 | K53: =C53&J53&G53 -> 1X1 | L53: =IFERROR(VLOOKUP($K53,Mapping!F:H,2,0),"") | M53: =IFERROR(VLOOKUP($K53,Mapping!$F:$H,3,0),"") | N53: =C53&G53 -> 1
A54: 39 | B54: Bestaat er een jaarlijks medisch controleprogramma van het personeel? | C54: 3 | D54: Good Practice | J54: X1 | K54: =C54&J54&G54 -> 3X1 | L54: =IFERROR(VLOOKUP($K54,Mapping!F:H,2,0),"") | M54: =IFERROR(VLOOKUP($K54,Mapping!$F:$H,3,0),"") | N54: =C54&G54 -> 3
A55: 40 | B55: Worden de personeelsleden afgezonderd van de cytotoxische stoffen en reprotoxische stoffen tijdens de zwangerschap? | C55: 3 | D55: Good Practice | J55: X1 | K55: =C55&J55&G55 -> 3X1 | L55: =IFERROR(VLOOKUP($K55,Mapping!F:H,2,0),"") | M55: =IFERROR(VLOOKUP($K55,Mapping!$F:$H,3,0),"") | N55: =C55&G55 -> 3
A56: 41 | B56: Worden de personeelsleden afgezonderd van de cytotoxische stoffen tijdens de borstvoedingsperiode? | C56: 3 | D56: Good Practice | J56: X1 | K56: =C56&J56&G56 -> 3X1 | L56: =IFERROR(VLOOKUP($K56,Mapping!F:H,2,0),"") | M56: =IFERROR(VLOOKUP($K56,Mapping!$F:$H,3,0),"") | N56: =C56&G56 -> 3
A57: III | B57: Kleding | C57: Progress :: | G57: =SUBTOTAL(3,G60:G83)/SUBTOTAL(3,C60:C83) -> 0 | L57: =SUBTOTAL(9,L60:L83) -> 0 | M57: =SUBTOTAL(9,M60:M83) -> 0
B58: AUDITVRAGEN
B59: Controleer altijd de documentatie en de toepassing op de werkvloer.
A60: 1 | B60: Bestaat er een procedure dat eten, drinken of roken niet toegestaan is in de bereidingsruimte? | C60: 1 | D60: KB 30 sept 2020 Bijlage III 2.4 | J60: X1 | K60: =C60&J60&G60 -> 1X1 | L60: =IFERROR(VLOOKUP($K60,Mapping!F:H,2,0),"") | M60: =IFERROR(VLOOKUP($K60,Mapping!$F:$H,3,0),"") | N60: =C60&G60 -> 1
A61: 2 | B61: Is er een procedure beschikbaar voor geschikte kleding tijdens de productie van geneesmiddelen? | C61: 1 | D61: KB 30 sept 2020 Bijlage III 2.4 | J61: X1 | K61: =C61&J61&G61 -> 1X1 | L61: =IFERROR(VLOOKUP($K61,Mapping!F:H,2,0),"") | M61: =IFERROR(VLOOKUP($K61,Mapping!$F:$H,3,0),"") | N61: =C61&G61 -> 1
A62: 3 | B62: Wordt het personeel opgeleid volgens de aanwezige procedure rond geschikte kledij? | C62: 1 | D62: KB 30 sept 2020 Bijlage III 2.4 | J62: X1 | K62: =C62&J62&G62 -> 1X1 | L62: =IFERROR(VLOOKUP($K62,Mapping!F:H,2,0),"") | M62: =IFERROR(VLOOKUP($K62,Mapping!$F:$H,3,0),"") | N62: =C62&G62 -> 1
A63: 4 | B63: Wordt de kennis van het personeel betreffende de geschikte kleding op het einde van de opleiding en nadien periodiek beoordeeld? | C63: 1 | D63: KB 30 sept 2020 Bijlage III Bijlage 1.10 | J63: X1 | K63: =C63&J63&G63 -> 1X1 | L63: =IFERROR(VLOOKUP($K63,Mapping!F:H,2,0),"") | M63: =IFERROR(VLOOKUP($K63,Mapping!$F:$H,3,0),"") | N63: =C63&G63 -> 1
A64: 5 | B64: Is de kleding en de kwaliteit ervan geschikt voor het proces en de klasse van de werkruimte? | C64: 1 | D64: KB 30 sept 2020 Bijlage III Bijlage 1.23 | J64: X1 | K64: =C64&J64&G64 -> 1X1 | L64: =IFERROR(VLOOKUP($K64,Mapping!F:H,2,0),"") | M64: =IFERROR(VLOOKUP($K64,Mapping!$F:$H,3,0),"") | N64: =C64&G64 -> 1
A65: 6 | B65: Is er speciale kleding voorzien voor bloedproducten en levende virussen? | C65: 1 | D65: KB 30 sept 2020 Bijlage III Bijlage 1.23 | J65: X1 | K65: =C65&J65&G65 -> 1X1 | L65: =IFERROR(VLOOKUP($K65,Mapping!F:H,2,0),"") | M65: =IFERROR(VLOOKUP($K65,Mapping!$F:$H,3,0),"") | N65: =C65&G65 -> 1
...

Sheet rapport
B1: MAEIA Productie Rapport
A3: Date : | I3: Adapt these cells
A4: Ziekenhuis : | I4: Adapt these cells
A5: Hoofdapotheker : | I5: Adapt these cells
A6: Auditeur naam : | I6: Adapt these cells
C7: Max | D7: Score
A8: Total score | C8: ='proces productie'!L3 -> 3 | D8: ='proces productie'!M3 -> 3 | K8: Make sure total is correct | L8: Make sure total is correct
A9: ='proces productie'!A7 -> I | B9: ='proces productie'!B7 -> Kwaliteitsopvolging van het productieproces | C9: ='proces productie'!L7 -> 3 | D9: ='proces productie'!M7 -> 3 | H9: Copy Paste visible cells from questionnaire sheet | I9: Copy Paste visible cells from questionnaire sheet | J9: Copy Paste visible cells from questionnaire sheet | K9: Copy Paste visible cells from questionnaire sheet | L9: Copy Paste visible cells from questionnaire sheet
A10: ='proces productie'!A13 -> II | B10: ='proces productie'!B13 -> Personeel | C10: ='proces productie'!L13 -> 0 | D10: ='proces productie'!M13 -> 0 | H10: Copy Paste visible cells from questionnaire sheet | I10: Copy Paste visible cells from questionnaire sheet | J10: Copy Paste visible cells from questionnaire sheet | K10: Copy Paste visible cells from questionnaire sheet | L10: Copy Paste visible cells from questionnaire sheet
A11: ='proces productie'!A57 -> III | B11: ='proces productie'!B57 -> Kleding | C11: ='proces productie'!L57 -> 0 | D11: ='proces productie'!M57 -> 0 | H11: Copy Paste visible cells from questionnaire sheet | I11: Copy Paste visible cells from questionnaire sheet | J11: Copy Paste visible cells from questionnaire sheet | K11: Copy Paste visible cells from questionnaire sheet | L11: Copy Paste visible cells from questionnaire sheet
A12: ='proces productie'!A84 -> IV | B12: ='proces productie'!B84 -> Gebouwen en apparatuur | C12: ='proces productie'!L84 -> 0 | D12: ='proces productie'!M84 -> 0 | H12: Copy Paste visible cells from questionnaire sheet | I12: Copy Paste visible cells from questionnaire sheet | J12: Copy Paste visible cells from questionnaire sheet | K12: Copy Paste visible cells from questionnaire sheet | L12: Copy Paste visible cells from questionnaire sheet
A13: ='proces productie'!A87 -> a | B13: ='proces productie'!B87 -> Algemeen | C13: ='proces productie'!L87 -> 0 | D13: ='proces productie'!M87 -> 0 | H13: Copy Paste visible cells from questionnaire sheet | I13: Copy Paste visible cells from questionnaire sheet | J13: Copy Paste visible cells from questionnaire sheet | K13: Copy Paste visible cells from questionnaire sheet | L13: Copy Paste visible cells from questionnaire sheet
A14: ='proces productie'!A131 -> b | B14: ='proces productie'!B131 -> Bijzondere vereisten voor steriele bereidingen | C14: ='proces productie'!L131 -> 0 | D14: ='proces productie'!M131 -> 0
A15: ='proces productie'!A147 -> c | B15: ='proces productie'!B147 -> Bijzondere vereisten voor terminaal gesteriliseerde producten | C15: ='proces productie'!L147 -> 0 | D15: ='proces productie'!M147 -> 0
A16: ='proces productie'!A150 -> d | B16: ='proces productie'!B150 -> Bijzondere vereisten voor niet-steriele bereidingen | C16: ='proces productie'!L150 -> 0 | D16: ='proces productie'!M150 -> 0
A17: ='proces productie'!A181 -> e | B17: ='proces productie'!B181 -> Bijzondere vereisten voor de omgevingsomstandigheden(monitoring) | C17: ='proces productie'!L181 -> 0 | D17: ='proces productie'!M181 -> 0
A18: ='proces productie'!A197 -> f | B18: ='proces productie'!B197 -> Reiniging en desinfectie van de infrastructuur | C18: ='proces productie'!L197 -> 0 | D18: ='proces productie'!M197 -> 0 | H18: Copy Paste visible cells from questionnaire sheet | I18: Copy Paste visible cells from questionnaire sheet | J18: Copy Paste visible cells from questionnaire sheet | K18: Copy Paste visible cells from questionnaire sheet | L18: Copy Paste visible cells from questionnaire sheet
A19: ='proces productie'!A223 -> V | B19: ='proces productie'!B223 -> Documentatie | C19: ='proces productie'!L223 -> 0 | D19: ='proces productie'!M223 -> 0 | H19: Copy Paste visible cells from questionnaire sheet | I19: Copy Paste visible cells from questionnaire sheet | J19: Copy Paste visible cells from questionnaire sheet | K19: Copy Paste visible cells from questionnaire sheet | L19: Copy Paste visible cells from questionnaire sheet
A20: ='proces productie'!A226 -> a | B20: ='proces productie'!B226 -> Algemeen - Traceerbaarheid | C20: ='proces productie'!L226 -> 0 | D20: ='proces productie'!M226 -> 0 | H20: Copy Paste visible cells from questionnaire sheet | I20: Copy Paste visible cells from questionnaire sheet | J20: Copy Paste visible cells from questionnaire sheet | K20: Copy Paste visible cells from questionnaire sheet | L20: Copy Paste visible cells from questionnaire sheet
A21: ='proces productie'!A245 -> b | B21: ='proces productie'!B245 -> Registers | C21: ='proces productie'!L245 -> 0 | D21: ='proces productie'!M245 -> 0 | H21: Copy Paste visible cells from questionnaire sheet | I21: Copy Paste visible cells from questionnaire sheet | J21: Copy Paste visible cells from questionnaire sheet | K21: Copy Paste visible cells from questionnaire sheet | L21: Copy Paste visible cells from questionnaire sheet
A22: ='proces productie'!A266 -> c | B22: ='proces productie'!B266 -> Procedures | C22: ='proces productie'!L266 -> 0 | D22: ='proces productie'!M266 -> 0 | H22: Copy Paste visible cells from questionnaire sheet | I22: Copy Paste visible cells from questionnaire sheet | J22: Copy Paste visible cells from questionnaire sheet | K22: Copy Paste visible cells from questionnaire sheet | L22: Copy Paste visible cells from questionnaire sheet
A23: ='proces productie'!A291 -> d | B23: ='proces productie'!B291 -> Ex tempore bereide producten | C23: ='proces productie'!L291 -> 0 | D23: ='proces productie'!M291 -> 0 | H23: Copy Paste visible cells from questionnaire sheet | I23: Copy Paste visible cells from questionnaire sheet | J23: Copy Paste visible cells from questionnaire sheet | K23: Copy Paste visible cells from questionnaire sheet | L23: Copy Paste visible cells from questionnaire sheet
A24: ='proces productie'!A299 -> e | B24: ='proces productie'!B299 -> Op voorraad bereide producten | C24: ='proces productie'!L299 -> 0 | D24: ='proces productie'!M299 -> 0 | H24: Copy Paste visible cells from questionnaire sheet | I24: Copy Paste visible cells from questionnaire sheet | J24: Copy Paste visible cells from questionnaire sheet | K24: Copy Paste visible cells from questionnaire sheet | L24: Copy Paste visible cells from questionnaire sheet
A25: ='proces productie'!A327 -> VI | B25: ='proces productie'!B327 -> Productie | C25: ='proces productie'!L327 -> 0 | D25: ='proces productie'!M327 -> 0 | H25: Copy Paste visible cells from questionnaire sheet | I25: Copy Paste visible cells from questionnaire sheet | J25: Copy Paste visible cells from questionnaire sheet | K25: Copy Paste visible cells from questionnaire sheet | L25: Copy Paste visible cells from questionnaire sheet
A26: ='proces productie'!A330 -> a | B26: ='proces productie'!B330 -> Algemeen | C26: ='proces productie'!L330 -> 0 | D26: ='proces productie'!M330 -> 0
A27: ='proces productie'!A359 -> b | B27: ='proces productie'!B359 -> Grondstoffen | C27: ='proces productie'!L359 -> 0 | D27: ='proces productie'!M359 -> 0
A28: ='proces productie'!A373 -> c | B28: ='proces productie'!B373 -> Verpakkingsmateriaal en etikettering | C28: ='proces productie'!L373 -> 0 | D28: ='proces productie'!M373 -> 0
A29: ='proces productie'!A396 -> d | B29: ='proces productie'!B396 -> Steriel (toxische) bereidingen | C29: ='proces productie'!L396 -> 0 | D29: ='proces productie'!M396 -> 0
A30: ='proces productie'!A444 -> e | B30: ='proces productie'!B444 -> Bereiding van terminaal gesteriliseerde producten | C30: ='proces productie'!L444 -> 0 | D30: ='proces productie'!M444 -> 0
A31: ='proces productie'!A451 -> f | B31: ='proces productie'!B451 -> Stoomsterilisatie | C31: ='proces productie'!L451 -> 0 | D31: ='proces productie'!M451 -> 0
A32: ='proces productie'!A466 -> g | B32: ='proces productie'!B466 -> Niet steriele bereidingen | C32: ='proces productie'!L466 -> 0 | D32: ='proces productie'!M466 -> 0
A33: ='proces productie'!A480 -> h | B33: ='proces productie'!B480 -> Bereiding van eenheidsverpakkingen | C33: ='proces productie'!L480 -> 0 | D33: ='proces productie'!M480 -> 0
A34: ='proces productie'!A491 -> VII | B34: ='proces productie'!B491 -> Kwaliteitscontrole | C34: ='proces productie'!L491 -> 0 | D34: ='proces productie'!M491 -> 0 | H34: Copy Paste visible cells from questionnaire sheet | I34: Copy Paste visible cells from questionnaire sheet | J34: Copy Paste visible cells from questionnaire sheet | K34: Copy Paste visible cells from questionnaire sheet | L34: Copy Paste visible cells from questionnaire sheet
A35: ='proces productie'!A494 -> a | B35: ='proces productie'!B494 -> Algemeen | C35: ='proces productie'!L494 -> 0 | D35: ='proces productie'!M494 -> 0 | H35: Copy Paste visible cells from questionnaire sheet | I35: Copy Paste visible cells from questionnaire sheet | J35: Copy Paste visible cells from questionnaire sheet | K35: Copy Paste visible cells from questionnaire sheet | L35: Copy Paste visible cells from questionnaire sheet
A36: ='proces productie'!A530 -> b | B36: ='proces productie'!B530 -> Kwalificatie CR "niet in gebruik" | C36: ='proces productie'!L530 -> 0 | D36: ='proces productie'!M530 -> 0
A37: ='proces productie'!A543 -> c | B37: ='proces productie'!B543 -> Omgevingscontrole CR "in gebruik" | C37: ='proces productie'!L543 -> 0 | D37: ='proces productie'!M543 -> 0
A38: ='proces productie'!A565 -> VIII | B38: ='proces productie'!B565 -> Water gebruikt bij de bereidingen | C38: ='proces productie'!L565 -> 0 | D38: ='proces productie'!M565 -> 0
A39: ='proces productie'!A582 -> IX | B39: ='proces productie'!B582 -> Kwaliteitscontrole vrijgave | C39: ='proces productie'!L582 -> 0 | D39: ='proces productie'!M582 -> 0
A40: ='proces productie'!A592 -> X | B40: ='proces productie'!B592 -> Behandeling van non-conformiteiten | C40: ='proces productie'!L592 -> 0 | D40: ='proces productie'!M592 -> 0
A41: ='proces productie'!A615 -> XI | B41: ='proces productie'!B615 -> Transport (intern en extern) afgewerkte producten | C41: ='proces productie'!L615 -> 0 | D41: ='proces productie'!M615 -> 0
...

Sheet actiepunten auditee
A3: Actiepunt | B3: Nummer | C3: ..… | D3: Oorsprong :
D4: o Tekortkoming niveau 1
D5: o Verbeterpunt niveau 2
D6: o Verbeterpunt niveau 3
D7: o Observatie
A8: Geaudit proces | B8: Productie
A9: Auditdatum | B9: …../…../….. | D9: Auditor | E9: ……………………………………………
A10: Auditee | B10: ………………………………………………………………………………..
A11: Omschrijving van de tekortkoming / verbeterpunt / observatie
A12: Voorgestelde maatregel door de auditee | B12: Oorzaak
B15: Actie
B21: Verantwoordelijke
B23: Termijn
A26: Opvolgrapport
A27: (cumulatief)
A44: Conclusie

Sheet Mapping
B4: MAPPING TABLE | G4: points
B5: Base points | C5: Niveau | D5: Extra gewicht factor | E5: Antwoord | F5: Code | G5: Total | H5: Score | M5: Somme | P5: Speedometer | R5: Pointer
A6: Ja Groep | B6: 1 | C6: 3 | D6: X3 | E6: Ja | F6: =C6&D6&E6 -> 3X3Ja | G6: 3 | H6: 3 | L6: Ja | M6: =COUNTIF('proces productie'!$G:$G,Mapping!$L6) -> 2 | P6: Start | Q6: 0 | R6: Value | S6: =+ROUND(M11/M10,2)*100 -> 100
A7: Ja Groep | B7: 1 | C7: 3 | D7: X2 | E7: Ja | F7: =C7&D7&E7 -> 3X2Ja | G7: 2 | H7: 2 | L7: Neen | M7: =COUNTIF('proces productie'!$G:$G,Mapping!$L7) -> 1 | P7: Initial | Q7: 60 | R7: Pointer | S7: 1
A8: Ja Groep | B8: 1 | C8: 3 | D8: X1 | E8: Ja | F8: =C8&D8&E8 -> 3X1Ja | G8: 1 | H8: 1 | L8: NVT | M8: =COUNTIF('proces productie'!$G:$G,Mapping!$L8) -> 1 | P8: Middle | Q8: 30 | R8: end | S8: =200-S7-S6 -> 99
A9: Ja Groep | B9: 1 | C9: 3 | D9: X0,33 | E9: Ja | F9: =C9&D9&E9 -> 3X0,33Ja | G9: =1/3 -> 0.33333333 | H9: =1/3 -> 0.33333333 | L9: Somme | M9: =SUM(M6:M8) -> 4 | P9: End | Q9: 10
A10: Ja Groep | B10: 1 | C10: 3 | D10: X0,66 | E10: Ja | F10: =C10&D10&E10 -> 3X0,66Ja | G10: =2/3 -> 0.66666667 | H10: =2/3 -> 0.66666667 | L10: Total | M10: ='proces productie'!$L$3 -> 3 | P10: Max | Q10: 100
A11: Ja Groep | B11: 1 | C11: 3 | D11: X1 | E11: Ja | F11: =C11&D11&E11 -> 3X1Ja | G11: 1 | H11: 1 | L11: Score | M11: ='proces productie'!$M$3 -> 3
A12: Ja Groep | B12: 3 | C12: 2 | D12: X3 | E12: Ja | F12: =C12&D12&E12 -> 2X3Ja | G12: 9 | H12: 9 | S12: ="Total Score : "&S6&"%" -> Total Score : 100%
A13: Ja Groep | B13: 3 | C13: 2 | D13: X2 | E13: Ja | F13: =C13&D13&E13 -> 2X2Ja | G13: 6 | H13: 6
A14: Ja Groep | B14: 3 | C14: 2 | D14: X1 | E14: Ja | F14: =C14&D14&E14 -> 2X1Ja | G14: 3 | H14: 3 | L14: ROUGE | M14: 60
A15: Ja Groep | B15: 3 | C15: 2 | D15: X0,33 | E15: Ja | F15: =C15&D15&E15 -> 2X0,33Ja | G15: 1 | H15: 1 | L15: ORANGE | M15: 30
A16: Ja Groep | B16: 3 | C16: 2 | D16: X0,66 | E16: Ja | F16: =C16&D16&E16 -> 2X0,66Ja | G16: 2 | H16: 2 | L16: VERT | M16: 10
A17: Ja Groep | B17: 3 | C17: 2 | D17: X1 | E17: Ja | F17: =C17&D17&E17 -> 2X1Ja | G17: 3 | H17: 3 | L17: Invisible | M17: 100
A18: Ja Groep | B18: 6 | C18: 1 | D18: X3 | E18: Ja | F18: =C18&D18&E18 -> 1X3Ja | G18: 18 | H18: 18
A19: Ja Groep | B19: 6 | C19: 1 | D19: X2 | E19: Ja | F19: =C19&D19&E19 -> 1X2Ja | G19: 12 | H19: 12
A20: Ja Groep | B20: 6 | C20: 1 | D20: X1 | E20: Ja | F20: =C20&D20&E20 -> 1X1Ja | G20: 6 | H20: 6 | L20: Aiguille | M20: =M7/M9 -> 0.25
A21: Ja Groep | B21: 6 | C21: 1 | D21: X0,33 | E21: Ja | F21: =C21&D21&E21 -> 1X0,33Ja | G21: 2 | H21: 2 | L21: Largeur | M21: 1
A22: Ja Groep | B22: 6 | C22: 1 | D22: X0,66 | E22: Ja | F22: =C22&D22&E22 -> 1X0,66Ja | G22: 4 | H22: 4 | L22: Invisible | M22: =SUM(M14:M17)-(M21+M20) -> 198.75
A23: Ja Groep | B23: 6 | C23: 1 | D23: X1 | E23: Ja | F23: =C23&D23&E23 -> 1X1Ja | G23: 6 | H23: 6
A24: Neen groep | B24: 1 | C24: 3 | D24: X3 | E24: Neen | F24: =C24&D24&E24 -> 3X3Neen | G24: 3 | H24: 0 | L24: RIEN
A25: Neen groep | B25: 1 | C25: 3 | D25: X2 | E25: Neen | F25: =C25&D25&E25 -> 3X2Neen | G25: 2 | H25: 0 | L25: Aiguille | M25: =ROUND(M20,0)&"%" -> 0%
A26: Neen groep | B26: 1 | C26: 3 | D26: X1 | E26: Neen | F26: =C26&D26&E26 -> 3X1Neen | G26: 1 | H26: 0 | L26: RIEN
A27: Neen groep | B27: 1 | C27: 3 | D27: X0,33 | E27: Neen | F27: =C27&D27&E27 -> 3X0,33Neen | G27: =1/3 -> 0.33333333 | H27: 0
A28: Neen groep | B28: 1 | C28: 3 | D28: X0,66 | E28: Neen | F28: =C28&D28&E28 -> 3X0,66Neen | G28: =2/3 -> 0.66666667 | H28: 0
A29: Neen groep | B29: 1 | C29: 3 | D29: X1 | E29: Neen | F29: =C29&D29&E29 -> 3X1Neen | G29: 1 | H29: 0
A30: Neen groep | B30: 3 | C30: 2 | D30: X3 | E30: Neen | F30: =C30&D30&E30 -> 2X3Neen | G30: 9 | H30: 0
A31: Neen groep | B31: 3 | C31: 2 | D31: X2 | E31: Neen | F31: =C31&D31&E31 -> 2X2Neen | G31: 6 | H31: 0
A32: Neen groep | B32: 3 | C32: 2 | D32: X1 | E32: Neen | F32: =C32&D32&E32 -> 2X1Neen | G32: 3 | H32: 0
A33: Neen groep | B33: 3 | C33: 2 | D33: X0,33 | E33: Neen | F33: =C33&D33&E33 -> 2X0,33Neen | G33: 1 | H33: 0
A34: Neen groep | B34: 3 | C34: 2 | D34: X0,66 | E34: Neen | F34: =C34&D34&E34 -> 2X0,66Neen | G34: 2 | H34: 0
A35: Neen groep | B35: 3 | C35: 2 | D35: X1 | E35: Neen | F35: =C35&D35&E35 -> 2X1Neen | G35: 3 | H35: 0
A36: Neen groep | B36: 6 | C36: 1 | D36: X3 | E36: Neen | F36: =C36&D36&E36 -> 1X3Neen | G36: 18 | H36: 0
A37: Neen groep | B37: 6 | C37: 1 | D37: X2 | E37: Neen | F37: =C37&D37&E37 -> 1X2Neen | G37: 12 | H37: 0
A38: Neen groep | B38: 6 | C38: 1 | D38: X1 | E38: Neen | F38: =C38&D38&E38 -> 1X1Neen | G38: 6 | H38: 0
A39: Neen groep | B39: 6 | C39: 1 | D39: X0,33 | E39: Neen | F39: =C39&D39&E39 -> 1X0,33Neen | G39: 2 | H39: 0
A40: Neen groep | B40: 6 | C40: 1 | D40: X0,66 | E40: Neen | F40: =C40&D40&E40 -> 1X0,66Neen | G40: 4 | H40: 0
... A59: NVT groep | B59: 6 | C59: 1 | D59: X1 | E59: NVT | F59: =C59&D59&E59 -> 1X1NVT | G59: 0 | H59: 0
