Workbook

Sheet algemene inleiding

Sheet inleiding kwaliteitssysteem 
A1: INLEIDING KWALITEITSSYSTEEM

Sheet handleiding
A2: Hoe gebruiken we de kwaliteitstool MAEIA?

Sheet expertenteam
A1: MET DANK AAN HET EXPERTENTEAM
A2: Sylvie Martens
A3: Annemie Somers
A4: Marleen Verstraeten
A5: Celine De Groote
A6: Caroline Monstrey
A7: Janne Theuwissen
A8: Leen Bouchier
A9: Mathijs Lazeure
A10: Sara Lambrichts
A11: Leen Beerten
A12: Nadine Collin
A13: Nabil Hayef

Sheet inhoudstafel

Sheet auditvragen kwaliteitssysteem 
A2: VERSIE 20231201 | B2: KWALITEITSSYSTEEM | C2: NIVEAU | D2: Referentie | E2: ter info: artikelnummer, §, pagina | G2: ANTWOORD | H2: OPMERKINGEN | J2: extra factor gewicht | L2: TOTAL | M2: SCORE
C3: 1 = WETGEVING (= 6 punten) | H3: OPMERKINGEN | L3: =SUBTOTAL(9,L7:L345) -> 3 | M3: =SUBTOTAL(9,M7:M345) -> 3
C4: 2 = RICHTLIJNEN, NORMEN, AANBEVELINGEN (= 3 punten) | G4: Ja
C5: 3 = GOOD PRACTICE (= 1 punt) | G5: Neen
G6: NVT | K6: Code | L6: Total | M6: Score
A7: I | B7: Kwaliteitsopvolging van het sterilisatieproces | C7: Progress :: | G7: =SUBTOTAL(3,G10:G12)/SUBTOTAL(3,C10:C12) -> 0.33333333 | L7: =SUBTOTAL(9,L10:L12) -> 3 | M7: =SUBTOTAL(9,M10:M12) -> 3
B8: AUDITVRAGEN
B9: Controleer altijd de documentatie en de toepassing op de werkvloer.
A10: 1 | B10: Werden alle genomen acties op basis van de tekortkomingen van niveau 1 die bij de vorige audit werden vastgesteld adequaat opgevolgd en met met succes geïmplementeerd? | C10: 3 | D10: Good Practice | G10: Ja | J10: X3 | K10: =C10&J10&G10 -> 3X3Ja | L10: =IFERROR(VLOOKUP($K10,Mapping!$F:$H,2,0),"") -> 3 | M10: =IFERROR(VLOOKUP($K10,Mapping!$F:$H,3,0),"") -> 3 | N10: =C10&G10 -> 3Ja
A11: 2 | B11: Werden alle genomen acties op basis van de verbeterpunten van niveau 2 die bij de vorige audit werden vastgesteld adequaat opgevolgd en met met succes geïmplementeerd? | C11: 3 | D11: Good Practice | J11: X2 | K11: =C11&J11&G11 -> 3X2 | L11: =IFERROR(VLOOKUP($K11,Mapping!F:H,2,0),"") | M11: =IFERROR(VLOOKUP($K11,Mapping!$F:$H,3,0),"") | N11: =C11&G11 -> 3
A12: 3 | B12: Werden alle genomen acties op basis van de verbeterpunten van niveau 3 die bij de vorige audit werden vastgesteld adequaat opgevolgd en met met succes geïmplementeerd? | C12: 3 | D12: Good Practice | J12: X1 | K12: =C12&J12&G12 -> 3X1 | L12: =IFERROR(VLOOKUP($K12,Mapping!F:H,2,0),"") | M12: =IFERROR(VLOOKUP($K12,Mapping!$F:$H,3,0),"") | N12: =C12&G12 -> 3
A13: II | B13: Kwaliteitsbeheersysteem ziekenhuisbreed | C13: Progress :: | G13: =SUBTOTAL(3,G16:G38)/(SUBTOTAL(3,C16:C38)-0) -> 0 | L13: =SUBTOTAL(9,L16:L38) -> 0 | M13: =SUBTOTAL(9,M16:M38) -> 0
B14: AUDITVRAGEN
B15: Controleer altijd de documentatie en de toepassing op de werkvloer.
A16: 1 | B16: Wordt de visie van het ziekenhuis duidelijk gedefinieerd, rekening houdend met de missie? | C16: 3 | D16: Good Practice | J16: X1 | K16: =C16&J16&G16 -> 3X1 | L16: =IFERROR(VLOOKUP($K16,Mapping!F:H,2,0),"") | M16: =IFERROR(VLOOKUP($K16,Mapping!$F:$H,3,0),"") | N16: =C16&G16 -> 3
A17: 2 | B17: Worden de waarden van het ziekenhuis duidelijk gedefinieerd? | C17: 3 | D17: Good Practice | J17: X1 | K17: =C17&J17&G17 -> 3X1 | L17: =IFERROR(VLOOKUP($K17,Mapping!F:H,2,0),"") | M17: =IFERROR(VLOOKUP($K17,Mapping!$F:$H,3,0),"") | N17: =C17&G17 -> 3
A18: 3 | B18: Is er een duidelijk strategisch actieplan rond kwaliteit en veilgheid in het ziekenhuis beschikbaar? | C18: 3 | D18: Good Practice | J18: X1 | K18: =C18&J18&G18 -> 3X1 | L18: =IFERROR(VLOOKUP($K18,Mapping!F:H,2,0),"") | M18: =IFERROR(VLOOKUP($K18,Mapping!$F:$H,3,0),"") | N18: =C18&G18 -> 3
A19: 4 | B19: Zijn de missie, visie, waarden en het strategisch actieplan toegankelijk voor alle personeelsleden van het ziekenhuis? | C19: 3 | D19: Good Practice | J19: X1 | K19: =C19&J19&G19 -> 3X1 | L19: =IFERROR(VLOOKUP($K19,Mapping!F:H,2,0),"") | M19: =IFERROR(VLOOKUP($K19,Mapping!$F:$H,3,0),"") | N19: =C19&G19 -> 3
A20: 5 | B20: Bestaat er een kwaliteitssyteem in het ziekenhuis waarbij de aanbevelingen van kwaliteit en veiligheid zijn geintegreerd? | C20: 3 | D20: Good Practice | J20: X1 | K20: =C20&J20&G20 -> 3X1 | L20: =IFERROR(VLOOKUP($K20,Mapping!F:H,2,0),"") | M20: =IFERROR(VLOOKUP($K20,Mapping!$F:$H,3,0),"") | N20: =C20&G20 -> 3
A21: 6 | B21: Is de directie betrokken bij het invoeren en onderhouden van een kwaliteitssysteem (accreditatie, intern kwaliteitssysteem, …) voor héél het ziekenhuis? | C21: 2 | D21: JCI | J21: X1 | K21: =C21&J21&G21 -> 2X1 | L21: =IFERROR(VLOOKUP($K21,Mapping!F:H,2,0),"") | M21: =IFERROR(VLOOKUP($K21,Mapping!$F:$H,3,0),"") | N21: =C21&G21 -> 2
A22: 7 | B22: Steunt de directie de specifieke kwaliteitsprogramma’s van afdelingen die hiervoor het initiatief nemen, vb ISO-certificering, JACIE, OECI, ...? | C22: 2 | D22: JCI | J22: X1 | K22: =C22&J22&G22 -> 2X1 | L22: =IFERROR(VLOOKUP($K22,Mapping!F:H,2,0),"") | M22: =IFERROR(VLOOKUP($K22,Mapping!$F:$H,3,0),"") | N22: =C22&G22 -> 2
A23: 8 | B23: Bestaat er een kwaliteitscel in het ziekenhuis die de diensten ondersteunt bij het uitwerken van hun kwaliteitssysteem? | C23: 2 | D23: JCI | J23: X1 | K23: =C23&J23&G23 -> 2X1 | L23: =IFERROR(VLOOKUP($K23,Mapping!F:H,2,0),"") | M23: =IFERROR(VLOOKUP($K23,Mapping!$F:$H,3,0),"") | N23: =C23&G23 -> 2
A24: 9 | B24: Voorziet de kwaliteitscel van het ziekenhuis een organisatie voor de opleiding van het personeel rond kwaliteit en veiligheid? | C24: 2 | D24: JCI | J24: X1 | K24: =C24&J24&G24 -> 2X1 | L24: =IFERROR(VLOOKUP($K24,Mapping!F:H,2,0),"") | M24: =IFERROR(VLOOKUP($K24,Mapping!$F:$H,3,0),"") | N24: =C24&G24 -> 2
A25: 10 | B25: Voorziet de kwaliteitscel van het ziekehuis een organisatie voor de controle en de audit van het kwaliteitssysteem? | C25: 2 | D25: JCI | J25: X1 | K25: =C25&J25&G25 -> 2X1 | L25: =IFERROR(VLOOKUP($K25,Mapping!F:H,2,0),"") | M25: =IFERROR(VLOOKUP($K25,Mapping!$F:$H,3,0),"") | N25: =C25&G25 -> 2
A26: 11 | B26: Voorziet de kwaliteitscel van het ziekenhuis een organisatie voor het uitwerken van de meest geschikte verbeteringsacties? | C26: 2 | D26: JCI | J26: X1 | K26: =C26&J26&G26 -> 2X1 | L26: =IFERROR(VLOOKUP($K26,Mapping!F:H,2,0),"") | M26: =IFERROR(VLOOKUP($K26,Mapping!$F:$H,3,0),"") | N26: =C26&G26 -> 2
A27: 12 | B27: Betrekt het kwaliteitssysteem van het ziekenhuis ook de medicatie gerelateerde processen of activiteiten van de apotheek ? | C27: 2 | D27: JCI | J27: X1 | K27: =C27&J27&G27 -> 2X1 | L27: =IFERROR(VLOOKUP($K27,Mapping!F:H,2,0),"") | M27: =IFERROR(VLOOKUP($K27,Mapping!$F:$H,3,0),"") | N27: =C27&G27 -> 2
... A38: 23 | B38: Worden de genomen maatregelen naar aanleiding van de klanttevredenheid verder opgevolgd? | C38: 3 | D38: Good Practice | J38: X1 | K38: =C38&J38&G38 -> 3X1 | L38: =IFERROR(VLOOKUP($K38,Mapping!F:H,2,0),"") | M38: =IFERROR(VLOOKUP($K38,Mapping!$F:$H,3,0),"") | N38: =C38&G38 -> 3
A39: III | B39: Kwaliteitsbeheersysteem van de ziekenhuisapotheek | C39: Progress :: | G39: =SUBTOTAL(3,G42:G145)/(SUBTOTAL(3,C42:C145)-6) -> 0 | L39: =SUBTOTAL(9,L42:L145) -> 0 | M39: =SUBTOTAL(9,M42:M145) -> 0
B40: AUDITVRAGEN
B41: Controleer altijd de documentatie en de toepassing op de werkvloer.
A42: a | B42: Kwaliteitsbeleid | C42: Progress :: | G42: =SUBTOTAL(3,G43:G49)/SUBTOTAL(3,C43:C49) -> 0 | L42: =SUBTOTAL(9,L43:L49) -> 0 | M42: =SUBTOTAL(9,M43:M49) -> 0
A43: 1 | B43: Wordt het kwaliteitsbeleid van de apotheek gedefinieerd door de ziekenhuisapotheker-titularis met de hulp van het farmaceutisch personeel? | C43: 3 | D43: Good Practice | J43: X1 | K43: =C43&J43&G43 -> 3X1 | L43: =IFERROR(VLOOKUP($K43,Mapping!F:H,2,0),"") | M43: =IFERROR(VLOOKUP($K43,Mapping!$F:$H,3,0),"") | N43: =C43&G43 -> 3
A44: 1 | B44: Wordt het kwaliteitsbeleid van de apotheek gedefinieerd door de ziekenhuisapotheker-titularis met de hulp van het farmaceutisch personeel? | C44: 3 | D44: Good Practice | J44: X1 | K44: =C44&J44&G44 -> 3X1 | L44: =IFERROR(VLOOKUP($K44,Mapping!F:H,2,0),"") | M44: =IFERROR(VLOOKUP($K44,Mapping!$F:$H,3,0),"") | N44: =C44&G44 -> 3
A45: 2 | B45: Worden de waarden van de apotheek duidelijk gedefinieerd in het kwaliteitsbeleid van de apotheek? | C45: 3 | D45: Good Practice | J45: X1 | K45: =C45&J45&G45 -> 3X1 | L45: =IFERROR(VLOOKUP($K45,Mapping!F:H,2,0),"") | M45: =IFERROR(VLOOKUP($K45,Mapping!$F:$H,3,0),"") | N45: =C45&G45 -> 3
A46: 3 | B46: Wordt het kwaliteitsbeleid van de apotheek dat opgenomen is in het algemeen beleidsplan van de apotheek periodiek herzien? | C46: 3 | D46: Good Practice | J46: X1 | K46: =C46&J46&G46 -> 3X1 | L46: =IFERROR(VLOOKUP($K46,Mapping!F:H,2,0),"") | M46: =IFERROR(VLOOKUP($K46,Mapping!$F:$H,3,0),"") | N46: =C46&G46 -> 3
A47: 4 | B47: Is de ziekenhuisapotheker-tituaris verantwoordelijk voor de integratie van het kwaliteitsbeleid van de apotheek in het kwaliteitsactieplan van het ziekenhuis? | C47: 3 | D47: Good Practice | J47: X1 | K47: =C47&J47&G47 -> 3X1 | L47: =IFERROR(VLOOKUP($K47,Mapping!F:H,2,0),"") | M47: =IFERROR(VLOOKUP($K47,Mapping!$F:$H,3,0),"") | N47: =C47&G47 -> 3
A48: 5 | B48: Wordt het beheer van de apparaten die de apotheek gebruikt voor zijn farmaceutische activiteiten opgenomen in het kwaliteitsbeleid van de apotheek? | C48: 2 | D48: Zorginspectie | J48: X1 | K48: =C48&J48&G48 -> 2X1 | L48: =IFERROR(VLOOKUP($K48,Mapping!F:H,2,0),"") | M48: =IFERROR(VLOOKUP($K48,Mapping!$F:$H,3,0),"") | N48: =C48&G48 -> 2
A49: 6 | B49: Stelt de ziekenhuisapotheker-titularis een investeringsplan op voor de belangrijke apparaten (inclusief de vernieuwing van de verouderde apparaten)? | C49: 3 | D49: Good Practice | J49: X1 | K49: =C49&J49&G49 -> 3X1 | L49: =IFERROR(VLOOKUP($K49,Mapping!F:H,2,0),"") | M49: =IFERROR(VLOOKUP($K49,Mapping!$F:$H,3,0),"") | N49: =C49&G49 -> 3
A50: b | B50: Kwaliteitssysteem | C50: Progress :: | G50: =SUBTOTAL(3,G51:G61)/SUBTOTAL(3,C51:C61) -> 0 | L50: =SUBTOTAL(9,L51:L61) -> 0 | M50: =SUBTOTAL(9,M51:M61) -> 0
A51: 1 | B51: Is er onder de verantwoordelijkheid van de ziekenhuisapotheker-titularis een kwaliteitssysteem geïmplementeerd in de ziekenhuisapotheek? | C51: 1 | D51: KB 30 sept 2020 | E51: Bijlage I.A | J51: X1 | K51: =C51&J51&G51 -> 1X1 | L51: =IFERROR(VLOOKUP($K51,Mapping!F:H,2,0),"") | M51: =IFERROR(VLOOKUP($K51,Mapping!$F:$H,3,0),"") | N51: =C51&G51 -> 1
...

Sheet rapport
B1: MAEIA Kwaliteitssysteem Rapport
A3: Date : | I3: Adapt these cells
A4: Ziekenhuis : | I4: Adapt these cells
A5: Hoofdapotheker : | I5: Adapt these cells
A6: Auditeur naam : | I6: Adapt these cells
C7: Max | D7: Score
A8: Total score | C8: ='auditvragen kwaliteitssysteem '!L3 -> 3 | D8: ='auditvragen kwaliteitssysteem '!M3 -> 3 | K8: Make sure total is correct | L8: Make sure total is correct
A9: ='auditvragen kwaliteitssysteem '!A7 -> I | B9: ='auditvragen kwaliteitssysteem '!B7 -> Kwaliteitsopvolging van het sterilisatieproces | C9: ='auditvragen kwaliteitssysteem '!L7 -> 3 | D9: ='auditvragen kwaliteitssysteem '!M7 -> 3 | H9: Copy Paste visible cells from questionnaire sheet | I9: Copy Paste visible cells from questionnaire sheet | J9: Copy Paste visible cells from questionnaire sheet | K9: Copy Paste visible cells from questionnaire sheet | L9: Copy Paste visible cells from questionnaire sheet
A10: ='auditvragen kwaliteitssysteem '!A13 -> II | B10: ='auditvragen kwaliteitssysteem '!B13 -> Kwaliteitsbeheersysteem ziekenhuisbreed | C10: ='auditvragen kwaliteitssysteem '!L13 -> 0 | D10: ='auditvragen kwaliteitssysteem '!M13 -> 0 | H10: Copy Paste visible cells from questionnaire sheet | I10: Copy Paste visible cells from questionnaire sheet | J10: Copy Paste visible cells from questionnaire sheet | K10: Copy Paste visible cells from questionnaire sheet | L10: Copy Paste visible cells from questionnaire sheet
A11: ='auditvragen kwaliteitssysteem '!A39 -> III | B11: ='auditvragen kwaliteitssysteem '!B39 -> Kwaliteitsbeheersysteem van de ziekenhuisapotheek | C11: ='auditvragen kwaliteitssysteem '!L39 -> 0 | D11: ='auditvragen kwaliteitssysteem '!M39 -> 0 | H11: Copy Paste visible cells from questionnaire sheet | I11: Copy Paste visible cells from questionnaire sheet | J11: Copy Paste visible cells from questionnaire sheet | K11: Copy Paste visible cells from questionnaire sheet | L11: Copy Paste visible cells from questionnaire sheet
A12: ='auditvragen kwaliteitssysteem '!A42 -> a | B12: ='auditvragen kwaliteitssysteem '!B42 -> Kwaliteitsbeleid | C12: ='auditvragen kwaliteitssysteem '!L42 -> 0 | D12: ='auditvragen kwaliteitssysteem '!M42 -> 0 | H12: Copy Paste visible cells from questionnaire sheet | I12: Copy Paste visible cells from questionnaire sheet | J12: Copy Paste visible cells from questionnaire sheet | K12: Copy Paste visible cells from questionnaire sheet | L12: Copy Paste visible cells from questionnaire sheet
A13: ='auditvragen kwaliteitssysteem '!A50 -> b | B13: ='auditvragen kwaliteitssysteem '!B50 -> Kwaliteitssysteem | C13: ='auditvragen kwaliteitssysteem '!L50 -> 0 | D13: ='auditvragen kwaliteitssysteem '!M50 -> 0 | H13: Copy Paste visible cells from questionnaire sheet | I13: Copy Paste visible cells from questionnaire sheet | J13: Copy Paste visible cells from questionnaire sheet | K13: Copy Paste visible cells from questionnaire sheet | L13: Copy Paste visible cells from questionnaire sheet
A14: ='auditvragen kwaliteitssysteem '!A62 -> c | B14: ='auditvragen kwaliteitssysteem '!B62 -> Kwaliteitscel | C14: ='auditvragen kwaliteitssysteem '!L62 -> 0 | D14: ='auditvragen kwaliteitssysteem '!M62 -> 0 | H14: Copy Paste visible cells from questionnaire sheet | I14: Copy Paste visible cells from questionnaire sheet | J14: Copy Paste visible cells from questionnaire sheet | K14: Copy Paste visible cells from questionnaire sheet | L14: Copy Paste visible cells from questionnaire sheet
A15: ='auditvragen kwaliteitssysteem '!A78 -> d | B15: ='auditvragen kwaliteitssysteem '!B78 -> Kwaliteitshandboek | C15: ='auditvragen kwaliteitssysteem '!L78 -> 0 | D15: ='auditvragen kwaliteitssysteem '!M78 -> 0
A16: ='auditvragen kwaliteitssysteem '!A95 -> e | B16: ='auditvragen kwaliteitssysteem '!B95 -> Rapportering | C16: ='auditvragen kwaliteitssysteem '!L95 -> 0 | D16: ='auditvragen kwaliteitssysteem '!M95 -> 0
A17: ='auditvragen kwaliteitssysteem '!A103 -> f | B17: ='auditvragen kwaliteitssysteem '!B103 -> Farmaceutische processen | C17: ='auditvragen kwaliteitssysteem '!L103 -> 0 | D17: ='auditvragen kwaliteitssysteem '!M103 -> 0
A18: ='auditvragen kwaliteitssysteem '!A146 -> IV | B18: ='auditvragen kwaliteitssysteem '!B146 -> Beheer niet-conformiteiten, klachten en incidenten | C18: ='auditvragen kwaliteitssysteem '!L146 -> 0 | D18: ='auditvragen kwaliteitssysteem '!M146 -> 0 | H18: Copy Paste visible cells from questionnaire sheet | I18: Copy Paste visible cells from questionnaire sheet | J18: Copy Paste visible cells from questionnaire sheet | K18: Copy Paste visible cells from questionnaire sheet | L18: Copy Paste visible cells from questionnaire sheet
A19: ='auditvragen kwaliteitssysteem '!A211 -> V | B19: ='auditvragen kwaliteitssysteem '!B211 -> Zelfevaluatie | C19: ='auditvragen kwaliteitssysteem '!L211 -> 0 | D19: ='auditvragen kwaliteitssysteem '!M211 -> 0 | H19: Copy Paste visible cells from questionnaire sheet | I19: Copy Paste visible cells from questionnaire sheet | J19: Copy Paste visible cells from questionnaire sheet | K19: Copy Paste visible cells from questionnaire sheet | L19: Copy Paste visible cells from questionnaire sheet
A20: ='auditvragen kwaliteitssysteem '!A236 -> VI | B20: ='auditvragen kwaliteitssysteem '!B236 -> Documentatie | C20: ='auditvragen kwaliteitssysteem '!L236 -> 0 | D20: ='auditvragen kwaliteitssysteem '!M236 -> 0 | H20: Copy Paste visible cells from questionnaire sheet | I20: Copy Paste visible cells from questionnaire sheet | J20: Copy Paste visible cells from questionnaire sheet | K20: Copy Paste visible cells from questionnaire sheet | L20: Copy Paste visible cells from questionnaire sheet
A43: Handtekeningen
A45: Hoofdapotheker | I45: Change name & signature
A48: Auditeur naam : | I48: Change name & signature
B52: MAEIA Kwaliteitssysteem Rapport
A79: Sterke punten
A80: 1
A81: 2
A82: 3
A83: 4
A84: 5
A85: 6
A86: Tekortkomingen niveau 1
A87: 1
A88: 2
A89: 3
A90: 4
A91: 5
A92: 6
A93: Verbeterpunten niveau 2
A94: 1
A95: 2
...

Sheet actiepunten auditee
A3: Actiepunt | B3: Nummer | C3: ..… | D3: Oorsprong :
D4: o Tekortkoming niveau 1
D5: o Verbeterpunt niveau 2
D6: o Verbeterpunt niveau 3
D7: o Observatie
A8: Geaudit proces | B8: Kwaliteitssysteem
A9: Auditdatum | B9: …../…../….. | D9: Auditor | E9: ……………………………………………
A10: Auditee | B10: ………………………………………………………………………………..
A11: Omschrijving van de tekortkoming / verbeterpunt / observatie
A12: Voorgestelde maatregel door de auditee | B12: Oorzaak
B15: Actie
B21: Verantwoordelijke
B23: Termijn
A26: Opvolgrapport
A27: (cumulatief)
A44: Conclusie

Sheet Mapping
B4: MAPPING TABLE | G4: points
B5: Base points | C5: Niveau | D5: Extra gewicht factor | E5: Antwoord | F5: Code | G5: Total | H5: Score | M5: Somme | P5: Speedometer | R5: Pointer
A6: Ja Groep | B6: 1 | C6: 3 | D6: X3 | E6: Ja | F6: =C6&D6&E6 -> 3X3Ja | G6: 3 | H6: 3 | L6: Ja | M6: =COUNTIF('auditvragen kwaliteitssysteem '!$G:$G,Mapping!$L6) -> 2 | P6: Start | Q6: 0 | R6: Value | S6: =+ROUND(M11/M10,2)*100 -> 100
A7: Ja Groep | B7: 1 | C7: 3 | D7: X2 | E7: Ja | F7: =C7&D7&E7 -> 3X2Ja | G7: 2 | H7: 2 | L7: Neen | M7: =COUNTIF('auditvragen kwaliteitssysteem '!$G:$G,Mapping!$L7) -> 1 | P7: Initial | Q7: 60 | R7: Pointer | S7: 1
A8: Ja Groep | B8: 1 | C8: 3 | D8: X1 | E8: Ja | F8: =C8&D8&E8 -> 3X1Ja | G8: 1 | H8: 1 | L8: NVT | M8: =COUNTIF('auditvragen kwaliteitssysteem '!$G:$G,Mapping!$L8) -> 1 | P8: Middle | Q8: 30 | R8: end | S8: =200-S7-S6 -> 99
A9: Ja Groep | B9: 1 | C9: 3 | D9: X0,33 | E9: Ja | F9: =C9&D9&E9 -> 3X0,33Ja | G9: =1/3 -> 0.33333333 | H9: =1/3 -> 0.33333333 | L9: Somme | M9: =SUM(M6:M8) -> 4 | P9: End | Q9: 10
A10: Ja Groep | B10: 1 | C10: 3 | D10: X0,66 | E10: Ja | F10: =C10&D10&E10 -> 3X0,66Ja | G10: =2/3 -> 0.66666667 | H10: =2/3 -> 0.66666667 | L10: Total | M10: ='auditvragen kwaliteitssysteem '!$L$3 -> 3 | P10: Max | Q10: 100
A11: Ja Groep | B11: 1 | C11: 3 | D11: X1 | E11: Ja | F11: =C11&D11&E11 -> 3X1Ja | G11: 1 | H11: 1 | L11: Score | M11: ='auditvragen kwaliteitssysteem '!$M$3 -> 3
A12: Ja Groep | B12: 3 | C12: 2 | D12: X3 | E12: Ja | F12: =C12&D12&E12 -> 2X3Ja | G12: 9 | H12: 9 | S12: ="Total Score : "&S6&"%" -> Total Score : 100%
A13: Ja Groep | B13: 3 | C13: 2 | D13: X2 | E13: Ja | F13: =C13&D13&E13 -> 2X2Ja | G13: 6 | H13: 6
A14: Ja Groep | B14: 3 | C14: 2 | D14: X1 | E14: Ja | F14: =C14&D14&E14 -> 2X1Ja | G14: 3 | H14: 3 | L14: ROUGE | M14: 60
A15: Ja Groep | B15: 3 | C15: 2 | D15: X0,33 | E15: Ja | F15: =C15&D15&E15 -> 2X0,33Ja | G15: 1 | H15: 1 | L15: ORANGE | M15: 30
A16: Ja Groep | B16: 3 | C16: 2 | D16: X0,66 | E16: Ja | F16: =C16&D16&E16 -> 2X0,66Ja | G16: 2 | H16: 2 | L16: VERT | M16: 10
A17: Ja Groep | B17: 3 | C17: 2 | D17: X1 | E17: Ja | F17: =C17&D17&E17 -> 2X1Ja | G17: 3 | H17: 3 | L17: Invisible | M17: 100
A18: Ja Groep | B18: 6 | C18: 1 | D18: X3 | E18: Ja | F18: =C18&D18&E18 -> 1X3Ja | G18: 18 | H18: 18
A19: Ja Groep | B19: 6 | C19: 1 | D19: X2 | E19: Ja | F19: =C19&D19&E19 -> 1X2Ja | G19: 12 | H19: 12
A20: Ja Groep | B20: 6 | C20: 1 | D20: X1 | E20: Ja | F20: =C20&D20&E20 -> 1X1Ja | G20: 6 | H20: 6 | L20: Aiguille | M20: =M7/M9 -> 0.25
A21: Ja Groep | B21: 6 | C21: 1 | D21: X0,33 | E21: Ja | F21: =C21&D21&E21 -> 1X0,33Ja | G21: 2 | H21: 2 | L21: Largeur | M21: 1
A22: Ja Groep | B22: 6 | C22: 1 | D22: X0,66 | E22: Ja | F22: =C22&D22&E22 -> 1X0,66Ja | G22: 4 | H22: 4 | L22: Invisible | M22: =SUM(M14:M17)-(M21+M20) -> 198.75
A23: Ja Groep | B23: 6 | C23: 1 | D23: X1 | E23: Ja | F23: =C23&D23&E23 -> 1X1Ja | G23: 6 | H23: 6
A24: Neen groep | B24: 1 | C24: 3 | D24: X3 | E24: Neen | F24: =C24&D24&E24 -> 3X3Neen | G24: 3 | H24: 0 | L24: RIEN
A25: Neen groep | B25: 1 | C25: 3 | D25: X2 | E25: Neen | F25: =C25&D25&E25 -> 3X2Neen | G25: 2 | H25: 0 | L25: Aiguille | M25: =ROUND(M20,0)&"%" -> 0%
A26: Neen groep | B26: 1 | C26: 3 | D26: X1 | E26: Neen | F26: =C26&D26&E26 -> 3X1Neen | G26: 1 | H26: 0 | L26: RIEN
A27: Neen groep | B27: 1 | C27: 3 | D27: X0,33 | E27: Neen | F27: =C27&D27&E27 -> 3X0,33Neen | G27: =1/3 -> 0.33333333 | H27: 0
A28: Neen groep | B28: 1 | C28: 3 | D28: X0,66 | E28: Neen | F28: =C28&D28&E28 -> 3X0,66Neen | G28: =2/3 -> 0.66666667 | H28: 0
A29: Neen groep | B29: 1 | C29: 3 | D29: X1 | E29: Neen | F29: =C29&D29&E29 -> 3X1Neen | G29: 1 | H29: 0
A30: Neen groep | B30: 3 | C30: 2 | D30: X3 | E30: Neen | F30: =C30&D30&E30 -> 2X3Neen | G30: 9 | H30: 0
A31: Neen groep | B31: 3 | C31: 2 | D31: X2 | E31: Neen | F31: =C31&D31&E31 -> 2X2Neen | G31: 6 | H31: 0
A32: Neen groep | B32: 3 | C32: 2 | D32: X1 | E32: Neen | F32: =C32&D32&E32 -> 2X1Neen | G32: 3 | H32: 0
A33: Neen groep | B33: 3 | C33: 2 | D33: X0,33 | E33: Neen | F33: =C33&D33&E33 -> 2X0,33Neen | G33: 1 | H33: 0
A34: Neen groep | B34: 3 | C34: 2 | D34: X0,66 | E34: Neen | F34: =C34&D34&E34 -> 2X0,66Neen | G34: 2 | H34: 0
A35: Neen groep | B35: 3 | C35: 2 | D35: X1 | E35: Neen | F35: =C35&D35&E35 -> 2X1Neen | G35: 3 | H35: 0
A36: Neen groep | B36: 6 | C36: 1 | D36: X3 | E36: Neen | F36: =C36&D36&E36 -> 1X3Neen | G36: 18 | H36: 0
A37: Neen groep | B37: 6 | C37: 1 | D37: X2 | E37: Neen | F37: =C37&D37&E37 -> 1X2Neen | G37: 12 | H37: 0
A38: Neen groep | B38: 6 | C38: 1 | D38: X1 | E38: Neen | F38: =C38&D38&E38 -> 1X1Neen | G38: 6 | H38: 0
A39: Neen groep | B39: 6 | C39: 1 | D39: X0,33 | E39: Neen | F39: =C39&D39&E39 -> 1X0,33Neen | G39: 2 | H39: 0
A40: Neen groep | B40: 6 | C40: 1 | D40: X0,66 | E40: Neen | F40: =C40&D40&E40 -> 1X0,66Neen | G40: 4 | H40: 0
... A59: NVT groep | B59: 6 | C59: 1 | D59: X1 | E59: NVT | F59: =C59&D59&E59 -> 1X1NVT | G59: 0 | H59: 0
