Workbook

Sheet algemene inleiding

Sheet inleiding kwaliteitssysteem 
A1: INLEIDING KWALITEITSSYSTEEM

Sheet handleiding
A2: Hoe gebruiken we de kwaliteitstool MAEIA?

Sheet expertenteam
A1: MET DANK AAN HET EXPERTENTEAM
A2: Sylvie Martens
A3: Annemie Somers
A4: Marleen Verstraeten
A5: Celine De Groote
A6: Caroline Monstrey
A7: Janne Theuwissen
A8: Leen Bouchier
A9: Mathijs Lazeure
A10: Sara Lambrichts
A11: Leen Beerten
A12: Nadine Collin
A13: Nabil Hayef

Sheet inhoudstafel

Sheet auditvragen kwaliteitssysteem 
A2: VERSIE 20231201 | B2: KWALITEITSSYSTEEM | C2: NIVEAU | D2: Referentie | E2: ter info: artikelnummer, §, pagina | G2: ANTWOORD | H2: OPMERKINGEN | J2: extra factor gewicht | L2: TOTAL | M2: SCORE
C3: 1 = WETGEVING (= 6 punten) | H3: OPMERKINGEN | L3: =SUBTOTAL(9,L7:L345) -> 3 | M3: =SUBTOTAL(9,M7:M345) -> 3
C4: 2 = RICHTLIJNEN, NORMEN, AANBEVELINGEN (= 3 punten) | G4: Ja
C5: 3 = GOOD PRACTICE (= 1 punt) | G5: Neen
G6: NVT | K6: Code | L6: Total | M6: Score
A7: I | B7: Kwaliteitsopvolging van het sterilisatieproces | C7: Progress :: | G7: =SUBTOTAL(3,G10:G12)/SUBTOTAL(3,C10:C12) -> 0.33333333 | L7: =SUBTOTAL(9,L10:L12) -> 3 | M7: =SUBTOTAL(9,M10:M12) -> 3
B8: AUDITVRAGEN
B9: Controleer altijd de documentatie en de toepassing op de werkvloer.
A10: 1 | B10: Werden alle genomen acties op basis van de tekortkomingen van niveau 1 die bij de vorige audit werden vastgesteld adequaat opgevolgd en met met succes geïmplementeerd? | C10: 3 | D10: Good Practice | G10: Ja | J10: X3 | K10: =C10&J10&G10 -> 3X3Ja | L10: =IFERROR(VLOOKUP($K10,Mapping!$F:$H,2,0),"") -> 3 | M10: =IFERROR(VLOOKUP($K10,Mapping!$F:$H,3,0),"") -> 3 | N10: =C10&G10 -> 3Ja
A11: 2 | B11: Werden alle genomen acties op basis van de verbeterpunten van niveau 2 die bij de vorige audit werden vastgesteld adequaat opgevolgd en met met succes geïmplementeerd? | C11: 3 | D11: Good Practice | J11: X2 | K11: =C11&J11&G11 -> 3X2 | L11: =IFERROR(VLOOKUP($K11,Mapping!F:H,2,0),"") | M11: =IFERROR(VLOOKUP($K11,Mapping!$F:$H,3,0),"") | N11: =C11&G11 -> 3
A12: 3 | B12: Werden alle genomen acties op basis van de verbeterpunten van niveau 3 die bij de vorige audit werden vastgesteld adequaat opgevolgd en met met succes geïmplementeerd? | C12: 3 | D12: Good Practice | J12: X1 | K12: =C12&J12&G12 -> 3X1 | L12: =IFERROR(VLOOKUP($K12,Mapping!F:H,2,0),"") | M12: =IFERROR(VLOOKUP($K12,Mapping!$F:$H,3,0),"") | N12: =C12&G12 -> 3
A13: II | B13: Kwaliteitsbeheersysteem ziekenhuisbreed | C13: Progress :: | G13: =SUBTOTAL(3,G16:G38)/(SUBTOTAL(3,C16:C38)-0) -> 0 | L13: =SUBTOTAL(9,L16:L38) -> 0 | M13: =SUBTOTAL(9,M16:M38) -> 0
B14: AUDITVRAGEN
B15: Controleer altijd de documentatie en de toepassing op de werkvloer.
A16: 1 | B16: Wordt de visie van het ziekenhuis duidelijk gedefinieerd, rekening houdend met de missie? | C16: 3 | D16: Good Practice | J16: X1 | K16: =C16&J16&G16 -> 3X1 | L16: =IFERROR(VLOOKUP($K16,Mapping!F:H,2,0),"") | M16: =IFERROR(VLOOKUP($K16,Mapping!$F:$H,3,0),"") | N16: =C16&G16 -> 3
A17: 2 | B17: Worden de waarden van het ziekenhuis duidelijk gedefinieerd? | C17: 3 | D17: Good Practice | J17: X1 | K17: =C17&J17&G17 -> 3X1 | L17: =IFERROR(VLOOKUP($K17,Mapping!F:H,2,0),"") | M17: =IFERROR(VLOOKUP($K17,Mapping!$F:$H,3,0),"") | N17: =C17&G17 -> 3
A18: 3 | B18: Is er een duidelijk strategisch actieplan rond kwaliteit en veilgheid in het ziekenhuis beschikbaar? | C18: 3 | D18: Good Practice | J18: X1 | K18: =C18&J18&G18 -> 3X1 | L18: =IFERROR(VLOOKUP($K18,Mapping!F:H,2,0),"") | M18: =IFERROR(VLOOKUP($K18,Mapping!$F:$H,3,0),"") | N18: =C18&G18 -> 3
A19: 4 | B19: Zijn de missie, visie, waarden en het strategisch actieplan toegankelijk voor alle personeelsleden van het ziekenhuis? | C19: 3 | D19: Good Practice | J19: X1 | K19: =C19&J19&G19 -> 3X1 | L19: =IFERROR(VLOOKUP($K19,Mapping!F:H,2,0),"") | M19: =IFERROR(VLOOKUP($K19,Mapping!$F:$H,3,0),"") | N19: =C19&G19 -> 3
A20: 5 | B20: Bestaat er een kwaliteitssyteem in het ziekenhuis waarbij de aanbevelingen van kwaliteit en veiligheid zijn geintegreerd? | C20: 3 | D20: Good Practice | J20: X1 | K20: =C20&J20&G20 -> 3X1 | L20: =IFERROR(VLOOKUP($K20,Mapping!F:H,2,0),"") | M20: =IFERROR(VLOOKUP($K20,Mapping!$F:$H,3,0),"") | N20: =C20&G20 -> 3
A21: 6 | B21: Is de directie betrokken bij het invoeren en onderhouden van een kwaliteitssysteem (accreditatie, intern kwaliteitssysteem, …) voor héél het ziekenhuis? | C21: 2 | D21: JCI | J21: X1 | K21: =C21&J21&G21 -> 2X1 | L21: =IFERROR(VLOOKUP($K21,Mapping!F:H,2,0),"") | M21: =IFERROR(VLOOKUP($K21,Mapping!$F:$H,3,0),"") | N21: =C21&G21 -> 2
A22: 7 | B22: Steunt de directie de specifieke kwaliteitsprogramma’s van afdelingen die hiervoor het initiatief nemen, vb ISO-certificering, JACIE, OECI, ...? | C22: 2 | D22: JCI | J22: X1 | K22: =C22&J22&G22 -> 2X1 | L22: =IFERROR(VLOOKUP($K22,Mapping!F:H,2,0),"") | M22: =IFERROR(VLOOKUP($K22,Mapping!$F:$H,3,0),"") | N22: =C22&G22 -> 2
A23: 8 | B23: Bestaat er een kwaliteitscel in het ziekenhuis die de diensten ondersteunt bij het uitwerken van hun kwaliteitssysteem? | C23: 2 | D23: JCI | J23: X1 | K23: =C23&J23&G23 -> 2X1 | L23: =IFERROR(VLOOKUP($K23,Mapping!F:H,2,0),"") | M23: =IFERROR(VLOOKUP($K23,Mapping!$F:$H,3,0),"") | N23: =C23&G23 -> 2
A24: 9 | B24: Voorziet de kwaliteitscel van het ziekenhuis een organisatie voor de opleiding van het personeel rond kwaliteit en veiligheid? | C24: 2 | D24: JCI | J24: X1 | K24: =C24&J24&G24 -> 2X1 | L24: =IFERROR(VLOOKUP($K24,Mapping!F:H,2,0),"") | M24: =IFERROR(VLOOKUP($K24,Mapping!$F:$H,3,0),"") | N24: =C24&G24 -> 2
A25: 10 | B25: Voorziet de kwaliteitscel van het ziekehuis een organisatie voor de controle en de audit van het kwaliteitssysteem? | C25: 2 | D25: JCI | J25: X1 | K25: =C25&J25&G25 -> 2X1 | L25: =IFERROR(VLOOKUP($K25,Mapping!F:H,2,0),"") | M25: =IFERROR(VLOOKUP($K25,Mapping!$F:$H,3,0),"") | N25: =C25&G25 -> 2
A26: 11 | B26: Voorziet de kwaliteitscel van het ziekenhuis een organisatie voor het uitwerken van de meest geschikte verbeteringsacties? | C26: 2 | D26: JCI | J26: X1 | K26: =C26&J26&G26 -> 2X1 | L26: =IFERROR(VLOOKUP($K26,Mapping!F:H,2,0),"") | M26: =IFERROR(VLOOKUP($K26,Mapping!$F:$H,3,0),"") | N26: =C26&G26 -> 2
A27: 12 | B27: Betrekt het kwaliteitssysteem van het ziekenhuis ook de medicatie gerelateerde processen of activiteiten van de apotheek ? | C27: 2 | D27: JCI | J27: X1 | K27: =C27&J27&G27 -> 2X1 | L27: =IFERROR(VLOOKUP($K27,Mapping!F:H,2,0),"") | M27: =IFERROR(VLOOKUP($K27,Mapping!$F:$H,3,0),"") | N27: =C27&G27 -> 2
... A38: 23 | B38: Worden de genomen maatregelen naar aanleiding van de klanttevredenheid verder opgevolgd? | C38: 3 | D38: Good Practice | J38: X1 | K38: =C38&J38&G38 -> 3X1 | L38: =IFERROR(VLOOKUP($K38,Mapping!F:H,2,0),"") | M38: =IFERROR(VLOOKUP($K38,Mapping!$F:$H,3,0),"") | N38: =C38&G38 -> 3
A39: III | B39: Kwaliteitsbeheersysteem van de ziekenhuisapotheek | C39: Progress :: | G39: =SUBTOTAL(3,G42:G145)/(SUBTOTAL(3,C42:C145)-6) -> 0 | L39: =SUBTOTAL(9,L42:L145) -> 0 | M39: =SUBTOTAL(9,M42:M145) -> 0
B40: AUDITVRAGEN
B41: Controleer altijd de documentatie en de toepassing op de werkvloer.
A42: a | B42: Kwaliteitsbeleid | C42: Progress :: | G42: =SUBTOTAL(3,G43:G49)/SUBTOTAL(3,C43:C49) -> 0 | L42: =SUBTOTAL(9,L43:L49) -> 0 | M42: =SUBTOTAL(9,M43:M49) -> 0
A43: 1 | B43: Wordt het kwaliteitsbeleid van de apotheek gedefinieerd door de ziekenhuisapotheker-titularis met de hulp van het farmaceutisch personeel? | C43: 3 | D43: Good Practice | J43: X1 | K43: =C43&J43&G43 -> 3X1 | L43: =IFERROR(VLOOKUP($K43,Mapping!F:H,2,0),"") | M43: =IFERROR(VLOOKUP($K43,Mapping!$F:$H,3,0),"") | N43: =C43&G43 -> 3
A44: 1 | B44: Wordt het kwaliteitsbeleid van de apotheek gedefinieerd door de ziekenhuisapotheker-titularis met de hulp van het farmaceutisch personeel? | C44: 3 | D44: Good Practice | J44: X1 | K44: =C44&J44&G44 -> 3X1 | L44: =IFERROR(VLOOKUP($K44,Mapping!F:H,2,0),"") | M44: =IFERROR(VLOOKUP($K44,Mapping!$F:$H,3,0),"") | N44: =C44&G44 -> 3
A45: 2 | B45: Worden de waarden van de apotheek duidelijk gedefinieerd in het kwaliteitsbeleid van de apotheek? | C45: 3 | D45: Good Practice | J45: X1 | K45: =C45&J45&G45 -> 3X1 | L45: =IFERROR(VLOOKUP($K45,Mapping!F:H,2,0),"") | M45: =IFERROR(VLOOKUP($K45,Mapping!$F:$H,3,0),"") | N45: =C45&G45 -> 3
A46: 3 | B46: Wordt het kwaliteitsbeleid van de apotheek dat opgenomen is in het algemeen beleidsplan van de apotheek periodiek herzien? | C46: 3 | D46: Good Practice | J46: X1 | K46: =C46&J46&G46 -> 3X1 | L46: =IFERROR(VLOOKUP($K46,Mapping!F:H,2,0),"") | M46: =IFERROR(VLOOKUP($K46,Mapping!$F:$H,3,0),"") | N46: =C46&G46 -> 3
A47: 4 | B47: Is de ziekenhuisapotheker-tituaris verantwoordelijk voor de integratie van het kwaliteitsbeleid van de apotheek in het kwaliteitsactieplan van het ziekenhuis? | C47: 3 | D47: Good Practice | J47: X1 | K47: =C47&J47&G47 -> 3X1 | L47: =IFERROR(VLOOKUP($K47,Mapping!F:H,2,0),"") | M47: =IFERROR(VLOOKUP($K47,Mapping!$F:$H,3,0),"") | N47: =C47&G47 -> 3
A48: 5 | B48: Wordt het beheer van de apparaten die de apotheek gebruikt voor zijn farmaceutische activiteiten opgenomen in het kwaliteitsbeleid van de apotheek? | C48: 2 | D48: Zorginspectie | J48: X1 | K48: =C48&J48&G48 -> 2X1 | L48: =IFERROR(VLOOKUP($K48,Mapping!F:H,2,0),"") | M48: =IFERROR(VLOOKUP($K48,Mapping!$F:$H,3,0),"") | N48: =C48&G48 -> 2
A49: 6 | B49: Stelt de ziekenhuisapotheker-titularis een investeringsplan op voor de belangrijke apparaten (inclusief de vernieuwing van de verouderde apparaten)? | C49: 3 | D49: Good Practice | J49: X1 | K49: =C49&J49&G49 -> 3X1 | L49: =IFERROR(VLOOKUP($K49,Mapping!F:H,2,0),"") | M49: =IFERROR(VLOOKUP($K49,Mapping!$F:$H,3,0),"") | N49: =C49&G49 -> 3
A50: b | B50: Kwaliteitssysteem | C50: Progress :: | G50: =SUBTOTAL(3,G51:G61)/SUBTOTAL(3,C51:C61) -> 0 | L50: =SUBTOTAL(9,L51:L61) -> 0 | M50: =SUBTOTAL(9,M51:M61) -> 0
A51: 1 | B51: Is er onder de verantwoordelijkheid van de ziekenhuisapotheker-titularis een kwaliteitssysteem geïmplementeerd in de ziekenhuisapotheek? | C51: 1 | D51: KB 30 sept 2020 | E51: Bijlage I.A | J51: X1 | K51: =C51&J51&G51 -> 1X1 | L51: =IFERROR(VLOOKUP($K51,Mapping!F:H,2,0),"") | M51: =IFERROR(VLOOKUP($K51,Mapping!$F:$H,3,0),"") | N51: =C51&G51 -> 1
A52: 2 | B52: Is dit kwaliteitssysteem geldig voor alle farmaceutische processen (distributie, productie, medische materialen, klinische faremacie, financieel beheer, management, sterilisatie …)? | C52: 1 | D52: KB 30 sept 2020 | E52: Bijlage I.A | J52: X1 | K52: =C52&J52&G52 -> 1X1 | L52: =IFERROR(VLOOKUP($K52,Mapping!F:H,2,0),"") | M52: =IFERROR(VLOOKUP($K52,Mapping!$F:$H,3,0),"") | N52: =C52&G52 -> 1
A53: 3 | B53: Zorgt de ziekenhuisapotheker-titularis voor de handhaving van het kwaliteitssysteem in de ziekenhuisapotheek? | C53: 1 | D53: KB 30 sept 2020 | E53: Bijlage I.A | J53: X1 | K53: =C53&J53&G53 -> 1X1 | L53: =IFERROR(VLOOKUP($K53,Mapping!F:H,2,0),"") | M53: =IFERROR(VLOOKUP($K53,Mapping!$F:$H,3,0),"") | N53: =C53&G53 -> 1
A54: 4 | B54: Zorgt de ziekenhuisapotheker-titularis ervoor dat de dienst apotheek, geheel of gedeeltelijk, maar op een gestructureerde en opvolgbare manier betrokken wordt bij het ziekenhuisbreed kwaliteitssysteem? | C54: 3 | D54: Good Practice | J54: X1 | K54: =C54&J54&G54 -> 3X1 | L54: =IFERROR(VLOOKUP($K54,Mapping!F:H,2,0),"") | M54: =IFERROR(VLOOKUP($K54,Mapping!$F:$H,3,0),"") | N54: =C54&G54 -> 3
A55: 5 | B55: Zijn het organigram en de verantwoordelijkheden van de betrokkenen duidelijk gedefinieerd in het kwaliteitssysteem van de apotheek? | C55: 1 | D55: KB 30 sept 2020 | E55: Bijlage I.A | J55: X1 | K55: =C55&J55&G55 -> 1X1 | L55: =IFERROR(VLOOKUP($K55,Mapping!F:H,2,0),"") | M55: =IFERROR(VLOOKUP($K55,Mapping!$F:$H,3,0),"") | N55: =C55&G55 -> 1
A56: 6 | B56: Bepaalt het kwaliteitssysteem de behoeften aan een basisopleiding van het personeel dat betrokken is bij de farmaceutische processen? | C56: 1 | D56: KB 30 sept 2020 | E56: Bijlage I.A | J56: X1 | K56: =C56&J56&G56 -> 1X1 | L56: =IFERROR(VLOOKUP($K56,Mapping!F:H,2,0),"") | M56: =IFERROR(VLOOKUP($K56,Mapping!$F:$H,3,0),"") | N56: =C56&G56 -> 1
A57: 7 | B57: Bepaalt het kwaliteitssysteem de behoeften aan een continue opleiding van het personeel dat betrokken is bij de farmaceutische processen? | C57: 1 | D57: KB 30 sept 2020 | E57: Bijlage I.A | J57: X1 | K57: =C57&J57&G57 -> 1X1 | L57: =IFERROR(VLOOKUP($K57,Mapping!F:H,2,0),"") | M57: =IFERROR(VLOOKUP($K57,Mapping!$F:$H,3,0),"") | N57: =C57&G57 -> 1
A58: 8 | B58: Zijn de basisprincipes van de kwaliteit opgenomen in het opleidingsplan van elke medewerker van de apotheek volgens zijn takenpakket? | C58: 1 | D58: KB 30 sept 2020 | E58: Bijlage I.A | J58: X1 | K58: =C58&J58&G58 -> 1X1 | L58: =IFERROR(VLOOKUP($K58,Mapping!F:H,2,0),"") | M58: =IFERROR(VLOOKUP($K58,Mapping!$F:$H,3,0),"") | N58: =C58&G58 -> 1
A59: 9 | B59: Kan de apotheek een overzicht raadplegen van het geplande onderhoud van alle apparaten van de apotheek? | C59: 2 | D59: JCI | J59: X1 | K59: =C59&J59&G59 -> 2X1 | L59: =IFERROR(VLOOKUP($K59,Mapping!F:H,2,0),"") | M59: =IFERROR(VLOOKUP($K59,Mapping!$F:$H,3,0),"") | N59: =C59&G59 -> 2
A60: 10 | B60: Kan de apotheek van elk apparaat een handleiding consulteren ? | C60: 3 | D60: Good Practice | J60: X1 | K60: =C60&J60&G60 -> 3X1 | L60: =IFERROR(VLOOKUP($K60,Mapping!F:H,2,0),"") | M60: =IFERROR(VLOOKUP($K60,Mapping!$F:$H,3,0),"") | N60: =C60&G60 -> 3
A61: 11 | B61: Wordt het personeel op de hoogte van het goede gebruik van de aanwezige apparaten? | C61: 1 | D61: KB 30 sept 2020 | E61: Bijlage I.A | J61: X1 | K61: =C61&J61&G61 -> 1X1 | L61: =IFERROR(VLOOKUP($K61,Mapping!F:H,2,0),"") | M61: =IFERROR(VLOOKUP($K61,Mapping!$F:$H,3,0),"") | N61: =C61&G61 -> 1
A62: c | B62: Kwaliteitscel | C62: Progress :: | G62: =SUBTOTAL(3,G63:G77)/SUBTOTAL(3,C63:C77) -> 0 | L62: =SUBTOTAL(9,L63:L77) -> 0 | M62: =SUBTOTAL(9,M63:M77) -> 0
A63: 1 | B63: Bestaat er een kwaliteitscel binnen de apotheek? | C63: 3 | D63: Good Practice | J63: X1 | K63: =C63&J63&G63 -> 3X1 | L63: =IFERROR(VLOOKUP($K63,Mapping!F:H,2,0),"") | M63: =IFERROR(VLOOKUP($K63,Mapping!$F:$H,3,0),"") | N63: =C63&G63 -> 3
A64: 2 | B64: Is er in de kwaliteitscel een niet-apotheker (bv farmaceutisch technisch assistent) betrokken indien dit mogelijk zou zijn (afhankelijk van de grootte van het ziekenhuis)? | C64: 3 | D64: Good Practice | J64: X1 | K64: =C64&J64&G64 -> 3X1 | L64: =IFERROR(VLOOKUP($K64,Mapping!F:H,2,0),"") | M64: =IFERROR(VLOOKUP($K64,Mapping!$F:$H,3,0),"") | N64: =C64&G64 -> 3
A65: 3 | B65: Heeft elk lid van de kwaliteitscel een voortgezette opleiding gevolgd in dit domein (extern of intern)? | C65: 3 | D65: Good Practice | J65: X1 | K65: =C65&J65&G65 -> 3X1 | L65: =IFERROR(VLOOKUP($K65,Mapping!F:H,2,0),"") | M65: =IFERROR(VLOOKUP($K65,Mapping!$F:$H,3,0),"") | N65: =C65&G65 -> 3
A66: 4 | B66: Heeft elk lid van de kwaliteitscel de verantwoordelijkheid om de basisprincipes van kwaliteit aan alle personeel bij te brengen? | C66: 3 | D66: Good Practice | J66: X1 | K66: =C66&J66&G66 -> 3X1 | L66: =IFERROR(VLOOKUP($K66,Mapping!F:H,2,0),"") | M66: =IFERROR(VLOOKUP($K66,Mapping!$F:$H,3,0),"") | N66: =C66&G66 -> 3
A67: 5 | B67: Heeft elk lid van de kwaliteitscel de verantwoordelijkheid om een kwaliteitscultuur in stand te houden in de dienst? | C67: 3 | D67: Good Practice | J67: X1 | K67: =C67&J67&G67 -> 3X1 | L67: =IFERROR(VLOOKUP($K67,Mapping!F:H,2,0),"") | M67: =IFERROR(VLOOKUP($K67,Mapping!$F:$H,3,0),"") | N67: =C67&G67 -> 3
A68: 6 | B68: Werkt de kwaliteitscel van de apotheek op gestructureerde manier samen met de kwaliteitscel van het ziekenhuis? | C68: 3 | D68: Good Practice | J68: X1 | K68: =C68&J68&G68 -> 3X1 | L68: =IFERROR(VLOOKUP($K68,Mapping!F:H,2,0),"") | M68: =IFERROR(VLOOKUP($K68,Mapping!$F:$H,3,0),"") | N68: =C68&G68 -> 3
A69: 7 | B69: Voorziet de kwaliteitscel van de apotheek een gestructureerde organisatie voor de opleiding van het personeel rond kwaliteit en veiligheid? | C69: 1 | D69: KB 30 sept 2020 | E69: Bijlage I.A | J69: X1 | K69: =C69&J69&G69 -> 1X1 | L69: =IFERROR(VLOOKUP($K69,Mapping!F:H,2,0),"") | M69: =IFERROR(VLOOKUP($K69,Mapping!$F:$H,3,0),"") | N69: =C69&G69 -> 1
A70: 8 | B70: Voorziet de kwaliteitscel van de apotheek een gestructueerde organisatie voor de controle en de audit van het kwaliteitssysteem? | C70: 1 | D70: KB 30 sept 2020 | E70: Bijlage I.A | J70: X1 | K70: =C70&J70&G70 -> 1X1 | L70: =IFERROR(VLOOKUP($K70,Mapping!F:H,2,0),"") | M70: =IFERROR(VLOOKUP($K70,Mapping!$F:$H,3,0),"") | N70: =C70&G70 -> 1
A71: 9 | B71: Voorziet de kwaliteitscel van de apotheel een organisatie voor het uitwerken van de meest geschikte verbeteringsacties? | C71: 1 | D71: KB 30 sept 2020 | E71: Bijlage I.A | J71: X1 | K71: =C71&J71&G71 -> 1X1 | L71: =IFERROR(VLOOKUP($K71,Mapping!F:H,2,0),"") | M71: =IFERROR(VLOOKUP($K71,Mapping!$F:$H,3,0),"") | N71: =C71&G71 -> 1
A72: 10 | B72: Worden de noodzakelijke middelen (financieel, beschikbaar personeel, software, enz.) om dit kwaliteitssysteem correct te laten functioneren voorzien en zijn ze beschikbaar? | C72: 3 | D72: Good Practice | J72: X1 | K72: =C72&J72&G72 -> 3X1 | L72: =IFERROR(VLOOKUP($K72,Mapping!F:H,2,0),"") | M72: =IFERROR(VLOOKUP($K72,Mapping!$F:$H,3,0),"") | N72: =C72&G72 -> 3
A73: 11 | B73: Neemt de apotheek initiatief om deel te nemen aan specifieke kwaliteitsprogramma's zoals ISO, OECI, JACIE? | C73: 3 | D73: Good Practice | J73: X1 | K73: =C73&J73&G73 -> 3X1 | L73: =IFERROR(VLOOKUP($K73,Mapping!F:H,2,0),"") | M73: =IFERROR(VLOOKUP($K73,Mapping!$F:$H,3,0),"") | N73: =C73&G73 -> 3
A74: 12 | B74: Worden er door de directie de noodzakelijke middelen voorzien voor de dienst apotheek om de medewerking te verlenen aan het ziekenhuisbrede kwaliteitssysteem (accreditering, ISO, …)? | C74: 3 | D74: Good Practice | J74: X1 | K74: =C74&J74&G74 -> 3X1 | L74: =IFERROR(VLOOKUP($K74,Mapping!F:H,2,0),"") | M74: =IFERROR(VLOOKUP($K74,Mapping!$F:$H,3,0),"") | N74: =C74&G74 -> 3
A75: 13 | B75: Gebruikt de kwaliteitscel indicatoren om de farmaceutische processen op te volgen? | C75: 3 | D75: Good Practice | J75: X1 | K75: =C75&J75&G75 -> 3X1 | L75: =IFERROR(VLOOKUP($K75,Mapping!F:H,2,0),"") | M75: =IFERROR(VLOOKUP($K75,Mapping!$F:$H,3,0),"") | N75: =C75&G75 -> 3
A76: 14 | B76: Worden deze kwaliteitsindicatoren gestructureerd opgevolgd door de kwaliteitscel? | C76: 3 | D76: Good Practice | J76: X1 | K76: =C76&J76&G76 -> 3X1 | L76: =IFERROR(VLOOKUP($K76,Mapping!F:H,2,0),"") | M76: =IFERROR(VLOOKUP($K76,Mapping!$F:$H,3,0),"") | N76: =C76&G76 -> 3
A77: 15 | B77: Voorziet de kwaliteitscel een gestructureerde communicatie van de resultaten van de kwaliteitsindicatoren naar de betrokkenen? | C77: 3 | D77: Good Practice | J77: X1 | K77: =C77&J77&G77 -> 3X1 | L77: =IFERROR(VLOOKUP($K77,Mapping!F:H,2,0),"") | M77: =IFERROR(VLOOKUP($K77,Mapping!$F:$H,3,0),"") | N77: =C77&G77 -> 3
A78: d | B78: Kwaliteitshandboek | C78: Progress :: | G78: =SUBTOTAL(3,G79:G94)/SUBTOTAL(3,C79:C94) -> 0 | L78: =SUBTOTAL(9,L79:L94) -> 0 | M78: =SUBTOTAL(9,M79:M94) -> 0
A79: 1 | B79: Is er een kwaliteitshandboek aanwezig in de apotheek? | C79: 1 | D79: KB 30 sept 2020 | E79: Bijlage I.A | J79: X1 | K79: =C79&J79&G79 -> 1X1 | L79: =IFERROR(VLOOKUP($K79,Mapping!F:H,2,0),"") | M79: =IFERROR(VLOOKUP($K79,Mapping!$F:$H,3,0),"") | N79: =C79&G79 -> 1
A80: 2 | B80: Beschrijft het kwaliteitshandboek het kwaliteitssysteem in algemene lijnen: missie, visie, toepassingsgebied, organigram met verantwoordelijkheden en beschrijving documentbeheersysteem en overzicht van de interacties tussen de processen? | C80: 1 | D80: KB 30 sept 2020 | E80: Bijlage I.A | J80: X1 | K80: =C80&J80&G80 -> 1X1 | L80: =IFERROR(VLOOKUP($K80,Mapping!F:H,2,0),"") | M80: =IFERROR(VLOOKUP($K80,Mapping!$F:$H,3,0),"") | N80: =C80&G80 -> 1
A81: 3 | B81: Beschrijven de basisprocedures op algemene wijze de belangrijke processen inzake geneesmiddelen en medische hulpmiddelen binnen het kwaliteitssysteem en het beleid? | C81: 1 | D81: KB 30 sept 2020 | E81: Bijlage I.A | J81: X1 | K81: =C81&J81&G81 -> 1X1 | L81: =IFERROR(VLOOKUP($K81,Mapping!F:H,2,0),"") | M81: =IFERROR(VLOOKUP($K81,Mapping!$F:$H,3,0),"") | N81: =C81&G81 -> 1
A82: 4 | B82: Bestaat er een algemene procedure en/of flowchart van het proces voor het beheer van de apparaten in de apotheek (productie, distributie, centrale sterilisatie,radiofarmacie ...)? | C82: 2 | D82: JCI | J82: X1 | K82: =C82&J82&G82 -> 2X1 | L82: =IFERROR(VLOOKUP($K82,Mapping!F:H,2,0),"") | M82: =IFERROR(VLOOKUP($K82,Mapping!$F:$H,3,0),"") | N82: =C82&G82 -> 2
A83: 5 | B83: Bestaat er een register (of een database) met alle apparaten van de apotheek? | C83: 2 | D83: JCI | J83: X1 | K83: =C83&J83&G83 -> 2X1 | L83: =IFERROR(VLOOKUP($K83,Mapping!F:H,2,0),"") | M83: =IFERROR(VLOOKUP($K83,Mapping!$F:$H,3,0),"") | N83: =C83&G83 -> 2
A84: 6 | B84: Is er een procedure voor behandeling en opvolging van niet-conformiteiten, klachten en incidenten? | C84: 1 | D84: KB 30 sept 2020 | E84: Bijlage I.A | J84: X1 | K84: =C84&J84&G84 -> 1X1 | L84: =IFERROR(VLOOKUP($K84,Mapping!F:H,2,0),"") | M84: =IFERROR(VLOOKUP($K84,Mapping!$F:$H,3,0),"") | N84: =C84&G84 -> 1
A85: 7 | B85: Is er een procdure voor terugtrekking van producten? | C85: 1 | D85: KB 30 sept 2020 | E85: Bijlage I.A | J85: X1 | K85: =C85&J85&G85 -> 1X1 | L85: =IFERROR(VLOOKUP($K85,Mapping!F:H,2,0),"") | M85: =IFERROR(VLOOKUP($K85,Mapping!$F:$H,3,0),"") | N85: =C85&G85 -> 1
A86: 8 | B86: Is er een procedure voor traceerbaarheid van de producten? | C86: 1 | D86: KB 30 sept 2020 | E86: Bijlage I.A | J86: X1 | K86: =C86&J86&G86 -> 1X1 | L86: =IFERROR(VLOOKUP($K86,Mapping!F:H,2,0),"") | M86: =IFERROR(VLOOKUP($K86,Mapping!$F:$H,3,0),"") | N86: =C86&G86 -> 1
A87: 9 | B87: Is er een procedure voor zelfevaluatie van de farmaceutische processen? | C87: 1 | D87: KB 30 sept 2020 | E87: Bijlage I.A | J87: X1 | K87: =C87&J87&G87 -> 1X1 | L87: =IFERROR(VLOOKUP($K87,Mapping!F:H,2,0),"") | M87: =IFERROR(VLOOKUP($K87,Mapping!$F:$H,3,0),"") | N87: =C87&G87 -> 1
A88: 10 | B88: Is er een procedure voor zelfevaluatie van het kwaliteitssysteem? | C88: 1 | D88: KB 30 sept 2020 | E88: Bijlage I.A | J88: X1 | K88: =C88&J88&G88 -> 1X1 | L88: =IFERROR(VLOOKUP($K88,Mapping!F:H,2,0),"") | M88: =IFERROR(VLOOKUP($K88,Mapping!$F:$H,3,0),"") | N88: =C88&G88 -> 1
A89: 11 | B89: Zijn de werkinstructies, die de uit te voeren handelingen, maatregelen, technische middelen en de te gebruiken documentatie, logisch beschreven in het kwaliteitssysteem? | C89: 1 | D89: KB 30 sept 2020 | E89: Bijlage I.A | J89: X1 | K89: =C89&J89&G89 -> 1X1 | L89: =IFERROR(VLOOKUP($K89,Mapping!F:H,2,0),"") | M89: =IFERROR(VLOOKUP($K89,Mapping!$F:$H,3,0),"") | N89: =C89&G89 -> 1
A90: 12 | B90: Is er een procedure over het beheer van procedures en werkinstructies? | C90: 1 | D90: KB 30 sept 2020 | E90: Bijlage I.A | J90: X1 | K90: =C90&J90&G90 -> 1X1 | L90: =IFERROR(VLOOKUP($K90,Mapping!F:H,2,0),"") | M90: =IFERROR(VLOOKUP($K90,Mapping!$F:$H,3,0),"") | N90: =C90&G90 -> 1
A91: 13 | B91: Worden alle procedures periodiek geëvalueerd en goedgekeurd? | C91: 1 | D91: KB 30 sept 2020 | E91: Bijlage I.A | J91: X1 | K91: =C91&J91&G91 -> 1X1 | L91: =IFERROR(VLOOKUP($K91,Mapping!F:H,2,0),"") | M91: =IFERROR(VLOOKUP($K91,Mapping!$F:$H,3,0),"") | N91: =C91&G91 -> 1
A92: 14 | B92: Wordt de veiligheid van de processen indien nodig onderbouwd door risico-analyses? | C92: 1 | D92: KB 30 sept 2020 | E92: Bijlage I.A | J92: X1 | K92: =C92&J92&G92 -> 1X1 | L92: =IFERROR(VLOOKUP($K92,Mapping!F:H,2,0),"") | M92: =IFERROR(VLOOKUP($K92,Mapping!$F:$H,3,0),"") | N92: =C92&G92 -> 1
A93: 15 | B93: Zijn er SLA 's als er bepaalde taken worden uitbesteed binnen het ziekenhuis (reiniging, transport, onderhoud …)? | C93: 1 | D93: KB 30 sept 2020 | E93: Bijlage I.A | J93: X1 | K93: =C93&J93&G93 -> 1X1 | L93: =IFERROR(VLOOKUP($K93,Mapping!F:H,2,0),"") | M93: =IFERROR(VLOOKUP($K93,Mapping!$F:$H,3,0),"") | N93: =C93&G93 -> 1
A94: 16 | B94: Worden de SLA's die opgesteld worden door de apotheek goedgekeurd door de betreffende diensten? | C94: 1 | D94: KB 30 sept 2020 | E94: Bijlage I.A | J94: X1 | K94: =C94&J94&G94 -> 1X1 | L94: =IFERROR(VLOOKUP($K94,Mapping!F:H,2,0),"") | M94: =IFERROR(VLOOKUP($K94,Mapping!$F:$H,3,0),"") | N94: =C94&G94 -> 1
A95: e | B95: Rapportering | C95: Progress :: | G95: =SUBTOTAL(3,G96:G102)/SUBTOTAL(3,C96:C102) -> 0 | L95: =SUBTOTAL(9,L96:L102) -> 0 | M95: =SUBTOTAL(9,M96:M102) -> 0
A96: 1 | B96: Bestaat er voor het kwaliteitssysteem van de apotheek een globaal rapport over de kwaliteit dat wordt geïntegreerd in het jaarverslag van de dienst? | C96: 2 | D96: JCI | J96: X1 | K96: =C96&J96&G96 -> 2X1 | L96: =IFERROR(VLOOKUP($K96,Mapping!F:H,2,0),"") | M96: =IFERROR(VLOOKUP($K96,Mapping!$F:$H,3,0),"") | N96: =C96&G96 -> 2
A97: 2 | B97: Worden de realisaties van het kwaliteitssysteem van de apotheek minstens 1 keer per jaar door de directie geëvalueerd onder de vorm van een jaarverslag? | C97: 2 | D97: ISO norm 9001/2015 - 9.3 en ISO 13485 /2016 norm 5.6 | J97: X1 | K97: =C97&J97&G97 -> 2X1 | L97: =IFERROR(VLOOKUP($K97,Mapping!F:H,2,0),"") | M97: =IFERROR(VLOOKUP($K97,Mapping!$F:$H,3,0),"") | N97: =C97&G97 -> 2
A98: 3 | B98: Bevat dit jaarverslag de relevante kwaliteitsindicatoren van de apotheek? | C98: 1 | D98: KB 30 sept 2020 | E98: Bijlage 1.B | J98: X1 | K98: =C98&J98&G98 -> 1X1 | L98: =IFERROR(VLOOKUP($K98,Mapping!F:H,2,0),"") | M98: =IFERROR(VLOOKUP($K98,Mapping!$F:$H,3,0),"") | N98: =C98&G98 -> 1
A99: 4 | B99: Bevat dit jaarverslag de resultaten van de interne en externe audits van de apotheek? | C99: 3 | D99: Good Practice | J99: X1 | K99: =C99&J99&G99 -> 3X1 | L99: =IFERROR(VLOOKUP($K99,Mapping!F:H,2,0),"") | M99: =IFERROR(VLOOKUP($K99,Mapping!$F:$H,3,0),"") | N99: =C99&G99 -> 3
A100: 5 | B100: Bevat dit jaarverslag de rapporten over de niet-conformiteiten, klachten en incidenten? | C100: 3 | D100: Good Practice | J100: X1 | K100: =C100&J100&G100 -> 3X1 | L100: =IFERROR(VLOOKUP($K100,Mapping!F:H,2,0),"") | M100: =IFERROR(VLOOKUP($K100,Mapping!$F:$H,3,0),"") | N100: =C100&G100 -> 3
A101: 6 | B101: Wordt er na de evaluatie van de directie een formeel en gestructureerd actieplan opgesteld? | C101: 2 | D101: ISO | J101: X1 | K101: =C101&J101&G101 -> 2X1 | L101: =IFERROR(VLOOKUP($K101,Mapping!F:H,2,0),"") | M101: =IFERROR(VLOOKUP($K101,Mapping!$F:$H,3,0),"") | N101: =C101&G101 -> 2
A102: 7 | B102: Wordt de vooruitgang van dit actieplan regelmatig opgevolgd door de directie en naar behoren gedocumenteerd? | C102: 3 | D102: Good Practice | J102: X1 | K102: =C102&J102&G102 -> 3X1 | L102: =IFERROR(VLOOKUP($K102,Mapping!F:H,2,0),"") | M102: =IFERROR(VLOOKUP($K102,Mapping!$F:$H,3,0),"") | N102: =C102&G102 -> 3
A103: f | B103: Farmaceutische processen | C103: Progress :: | G103: =SUBTOTAL(3,G104:G145)/SUBTOTAL(3,C104:C145) -> 0 | L103: =SUBTOTAL(9,L104:L145) -> 0 | M103: =SUBTOTAL(9,M104:M145) -> 0
A104: 1 | B104: Wordt de apotheker die verantwoordelijk is voor het financieel beheer opgeleid met de kwaliteitsprincipes van het kwaliteitssyteem? | C104: 1 | D104: KB 30 sept 2020 | E104: Bijlage I.A | J104: X1 | K104: =C104&J104&G104 -> 1X1 | L104: =IFERROR(VLOOKUP($K104,Mapping!F:H,2,0),"") | M104: =IFERROR(VLOOKUP($K104,Mapping!$F:$H,3,0),"") | N104: =C104&G104 -> 1
A105: 2 | B105: Valideert de apotheker die verantwoordelijk is voor het financieel beheer de procedures voor nieuwe processen en past hij de bestaande procedures adequaat aan indien nodig? | C105: 1 | D105: KB 30 sept 2020 | J105: X1 | K105: =C105&J105&G105 -> 1X1 | L105: =IFERROR(VLOOKUP($K105,Mapping!F:H,2,0),"") | M105: =IFERROR(VLOOKUP($K105,Mapping!$F:$H,3,0),"") | N105: =C105&G105 -> 1
A106: 3 | B106: Valideert de apotheker die verantwoordelijk is voor het financieel beheer de werkinstructies of standaard operationele procedures (SOP) voor nieuwe processen? | C106: 1 | D106: KB 30 sept 2020 | J106: X1 | K106: =C106&J106&G106 -> 1X1 | L106: =IFERROR(VLOOKUP($K106,Mapping!F:H,2,0),"") | M106: =IFERROR(VLOOKUP($K106,Mapping!$F:$H,3,0),"") | N106: =C106&G106 -> 1
A107: 4 | B107: Voorziet de apotheker die verantwoordelijk is voor het financieel beheer kwaliteitsindicatoren om dit farmaceutisch proces te monitoren? | C107: 1 | D107: KB 30 sept 2020 | E107: Bijlage I.B | J107: X1 | K107: =C107&J107&G107 -> 1X1 | L107: =IFERROR(VLOOKUP($K107,Mapping!F:H,2,0),"") | M107: =IFERROR(VLOOKUP($K107,Mapping!$F:$H,3,0),"") | N107: =C107&G107 -> 1
A108: 5 | B108: Stelt de apotheker die verantwoordelijk is voor het financieel beheer een overzicht op van de lopende kwaliteitsprojecten? | C108: 1 | D108: KB 30 sept 2020 | E108: Bijlage I.B | J108: X1 | K108: =C108&J108&G108 -> 1X1 | L108: =IFERROR(VLOOKUP($K108,Mapping!F:H,2,0),"") | M108: =IFERROR(VLOOKUP($K108,Mapping!$F:$H,3,0),"") | N108: =C108&G108 -> 1
A109: 6 | B109: Voorziet de apotheker die verantwoordelijk is voor het financieel beheer een gestructureerde opvolging van de lopende kwaliteitsprojecen? | C109: 3 | D109: Good Practice | J109: X1 | K109: =C109&J109&G109 -> 3X1 | L109: =IFERROR(VLOOKUP($K109,Mapping!F:H,2,0),"") | M109: =IFERROR(VLOOKUP($K109,Mapping!$F:$H,3,0),"") | N109: =C109&G109 -> 3
A110: 7 | B110: Voorziet de apotheker die verantwoordelijk is voor het financieel beheer een rapportering in het jaarverslag van de apotheek van de kwaliteitsprojecten, realisaties en corrigerende en/of preventieve acties met betrekking tot dit farmaceutisch proces? | C110: 1 | D110: KB 30 sept 2020 | E110: Bijlage I.B | J110: X1 | K110: =C110&J110&G110 -> 1X1 | L110: =IFERROR(VLOOKUP($K110,Mapping!F:H,2,0),"") | M110: =IFERROR(VLOOKUP($K110,Mapping!$F:$H,3,0),"") | N110: =C110&G110 -> 1
A111: 8 | B111: Wordt de apotheker die verantwoordelijk is voor de distributie van de farmaceutische specialiteiten opgeleid met de kwaliteitsprincipes van het kwaliteitssysteem? | C111: 1 | D111: KB 30 sept 2020 | E111: Bijlage I.A | J111: X1 | K111: =C111&J111&G111 -> 1X1 | L111: =IFERROR(VLOOKUP($K111,Mapping!F:H,2,0),"") | M111: =IFERROR(VLOOKUP($K111,Mapping!$F:$H,3,0),"") | N111: =C111&G111 -> 1
...

Sheet rapport
B1: MAEIA Kwaliteitssysteem Rapport
A3: Date : | I3: Adapt these cells
A4: Ziekenhuis : | I4: Adapt these cells
A5: Hoofdapotheker : | I5: Adapt these cells
A6: Auditeur naam : | I6: Adapt these cells
C7: Max | D7: Score
A8: Total score | C8: ='auditvragen kwaliteitssysteem '!L3 -> 3 | D8: ='auditvragen kwaliteitssysteem '!M3 -> 3 | K8: Make sure total is correct | L8: Make sure total is correct
A9: ='auditvragen kwaliteitssysteem '!A7 -> I | B9: ='auditvragen kwaliteitssysteem '!B7 -> Kwaliteitsopvolging van het sterilisatieproces | C9: ='auditvragen kwaliteitssysteem '!L7 -> 3 | D9: ='auditvragen kwaliteitssysteem '!M7 -> 3 | H9: Copy Paste visible cells from questionnaire sheet | I9: Copy Paste visible cells from questionnaire sheet | J9: Copy Paste visible cells from questionnaire sheet | K9: Copy Paste visible cells from questionnaire sheet | L9: Copy Paste visible cells from questionnaire sheet
A10: ='auditvragen kwaliteitssysteem '!A13 -> II | B10: ='auditvragen kwaliteitssysteem '!B13 -> Kwaliteitsbeheersysteem ziekenhuisbreed | C10: ='auditvragen kwaliteitssysteem '!L13 -> 0 | D10: ='auditvragen kwaliteitssysteem '!M13 -> 0 | H10: Copy Paste visible cells from questionnaire sheet | I10: Copy Paste visible cells from questionnaire sheet | J10: Copy Paste visible cells from questionnaire sheet | K10: Copy Paste visible cells from questionnaire sheet | L10: Copy Paste visible cells from questionnaire sheet
A11: ='auditvragen kwaliteitssysteem '!A39 -> III | B11: ='auditvragen kwaliteitssysteem '!B39 -> Kwaliteitsbeheersysteem van de ziekenhuisapotheek | C11: ='auditvragen kwaliteitssysteem '!L39 -> 0 | D11: ='auditvragen kwaliteitssysteem '!M39 -> 0 | H11: Copy Paste visible cells from questionnaire sheet | I11: Copy Paste visible cells from questionnaire sheet | J11: Copy Paste visible cells from questionnaire sheet | K11: Copy Paste visible cells from questionnaire sheet | L11: Copy Paste visible cells from questionnaire sheet
A12: ='auditvragen kwaliteitssysteem '!A42 -> a | B12: ='auditvragen kwaliteitssysteem '!B42 -> Kwaliteitsbeleid | C12: ='auditvragen kwaliteitssysteem '!L42 -> 0 | D12: ='auditvragen kwaliteitssysteem '!M42 -> 0 | H12: Copy Paste visible cells from questionnaire sheet | I12: Copy Paste visible cells from questionnaire sheet | J12: Copy Paste visible cells from questionnaire sheet | K12: Copy Paste visible cells from questionnaire sheet | L12: Copy Paste visible cells from questionnaire sheet
A13: ='auditvragen kwaliteitssysteem '!A50 -> b | B13: ='auditvragen kwaliteitssysteem '!B50 -> Kwaliteitssysteem | C13: ='auditvragen kwaliteitssysteem '!L50 -> 0 | D13: ='auditvragen kwaliteitssysteem '!M50 -> 0 | H13: Copy Paste visible cells from questionnaire sheet | I13: Copy Paste visible cells from questionnaire sheet | J13: Copy Paste visible cells from questionnaire sheet | K13: Copy Paste visible cells from questionnaire sheet | L13: Copy Paste visible cells from questionnaire sheet
A14: ='auditvragen kwaliteitssysteem '!A62 -> c | B14: ='auditvragen kwaliteitssysteem '!B62 -> Kwaliteitscel | C14: ='auditvragen kwaliteitssysteem '!L62 -> 0 | D14: ='auditvragen kwaliteitssysteem '!M62 -> 0 | H14: Copy Paste visible cells from questionnaire sheet | I14: Copy Paste visible cells from questionnaire sheet | J14: Copy Paste visible cells from questionnaire sheet | K14: Copy Paste visible cells from questionnaire sheet | L14: Copy Paste visible cells from questionnaire sheet
A15: ='auditvragen kwaliteitssysteem '!A78 -> d | B15: ='auditvragen kwaliteitssysteem '!B78 -> Kwaliteitshandboek | C15: ='auditvragen kwaliteitssysteem '!L78 -> 0 | D15: ='auditvragen kwaliteitssysteem '!M78 -> 0
A16: ='auditvragen kwaliteitssysteem '!A95 -> e | B16: ='auditvragen kwaliteitssysteem '!B95 -> Rapportering | C16: ='auditvragen kwaliteitssysteem '!L95 -> 0 | D16: ='auditvragen kwaliteitssysteem '!M95 -> 0
A17: ='auditvragen kwaliteitssysteem '!A103 -> f | B17: ='auditvragen kwaliteitssysteem '!B103 -> Farmaceutische processen | C17: ='auditvragen kwaliteitssysteem '!L103 -> 0 | D17: ='auditvragen kwaliteitssysteem '!M103 -> 0
A18: ='auditvragen kwaliteitssysteem '!A146 -> IV | B18: ='auditvragen kwaliteitssysteem '!B146 -> Beheer niet-conformiteiten, klachten en incidenten | C18: ='auditvragen kwaliteitssysteem '!L146 -> 0 | D18: ='auditvragen kwaliteitssysteem '!M146 -> 0 | H18: Copy Paste visible cells from questionnaire sheet | I18: Copy Paste visible cells from questionnaire sheet | J18: Copy Paste visible cells from questionnaire sheet | K18: Copy Paste visible cells from questionnaire sheet | L18: Copy Paste visible cells from questionnaire sheet
A19: ='auditvragen kwaliteitssysteem '!A211 -> V | B19: ='auditvragen kwaliteitssysteem '!B211 -> Zelfevaluatie | C19: ='auditvragen kwaliteitssysteem '!L211 -> 0 | D19: ='auditvragen kwaliteitssysteem '!M211 -> 0 | H19: Copy Paste visible cells from questionnaire sheet | I19: Copy Paste visible cells from questionnaire sheet | J19: Copy Paste visible cells from questionnaire sheet | K19: Copy Paste visible cells from questionnaire sheet | L19: Copy Paste visible cells from questionnaire sheet
A20: ='auditvragen kwaliteitssysteem '!A236 -> VI | B20: ='auditvragen kwaliteitssysteem '!B236 -> Documentatie | C20: ='auditvragen kwaliteitssysteem '!L236 -> 0 | D20: ='auditvragen kwaliteitssysteem '!M236 -> 0 | H20: Copy Paste visible cells from questionnaire sheet | I20: Copy Paste visible cells from questionnaire sheet | J20: Copy Paste visible cells from questionnaire sheet | K20: Copy Paste visible cells from questionnaire sheet | L20: Copy Paste visible cells from questionnaire sheet
A43: Handtekeningen
A45: Hoofdapotheker | I45: Change name & signature
A48: Auditeur naam : | I48: Change name & signature
B52: MAEIA Kwaliteitssysteem Rapport
A79: Sterke punten
A80: 1
A81: 2
A82: 3
A83: 4
A84: 5
A85: 6
A86: Tekortkomingen niveau 1
A87: 1
A88: 2
A89: 3
A90: 4
A91: 5
A92: 6
A93: Verbeterpunten niveau 2
A94: 1
A95: 2
A96: 3
A97: 4
A98: 5
A99: 6
A100: Verbeterpunten niveau 3
A101: 1
A102: 2
A103: 3
A104: 4
A105: 5
A106: 6
A107: Observaties
A108: 1
A109: 2
A110: 3
A111: 4
A112: 5
A113: 6

Sheet actiepunten auditee
A3: Actiepunt | B3: Nummer | C3: ..… | D3: Oorsprong :
D4: o Tekortkoming niveau 1
D5: o Verbeterpunt niveau 2
D6: o Verbeterpunt niveau 3
D7: o Observatie
A8: Geaudit proces | B8: Kwaliteitssysteem
A9: Auditdatum | B9: …../…../….. | D9: Auditor | E9: ……………………………………………
A10: Auditee | B10: ………………………………………………………………………………..
A11: Omschrijving van de tekortkoming / verbeterpunt / observatie
A12: Voorgestelde maatregel door de auditee | B12: Oorzaak
B15: Actie
B21: Verantwoordelijke
B23: Termijn
A26: Opvolgrapport
A27: (cumulatief)
A44: Conclusie

Sheet Mapping
B4: MAPPING TABLE | G4: points
B5: Base points | C5: Niveau | D5: Extra gewicht factor | E5: Antwoord | F5: Code | G5: Total | H5: Score | M5: Somme | P5: Speedometer | R5: Pointer
A6: Ja Groep | B6: 1 | C6: 3 | D6: X3 | E6: Ja | F6: =C6&D6&E6 -> 3X3Ja | G6: 3 | H6: 3 | L6: Ja | M6: =COUNTIF('auditvragen kwaliteitssysteem '!$G:$G,Mapping!$L6) -> 2 | P6: Start | Q6: 0 | R6: Value | S6: =+ROUND(M11/M10,2)*100 -> 100
A7: Ja Groep | B7: 1 | C7: 3 | D7: X2 | E7: Ja | F7: =C7&D7&E7 -> 3X2Ja | G7: 2 | H7: 2 | L7: Neen | M7: =COUNTIF('auditvragen kwaliteitssysteem '!$G:$G,Mapping!$L7) -> 1 | P7: Initial | Q7: 60 | R7: Pointer | S7: 1
A8: Ja Groep | B8: 1 | C8: 3 | D8: X1 | E8: Ja | F8: =C8&D8&E8 -> 3X1Ja | G8: 1 | H8: 1 | L8: NVT | M8: =COUNTIF('auditvragen kwaliteitssysteem '!$G:$G,Mapping!$L8) -> 1 | P8: Middle | Q8: 30 | R8: end | S8: =200-S7-S6 -> 99
A9: Ja Groep | B9: 1 | C9: 3 | D9: X0,33 | E9: Ja | F9: =C9&D9&E9 -> 3X0,33Ja | G9: =1/3 -> 0.33333333 | H9: =1/3 -> 0.33333333 | L9: Somme | M9: =SUM(M6:M8) -> 4 | P9: End | Q9: 10
A10: Ja Groep | B10: 1 | C10: 3 | D10: X0,66 | E10: Ja | F10: =C10&D10&E10 -> 3X0,66Ja | G10: =2/3 -> 0.66666667 | H10: =2/3 -> 0.66666667 | L10: Total | M10: ='auditvragen kwaliteitssysteem '!$L$3 -> 3 | P10: Max | Q10: 100
A11: Ja Groep | B11: 1 | C11: 3 | D11: X1 | E11: Ja | F11: =C11&D11&E11 -> 3X1Ja | G11: 1 | H11: 1 | L11: Score | M11: ='auditvragen kwaliteitssysteem '!$M$3 -> 3
A12: Ja Groep | B12: 3 | C12: 2 | D12: X3 | E12: Ja | F12: =C12&D12&E12 -> 2X3Ja | G12: 9 | H12: 9 | S12: ="Total Score : "&S6&"%" -> Total Score : 100%
A13: Ja Groep | B13: 3 | C13: 2 | D13: X2 | E13: Ja | F13: =C13&D13&E13 -> 2X2Ja | G13: 6 | H13: 6
A14: Ja Groep | B14: 3 | C14: 2 | D14: X1 | E14: Ja | F14: =C14&D14&E14 -> 2X1Ja | G14: 3 | H14: 3 | L14: ROUGE | M14: 60
A15: Ja Groep | B15: 3 | C15: 2 | D15: X0,33 | E15: Ja | F15: =C15&D15&E15 -> 2X0,33Ja | G15: 1 | H15: 1 | L15: ORANGE | M15: 30
A16: Ja Groep | B16: 3 | C16: 2 | D16: X0,66 | E16: Ja | F16: =C16&D16&E16 -> 2X0,66Ja | G16: 2 | H16: 2 | L16: VERT | M16: 10
A17: Ja Groep | B17: 3 | C17: 2 | D17: X1 | E17: Ja | F17: =C17&D17&E17 -> 2X1Ja | G17: 3 | H17: 3 | L17: Invisible | M17: 100
A18: Ja Groep | B18: 6 | C18: 1 | D18: X3 | E18: Ja | F18: =C18&D18&E18 -> 1X3Ja | G18: 18 | H18: 18
A19: Ja Groep | B19: 6 | C19: 1 | D19: X2 | E19: Ja | F19: =C19&D19&E19 -> 1X2Ja | G19: 12 | H19: 12
A20: Ja Groep | B20: 6 | C20: 1 | D20: X1 | E20: Ja | F20: =C20&D20&E20 -> 1X1Ja | G20: 6 | H20: 6 | L20: Aiguille | M20: =M7/M9 -> 0.25
A21: Ja Groep | B21: 6 | C21: 1 | D21: X0,33 | E21: Ja | F21: =C21&D21&E21 -> 1X0,33Ja | G21: 2 | H21: 2 | L21: Largeur | M21: 1
A22: Ja Groep | B22: 6 | C22: 1 | D22: X0,66 | E22: Ja | F22: =C22&D22&E22 -> 1X0,66Ja | G22: 4 | H22: 4 | L22: Invisible | M22: =SUM(M14:M17)-(M21+M20) -> 198.75
A23: Ja Groep | B23: 6 | C23: 1 | D23: X1 | E23: Ja | F23: =C23&D23&E23 -> 1X1Ja | G23: 6 | H23: 6
A24: Neen groep | B24: 1 | C24: 3 | D24: X3 | E24: Neen | F24: =C24&D24&E24 -> 3X3Neen | G24: 3 | H24: 0 | L24: RIEN
A25: Neen groep | B25: 1 | C25: 3 | D25: X2 | E25: Neen | F25: =C25&D25&E25 -> 3X2Neen | G25: 2 | H25: 0 | L25: Aiguille | M25: =ROUND(M20,0)&"%" -> 0%
A26: Neen groep | B26: 1 | C26: 3 | D26: X1 | E26: Neen | F26: =C26&D26&E26 -> 3X1Neen | G26: 1 | H26: 0 | L26: RIEN
A27: Neen groep | B27: 1 | C27: 3 | D27: X0,33 | E27: Neen | F27: =C27&D27&E27 -> 3X0,33Neen | G27: =1/3 -> 0.33333333 | H27: 0
A28: Neen groep | B28: 1 | C28: 3 | D28: X0,66 | E28: Neen | F28: =C28&D28&E28 -> 3X0,66Neen | G28: =2/3 -> 0.66666667 | H28: 0
A29: Neen groep | B29: 1 | C29: 3 | D29: X1 | E29: Neen | F29: =C29&D29&E29 -> 3X1Neen | G29: 1 | H29: 0
A30: Neen groep | B30: 3 | C30: 2 | D30: X3 | E30: Neen | F30: =C30&D30&E30 -> 2X3Neen | G30: 9 | H30: 0
A31: Neen groep | B31: 3 | C31: 2 | D31: X2 | E31: Neen | F31: =C31&D31&E31 -> 2X2Neen | G31: 6 | H31: 0
A32: Neen groep | B32: 3 | C32: 2 | D32: X1 | E32: Neen | F32: =C32&D32&E32 -> 2X1Neen | G32: 3 | H32: 0
A33: Neen groep | B33: 3 | C33: 2 | D33: X0,33 | E33: Neen | F33: =C33&D33&E33 -> 2X0,33Neen | G33: 1 | H33: 0
A34: Neen groep | B34: 3 | C34: 2 | D34: X0,66 | E34: Neen | F34: =C34&D34&E34 -> 2X0,66Neen | G34: 2 | H34: 0
A35: Neen groep | B35: 3 | C35: 2 | D35: X1 | E35: Neen | F35: =C35&D35&E35 -> 2X1Neen | G35: 3 | H35: 0
A36: Neen groep | B36: 6 | C36: 1 | D36: X3 | E36: Neen | F36: =C36&D36&E36 -> 1X3Neen | G36: 18 | H36: 0
A37: Neen groep | B37: 6 | C37: 1 | D37: X2 | E37: Neen | F37: =C37&D37&E37 -> 1X2Neen | G37: 12 | H37: 0
A38: Neen groep | B38: 6 | C38: 1 | D38: X1 | E38: Neen | F38: =C38&D38&E38 -> 1X1Neen | G38: 6 | H38: 0
A39: Neen groep | B39: 6 | C39: 1 | D39: X0,33 | E39: Neen | F39: =C39&D39&E39 -> 1X0,33Neen | G39: 2 | H39: 0
A40: Neen groep | B40: 6 | C40: 1 | D40: X0,66 | E40: Neen | F40: =C40&D40&E40 -> 1X0,66Neen | G40: 4 | H40: 0
... A59: NVT groep | B59: 6 | C59: 1 | D59: X1 | E59: NVT | F59: =C59&D59&E59 -> 1X1NVT | G59: 0 | H59: 0
