Workbook

Sheet algemene inleiding

Sheet handleiding
A2: Hoe gebruiken we de kwaliteitstool MAEIA?

Sheet expertenteam
A1: MET DANK AAN HET EXPERTENTEAM
A2: Stéphanie Wuyts
A3: Evelyne Swinnen
A4: Brusseel Marieke
A5: Jo Swartenbroekx
A6: An Heeremans
A7: Dominique Wouters

Sheet inleiding ..... 
A1: INLEIDING MEDISCHE GASSEN

Sheet inhoudstafel

Sheet proces medische gassen
A2: VERSIE 20231205 | B2: MEDISCHE GASSEN | C2: NIVEAU | D2: Referentie | E2: ter info: artikelnummer, §, pagina | G2: ANTWOORD | H2: OPMERKINGEN | J2: extra factor gewicht | L2: TOTAL | M2: SCORE
C3: 1 = WETGEVING (= 6 punten) | H3: OPMERKINGEN | L3: =SUBTOTAL(9,L7:L281) -> 3 | M3: =SUBTOTAL(9,M7:M281) -> 3
C4: 2 = RICHTLIJNEN, NORMEN, AANBEVELINGEN (= 3 punten) | G4: Ja
C5: 3 = GOOD PRACTICE (= 1 punt) | G5: Neen
G6: NVT | K6: Code | L6: Total | M6: Score
A7: I | B7: Kwaliteitsopvolging van het sterilisatieproces | C7: Progress :: | G7: =SUBTOTAL(3,G10:G12)/SUBTOTAL(3,C10:C12) -> 0.33333333 | L7: =SUBTOTAL(9,L10:L12) -> 3 | M7: =SUBTOTAL(9,M10:M12) -> 3
B8: AUDITVRAGEN
B9: Controleer altijd de documentatie en de toepassing op de werkvloer.
A10: 1 | B10: Werden alle genomen acties op basis van de tekortkomingen van niveau 1 die bij de vorige audit werden vastgesteld adequaat opgevolgd en met met succes geïmplementeerd? | C10: 3 | D10: Good Practice | G10: Ja | J10: X3 | K10: =C10&J10&G10 -> 3X3Ja | L10: =IFERROR(VLOOKUP($K10,Mapping!$F:$H,2,0),"") -> 3 | M10: =IFERROR(VLOOKUP($K10,Mapping!$F:$H,3,0),"") -> 3 | N10: =C10&G10 -> 3Ja
A11: 2 | B11: Werden alle genomen acties op basis van de verbeterpunten van niveau 2 die bij de vorige audit werden vastgesteld adequaat opgevolgd en met met succes geïmplementeerd? | C11: 3 | D11: Good Practice | J11: X2 | K11: =C11&J11&G11 -> 3X2 | L11: =IFERROR(VLOOKUP($K11,Mapping!F:H,2,0),"") | M11: =IFERROR(VLOOKUP($K11,Mapping!$F:$H,3,0),"") | N11: =C11&G11 -> 3
A12: 3 | B12: Werden alle genomen acties op basis van de verbeterpunten van niveau 3 die bij de vorige audit werden vastgesteld adequaat opgevolgd en met met succes geïmplementeerd? | C12: 3 | D12: Good Practice | J12: X1 | K12: =C12&J12&G12 -> 3X1 | L12: =IFERROR(VLOOKUP($K12,Mapping!F:H,2,0),"") | M12: =IFERROR(VLOOKUP($K12,Mapping!$F:$H,3,0),"") | N12: =C12&G12 -> 3
A13: II | B13: Algemeen | C13: Progress :: | G13: =SUBTOTAL(3,G16:G26)/(SUBTOTAL(3,C16:C26)-0) -> 0 | L13: =SUBTOTAL(9,L16:L26) -> 0 | M13: =SUBTOTAL(9,M16:M26) -> 0
B14: AUDITVRAGEN
B15: Controleer altijd de documentatie en de toepassing op de werkvloer.
A16: 1 | B16: Bestaat er in de apotheek een algemene procedure voor het beheer van de medische gassen? | C16: 1 | D16: KB 30 sept 2020 | E16: Bijlage 1.A | J16: X1 | K16: =C16&J16&G16 -> 1X1 | L16: =IFERROR(VLOOKUP($K16,Mapping!F:H,2,0),"") | M16: =IFERROR(VLOOKUP($K16,Mapping!$F:$H,3,0),"") | N16: =C16&G16 -> 1
A17: 2 | B17: Wordt de procedure voor het beheer van de medische gassen periodiek gëvalueerd en goedgekeurd? | C17: 1 | D17: KB 30 sept 2020 | E17: Bijlage 1.A | J17: X1 | K17: =C17&J17&G17 -> 1X1 | L17: =IFERROR(VLOOKUP($K17,Mapping!F:H,2,0),"") | M17: =IFERROR(VLOOKUP($K17,Mapping!$F:$H,3,0),"") | N17: =C17&G17 -> 1
A18: 3 | B18: Is er een SLA die de verantwoordelijkheden en de rollen van de verschillende diensten met betrekking tot de medische gassen goed definieert binnen het ziekenhuis (apotheek, technische dienst, biotechnische dienst, enz.)? | C18: 3 | D18: Good Practice | J18: X1 | K18: =C18&J18&G18 -> 3X1 | L18: =IFERROR(VLOOKUP($K18,Mapping!F:H,2,0),"") | M18: =IFERROR(VLOOKUP($K18,Mapping!$F:$H,3,0),"") | N18: =C18&G18 -> 3
A19: 4 | B19: Is in de procedure of in de SLA opgenomen wie de eindverantwoordelijke is voor medische gassen en wie voor de technische gassen? | C19: 3 | D19: Good Practice | J19: X1 | K19: =C19&J19&G19 -> 3X1 | L19: =IFERROR(VLOOKUP($K19,Mapping!F:H,2,0),"") | M19: =IFERROR(VLOOKUP($K19,Mapping!$F:$H,3,0),"") | N19: =C19&G19 -> 3
A20: 5 | B20: Is er een samenwerkingsovereenkomst met de leverancier aan wie er eventueel magistrale bereidingen worden uitbesteed? | C20: 1 | D20: KB 30 sept 2020 | E20: Art 22 §2 | J20: X1 | K20: =C20&J20&G20 -> 1X1 | L20: =IFERROR(VLOOKUP($K20,Mapping!F:H,2,0),"") | M20: =IFERROR(VLOOKUP($K20,Mapping!$F:$H,3,0),"") | N20: =C20&G20 -> 1
A21: 6 | B21: Bezorgt de leverancier aan wie een magistrale bereiding werd uitbesteed, een protocol aan de ziekenhuisapotheker? | C21: 1 | D21: KB 30 sept 2020 | E21: Art 22 §4 | J21: X1 | K21: =C21&J21&G21 -> 1X1 | L21: =IFERROR(VLOOKUP($K21,Mapping!F:H,2,0),"") | M21: =IFERROR(VLOOKUP($K21,Mapping!$F:$H,3,0),"") | N21: =C21&G21 -> 1
A22: 7 | B22: Bevat dit protocol de wettelijke verplichtingen ( naam verantwoordelijke bereidingsvergunning, datum bereiding, type bereiding, controles, vervaldatum, voorzorgsmaatregelen rond bewaring, manipulatie, gebruik en transport)? | C22: 1 | D22: KB 30 sept 2020 | E22: Art 22 §4 | J22: X1 | K22: =C22&J22&G22 -> 1X1 | L22: =IFERROR(VLOOKUP($K22,Mapping!F:H,2,0),"") | M22: =IFERROR(VLOOKUP($K22,Mapping!$F:$H,3,0),"") | N22: =C22&G22 -> 1
A23: 8 | B23: Is er een noodplan beschreven in geval van calamiteiten voor de medische gassen? | C23: 2 | D23: JCI: FMS 5 | J23: X1 | K23: =C23&J23&G23 -> 2X1 | L23: =IFERROR(VLOOKUP($K23,Mapping!F:H,2,0),"") | M23: =IFERROR(VLOOKUP($K23,Mapping!$F:$H,3,0),"") | N23: =C23&G23 -> 2
A24: 9 | B24: Krijgt het personeel dat werkt met de medische gassen een specifieke opleiding? | C24: 2 | D24: JCI: FMS - Qualicor | J24: X1 | K24: =C24&J24&G24 -> 2X1 | L24: =IFERROR(VLOOKUP($K24,Mapping!F:H,2,0),"") | M24: =IFERROR(VLOOKUP($K24,Mapping!$F:$H,3,0),"") | N24: =C24&G24 -> 2
A25: 10 | B25: Wordt deze opleiding periodiek herhaald? | C25: 3 | D25: Good Practice | J25: X1 | K25: =C25&J25&G25 -> 3X1 | L25: =IFERROR(VLOOKUP($K25,Mapping!F:H,2,0),"") | M25: =IFERROR(VLOOKUP($K25,Mapping!$F:$H,3,0),"") | N25: =C25&G25 -> 3
A26: 11 | B26: Worden de medische gassen in transportflessen door heen heel het proces getraceerd (bestelling, ontvangst, stockage op de verschillende plaatsen in het ziekenhuis, terugzending naar de leverancier)? | C26: 3 | D26: Good Practice | J26: X1 | K26: =C26&J26&G26 -> 3X1 | L26: =IFERROR(VLOOKUP($K26,Mapping!F:H,2,0),"") | M26: =IFERROR(VLOOKUP($K26,Mapping!$F:$H,3,0),"") | N26: =C26&G26 -> 3
A27: III | B27: Aankoop en ontvangst | C27: Progress :: | G27: =SUBTOTAL(3,G30:G59)/(SUBTOTAL(3,C30:C59)-3) -> 0 | L27: =SUBTOTAL(9,L30:L59) -> 0 | M27: =SUBTOTAL(9,M30:M59) -> 0
B28: AUDITVRAGEN
B29: Controleer altijd de documentatie en de toepassing op de werkvloer.
A30: a | B30: Algemeen | C30: Progress :: | G30: =SUBTOTAL(3,G31:G36)/SUBTOTAL(3,C31:C36) -> 0 | L30: =SUBTOTAL(9,L31:L36) -> 0 | M30: =SUBTOTAL(9,M31:M36) -> 0
A31: 1 | B31: Is er een door de apotheker die verantwoordelijk is voor de medische gassen goedgekeurde procedure voor de aankoop van de medische gassen? | C31: 1 | D31: KB 30 sept 2020 | E31: Bijlage 1 C.f | J31: X1 | K31: =C31&J31&G31 -> 1X1 | L31: =IFERROR(VLOOKUP($K31,Mapping!F:H,2,0),"") | M31: =IFERROR(VLOOKUP($K31,Mapping!$F:$H,3,0),"") | N31: =C31&G31 -> 1
A32: 2 | B32: Worden de overheidsopdrachten toegepast op de aankoop van de medische gassen? | C32: 1 | D32: Wet van 17 juni 2016 | J32: X1 | K32: =C32&J32&G32 -> 1X1 | L32: =IFERROR(VLOOKUP($K32,Mapping!F:H,2,0),"") | M32: =IFERROR(VLOOKUP($K32,Mapping!$F:$H,3,0),"") | N32: =C32&G32 -> 1
A33: 3 | B33: Is de apotheek betrokken bij de onderhandelingen volgens de overheidsopdrachten voor de aankoop van medische gassen, eventueel met de hulp van andere partners (technische dienst, aankoopdienst, enz.)? | C33: 3 | D33: Good Practice | J33: X1 | K33: =C33&J33&G33 -> 3X1 | L33: =IFERROR(VLOOKUP($K33,Mapping!F:H,2,0),"") | M33: =IFERROR(VLOOKUP($K33,Mapping!$F:$H,3,0),"") | N33: =C33&G33 -> 3
A34: 4 | B34: Voldoen de aangekochte medische gassen aan de Europese farmacopee en aan de andere normen waarmee eventueel rekening moet worden gehouden in het kader van de goede farmaceutische praktijken? | C34: 1 | D34: KB 30 sept 2020 | E34: Bijlage 1 C.f | J34: X1 | K34: =C34&J34&G34 -> 1X1 | L34: =IFERROR(VLOOKUP($K34,Mapping!F:H,2,0),"") | M34: =IFERROR(VLOOKUP($K34,Mapping!$F:$H,3,0),"") | N34: =C34&G34 -> 1
A35: 5 | B35: Is de ziekenhuisapotheker betrokken bij de opvolging van de aankoopcontracten van de medische gassen? | C35: 2 | D35: JCI: GLD 6-7 | J35: X1 | K35: =C35&J35&G35 -> 2X1 | L35: =IFERROR(VLOOKUP($K35,Mapping!F:H,2,0),"") | M35: =IFERROR(VLOOKUP($K35,Mapping!$F:$H,3,0),"") | N35: =C35&G35 -> 2
A36: 6 | B36: Is er een ontvangstprocedure opgesteld door de ziekenhuisapotheker voor de medische gassen? | C36: 3 | D36: Good Practice | J36: X1 | K36: =C36&J36&G36 -> 3X1 | L36: =IFERROR(VLOOKUP($K36,Mapping!F:H,2,0),"") | M36: =IFERROR(VLOOKUP($K36,Mapping!$F:$H,3,0),"") | N36: =C36&G36 -> 3
A37: b | B37: Medische gassen in bulk | C37: Progress :: | G37: =SUBTOTAL(3,G38:G48)/SUBTOTAL(3,C38:C48) -> 0 | L37: =SUBTOTAL(9,L38:L48) -> 0 | M37: =SUBTOTAL(9,M38:M48) -> 0
A38: 1 | B38: Worden alle medische gassen in bulk besteld door de apotheek? | C38: 1 | D38: KB 30 sept 2020 | E38: Bijlage 1 C.f | J38: X1 | K38: =C38&J38&G38 -> 1X1 | L38: =IFERROR(VLOOKUP($K38,Mapping!F:H,2,0),"") | M38: =IFERROR(VLOOKUP($K38,Mapping!$F:$H,3,0),"") | N38: =C38&G38 -> 1
A39: 2 | B39: Worden de bestellingen van medische gassen in bulk uitgevoerd door middel van telemetrie? | C39: 3 | D39: Good Practice | J39: X1 | K39: =C39&J39&G39 -> 3X1 | L39: =IFERROR(VLOOKUP($K39,Mapping!F:H,2,0),"") | M39: =IFERROR(VLOOKUP($K39,Mapping!$F:$H,3,0),"") | N39: =C39&G39 -> 3
A40: 3 | B40: Wordt het proces van ontvangst bij de levering uitgevoerd door correct opgeleid personeel ? | C40: 3 | D40: Good Practice | J40: X1 | K40: =C40&J40&G40 -> 3X1 | L40: =IFERROR(VLOOKUP($K40,Mapping!F:H,2,0),"") | M40: =IFERROR(VLOOKUP($K40,Mapping!$F:$H,3,0),"") | N40: =C40&G40 -> 3
A41: 4 | B41: Indien het personeel dat zorgt voor de ontvangst van de medische gassen niet behoort tot het personeel van de apotheek, is er dan een procedure die beschrijft wie deze personen zijn en hoe ze moeten werken? | C41: 1 | D41: KB 30 sept 2020 | E41: Bijlage C.b | J41: X1 | K41: =C41&J41&G41 -> 1X1 | L41: =IFERROR(VLOOKUP($K41,Mapping!F:H,2,0),"") | M41: =IFERROR(VLOOKUP($K41,Mapping!$F:$H,3,0),"") | N41: =C41&G41 -> 1
A42: 5 | B42: Wordt het lotnummer geregistreerd bij het ontvangst? | C42: 1 | D42: KB 30 sept 2020 | E42: Bijlage C.b | J42: X1 | K42: =C42&J42&G42 -> 1X1 | L42: =IFERROR(VLOOKUP($K42,Mapping!F:H,2,0),"") | M42: =IFERROR(VLOOKUP($K42,Mapping!$F:$H,3,0),"") | N42: =C42&G42 -> 1
A43: 6 | B43: Is er een controle op conformiteit bij het ontvangst? | C43: 1 | D43: KB 30 sept 2020 | E43: Bijlage C.b | J43: X1 | K43: =C43&J43&G43 -> 1X1 | L43: =IFERROR(VLOOKUP($K43,Mapping!F:H,2,0),"") | M43: =IFERROR(VLOOKUP($K43,Mapping!$F:$H,3,0),"") | N43: =C43&G43 -> 1
A44: 7 | B44: Zijn er specifieke aansluitingen tussen de vrachtwagen die komt leveren en de tank zodat omwisseling tussen verschillende medische gassen niet mogelijk is? | C44: 2 | D44: GMP Annex 6 Medicinal gases | J44: X1 | K44: =C44&J44&G44 -> 2X1 | L44: =IFERROR(VLOOKUP($K44,Mapping!F:H,2,0),"") | M44: =IFERROR(VLOOKUP($K44,Mapping!$F:$H,3,0),"") | N44: =C44&G44 -> 2
A45: 8 | B45: Zijn de gepaste persoonlijke beschermingsmiddelen aanwezig tijdens de ontvangst van de medische gassen in bulk? | C45: 1 | D45: Codex welzijn op het werk Boek IX Titel 2 | J45: X1 | K45: =C45&J45&G45 -> 1X1 | L45: =IFERROR(VLOOKUP($K45,Mapping!F:H,2,0),"") | M45: =IFERROR(VLOOKUP($K45,Mapping!$F:$H,3,0),"") | N45: =C45&G45 -> 1
A46: 9 | B46: Worden alle schikkingen getroffen om een correcte levering van de medische gassen in bulk te garanderen (brandveiligheid, beschikbaarheid parking, enz.)? | C46: 1 | D46: Vlaams Reglement betreffende de Milieuvergunning (VLAREM) | E46: artikel 5.17.1.3, §4, van titel II - Bijlage 5 bis | J46: X1 | K46: =C46&J46&G46 -> 1X1 | L46: =IFERROR(VLOOKUP($K46,Mapping!F:H,2,0),"") | M46: =IFERROR(VLOOKUP($K46,Mapping!$F:$H,3,0),"") | N46: =C46&G46 -> 1
A47: 10 | B47: Worden al deze schikkingen geformuleerd in operationele procedures? | C47: 2 | D47: JCI: FMS | J47: X1 | K47: =C47&J47&G47 -> 2X1 | L47: =IFERROR(VLOOKUP($K47,Mapping!F:H,2,0),"") | M47: =IFERROR(VLOOKUP($K47,Mapping!$F:$H,3,0),"") | N47: =C47&G47 -> 2
A48: 11 | B48: Wordt de ontvangst van de medische gassen in bulk elektronisch geregistreerd door het personeel van de apotheek? | C48: 3 | D48: Good Practice | J48: X1 | K48: =C48&J48&G48 -> 3X1 | L48: =IFERROR(VLOOKUP($K48,Mapping!F:H,2,0),"") | M48: =IFERROR(VLOOKUP($K48,Mapping!$F:$H,3,0),"") | N48: =C48&G48 -> 3
A49: c | B49: Medische gassen in transportflessen | C49: Progress :: | G49: =SUBTOTAL(3,G50:G59)/SUBTOTAL(3,C50:C59) -> 0 | L49: =SUBTOTAL(9,L50:L59) -> 0 | M49: =SUBTOTAL(9,M50:M59) -> 0
A50: 1 | B50: Worden alle medische gassen in transportflessen besteld door de apotheek? | C50: 1 | D50: KB 30 sept 2020 | E50: Bijlage 1.C.a | J50: X1 | K50: =C50&J50&G50 -> 1X1 | L50: =IFERROR(VLOOKUP($K50,Mapping!F:H,2,0),"") | M50: =IFERROR(VLOOKUP($K50,Mapping!$F:$H,3,0),"") | N50: =C50&G50 -> 1
A51: 2 | B51: Wordt het proces van ontvangst bij de levering uitgevoerd door correct opgeleid personeel ? | C51: 1 | D51: KB 30 sept 2020 | E51: Bijlage 1.C.b | J51: X1 | K51: =C51&J51&G51 -> 1X1 | L51: =IFERROR(VLOOKUP($K51,Mapping!F:H,2,0),"") | M51: =IFERROR(VLOOKUP($K51,Mapping!$F:$H,3,0),"") | N51: =C51&G51 -> 1
A52: 3 | B52: Indien het personeel dat zorgt voor de ontvangst van de medische gassen in transportflessen niet behoort tot het personeel van de apotheek, is er dan een procedure die beschrijft wie deze personen zijn en hoe ze moeten werken? | C52: 1 | D52: KB 30 sept 2020 | E52: Bijlage 1.C.b | J52: X1 | K52: =C52&J52&G52 -> 1X1 | L52: =IFERROR(VLOOKUP($K52,Mapping!F:H,2,0),"") | M52: =IFERROR(VLOOKUP($K52,Mapping!$F:$H,3,0),"") | N52: =C52&G52 -> 1
A53: 4 | B53: Wordt het lotnummer en vervaldatum geregistreerd bij ontvangst? | C53: 1 | D53: KB 30 sept 2020 | E53: Bijlage 1.C.b | J53: X1 | K53: =C53&J53&G53 -> 1X1 | L53: =IFERROR(VLOOKUP($K53,Mapping!F:H,2,0),"") | M53: =IFERROR(VLOOKUP($K53,Mapping!$F:$H,3,0),"") | N53: =C53&G53 -> 1
A54: 5 | B54: Wordt het lotnummer en vervaldatum elektronisch geregistreerd bij ontvangst? | C54: 3 | D54: Good Practice | J54: X1 | K54: =C54&J54&G54 -> 3X1 | L54: =IFERROR(VLOOKUP($K54,Mapping!F:H,2,0),"") | M54: =IFERROR(VLOOKUP($K54,Mapping!$F:$H,3,0),"") | N54: =C54&G54 -> 3
A55: 6 | B55: Is er een controle op conformiteit bij het ontvangst? | C55: 1 | D55: KB 30 sept 2020 | E55: Bijlage 1.C.b | J55: X1 | K55: =C55&J55&G55 -> 1X1 | L55: =IFERROR(VLOOKUP($K55,Mapping!F:H,2,0),"") | M55: =IFERROR(VLOOKUP($K55,Mapping!$F:$H,3,0),"") | N55: =C55&G55 -> 1
A56: 7 | B56: Worden alle schikkingen getroffen om een correcte levering van de medische gassen in transportflessen te garanderen (brandveiligheid, beschikbaarheid parking, enz.)? | C56: 1 | D56: Vlaams Reglement betreffende de Milieuvergunning (VLAREM) | E56: Artikel 5.17.1.3, §4, van titel II - Bijlage 5 bis | J56: X1 | K56: =C56&J56&G56 -> 1X1 | L56: =IFERROR(VLOOKUP($K56,Mapping!F:H,2,0),"") | M56: =IFERROR(VLOOKUP($K56,Mapping!$F:$H,3,0),"") | N56: =C56&G56 -> 1
A57: 8 | B57: Worden al deze schikkingen geformuleerd in operationele procedures? | C57: 3 | D57: Good Practice | J57: X1 | K57: =C57&J57&G57 -> 3X1 | L57: =IFERROR(VLOOKUP($K57,Mapping!F:H,2,0),"") | M57: =IFERROR(VLOOKUP($K57,Mapping!$F:$H,3,0),"") | N57: =C57&G57 -> 3
A58: 9 | B58: Worden de transportflessen bij levering gecontroleerd op conformiteit (netheid, duidelijke etikettering, beschadiging)? | C58: 1 | D58: KB 30 sept 2020 | E58: Bijlage 1.C.b | J58: X1 | K58: =C58&J58&G58 -> 1X1 | L58: =IFERROR(VLOOKUP($K58,Mapping!F:H,2,0),"") | M58: =IFERROR(VLOOKUP($K58,Mapping!$F:$H,3,0),"") | N58: =C58&G58 -> 1
A59: 10 | B59: Wordt er voor een medisch gasmengsel (magistrale bereiding) een analysecertificaat toegevoegd aan elke transportfles bij elke levering? | C59: 1 | D59: KB 30 sept 2020 | E59: Art 22 | J59: X1 | K59: =C59&J59&G59 -> 1X1 | L59: =IFERROR(VLOOKUP($K59,Mapping!F:H,2,0),"") | M59: =IFERROR(VLOOKUP($K59,Mapping!$F:$H,3,0),"") | N59: =C59&G59 -> 1
A60: IV | B60: Opslag | C60: Progress :: | G60: =SUBTOTAL(3,G63:G87)/(SUBTOTAL(3,C63:C87)-2) -> 0 | L60: =SUBTOTAL(9,L63:L87) -> 0 | M60: =SUBTOTAL(9,M63:M87) -> 0
B61: AUDITVRAGEN
B62: Controleer altijd de documentatie en de toepassing op de werkvloer.
A63: a | B63: Medische gassen in bulk | C63: Progress :: | G63: =SUBTOTAL(3,G64:G71)/SUBTOTAL(3,C64:C71) -> 0 | L63: =SUBTOTAL(9,L64:L71) -> 0 | M63: =SUBTOTAL(9,M64:M71) -> 0
A64: 1 | B64: Is er een procedure voor de opslag van medische gassen in bulk? | C64: 3 | D64: Good Practice | J64: X1 | K64: =C64&J64&G64 -> 3X1 | L64: =IFERROR(VLOOKUP($K64,Mapping!F:H,2,0),"") | M64: =IFERROR(VLOOKUP($K64,Mapping!$F:$H,3,0),"") | N64: =C64&G64 -> 3
A65: 2 | B65: Hebben de architecturale structuren en de uitrusting (waaronder de tanks met vloeibare zuurstof) de juiste afmetingen voor elk medisch gas volgens de regionale milieuwetgeving? | C65: 1 | D65: Regionale milieuwetgeving (https://navigator.emis.vito.be/mijn-navigator?woId=10118&woLang=nl) | J65: X1 | K65: =C65&J65&G65 -> 1X1 | L65: =IFERROR(VLOOKUP($K65,Mapping!F:H,2,0),"") | M65: =IFERROR(VLOOKUP($K65,Mapping!$F:$H,3,0),"") | N65: =C65&G65 -> 1
A66: 3 | B66: Wordt de opslagzone voor de medische gassen in tanks (soms meerdere) correct afgebakend (bv.: afrastering)? | C66: 1 | D66: Vlaams Reglement betreffende de Milieuvergunning (VLAREM) | E66: VLAREM II hoofdstukken 4.1, 5.17, en 6.5 en afdelingen 5.6.2 en 5.6.3 | J66: X1 | K66: =C66&J66&G66 -> 1X1 | L66: =IFERROR(VLOOKUP($K66,Mapping!F:H,2,0),"") | M66: =IFERROR(VLOOKUP($K66,Mapping!$F:$H,3,0),"") | N66: =C66&G66 -> 1
A67: 4 | B67: Is de opslagzone voor de medische gassen in bulk uitsluitend toegankelijk voor personeelsleden die in de procedures zijn aangeduid? | C67: 3 | D67: Good Practice | J67: X1 | K67: =C67&J67&G67 -> 3X1 | L67: =IFERROR(VLOOKUP($K67,Mapping!F:H,2,0),"") | M67: =IFERROR(VLOOKUP($K67,Mapping!$F:$H,3,0),"") | N67: =C67&G67 -> 3
A68: 5 | B68: Is de opslagplaats van de medische gassen in bulk rein en ordelijk? | C68: 1 | D68: KB 30 sept 2020 | E68: Bijlage 1.B | J68: X1 | K68: =C68&J68&G68 -> 1X1 | L68: =IFERROR(VLOOKUP($K68,Mapping!F:H,2,0),"") | M68: =IFERROR(VLOOKUP($K68,Mapping!$F:$H,3,0),"") | N68: =C68&G68 -> 1
A69: 6 | B69: Wordt de opslagzone voor de medische gassen in bulk correct onderhouden (inclusief tanks en kraanwerk)? | C69: 3 | D69: Good Practice | J69: X1 | K69: =C69&J69&G69 -> 3X1 | L69: =IFERROR(VLOOKUP($K69,Mapping!F:H,2,0),"") | M69: =IFERROR(VLOOKUP($K69,Mapping!$F:$H,3,0),"") | N69: =C69&G69 -> 3
A70: 7 | B70: Wordt de reinging van de opslagplaats van de medische gassen in bulk opgevolgd en geregistreerd (kwaliteit en frequentie)? | C70: 1 | D70: KB 30 sept 2020 | E70: Bijlage 1.B | J70: X1 | K70: =C70&J70&G70 -> 1X1 | L70: =IFERROR(VLOOKUP($K70,Mapping!F:H,2,0),"") | M70: =IFERROR(VLOOKUP($K70,Mapping!$F:$H,3,0),"") | N70: =C70&G70 -> 1
A71: 8 | B71: Controleert de ziekenhuisapotheker op regelmatige basis de veiligheid van de opslag van de medische gassen in bulk? | C71: 1 | D71: KB 30 sept 2020 | E71: Bijlage 1.C.c | J71: X1 | K71: =C71&J71&G71 -> 1X1 | L71: =IFERROR(VLOOKUP($K71,Mapping!F:H,2,0),"") | M71: =IFERROR(VLOOKUP($K71,Mapping!$F:$H,3,0),"") | N71: =C71&G71 -> 1
A72: b | B72: Medische gassen in transportflessen | C72: Progress :: | G72: =SUBTOTAL(3,G73:G87)/SUBTOTAL(3,C73:C87) -> 0 | L72: =SUBTOTAL(9,L73:L87) -> 0 | M72: =SUBTOTAL(9,M73:M87) -> 0
A73: 1 | B73: Is er een procedure die de modaliteiten beschrijft voor een adequate opvolging van een veilige opslag van medische gassen in transportflessen (temperatuur, vervaldatum …)? | C73: 1 | D73: KB 30 sept 2020 | E73: Bijlage 1.C.c | J73: X1 | K73: =C73&J73&G73 -> 1X1 | L73: =IFERROR(VLOOKUP($K73,Mapping!F:H,2,0),"") | M73: =IFERROR(VLOOKUP($K73,Mapping!$F:$H,3,0),"") | N73: =C73&G73 -> 1
A74: 2 | B74: Is de opslagzone voor de transportflessen uitsluitend toegankelijk voor personeelsleden die in de procedures zijn aangeduid? | C74: 3 | D74: Good Practice | J74: X1 | K74: =C74&J74&G74 -> 3X1 | L74: =IFERROR(VLOOKUP($K74,Mapping!F:H,2,0),"") | M74: =IFERROR(VLOOKUP($K74,Mapping!$F:$H,3,0),"") | N74: =C74&G74 -> 3
A75: 3 | B75: Is de opslagzone voor de transportflessen architecturaal ontworpen volgens de normen? | C75: 1 | D75: Regionale milieuwetgeving (https://navigator.emis.vito.be/mijn-navigator?woId=10118&woLang=nl) | J75: X1 | K75: =C75&J75&G75 -> 1X1 | L75: =IFERROR(VLOOKUP($K75,Mapping!F:H,2,0),"") | M75: =IFERROR(VLOOKUP($K75,Mapping!$F:$H,3,0),"") | N75: =C75&G75 -> 1
A76: 4 | B76: Zijn er op de diensten in het ziekenhuis aparte ruimtes voor de bewaring van de transportflessen van medische gassen? | C76: 3 | D76: Good Practice | J76: X1 | K76: =C76&J76&G76 -> 3X1 | L76: =IFERROR(VLOOKUP($K76,Mapping!F:H,2,0),"") | M76: =IFERROR(VLOOKUP($K76,Mapping!$F:$H,3,0),"") | N76: =C76&G76 -> 3
A77: 5 | B77: Is de opslagzone voor de transportflessen geventileerd volgens de normen? | C77: 1 | D77: Regionale milieuwetgeving (https://navigator.emis.vito.be/mijn-navigator?woId=10118&woLang=nl) | J77: X1 | K77: =C77&J77&G77 -> 1X1 | L77: =IFERROR(VLOOKUP($K77,Mapping!F:H,2,0),"") | M77: =IFERROR(VLOOKUP($K77,Mapping!$F:$H,3,0),"") | N77: =C77&G77 -> 1
A78: 6 | B78: Is de opslagplaats van de transportflessen rein en ordelijk? | C78: 1 | D78: KB 30 sept 2020 | E78: Bijlage 1.B | J78: X1 | K78: =C78&J78&G78 -> 1X1 | L78: =IFERROR(VLOOKUP($K78,Mapping!F:H,2,0),"") | M78: =IFERROR(VLOOKUP($K78,Mapping!$F:$H,3,0),"") | N78: =C78&G78 -> 1
A79: 7 | B79: Wordt de reiniging van de opslagplaats van de transportflessen opgevolgd en geregistreerd (kwaliteit en frequentie)? | C79: 1 | D79: KB 30 sept 2020 | E79: Bijlage 1.B | J79: X1 | K79: =C79&J79&G79 -> 1X1 | L79: =IFERROR(VLOOKUP($K79,Mapping!F:H,2,0),"") | M79: =IFERROR(VLOOKUP($K79,Mapping!$F:$H,3,0),"") | N79: =C79&G79 -> 1
A80: 8 | B80: Is er een duidelijke scheiding (identificatie van de stockageplaats, enz.) tussen de volle en de lege flessen? | C80: 1 | D80: VLAREM II (Vlaams Reglement betreffende de Milieuvergubnning) art 5.17.3.2.3 §3 | J80: X1 | K80: =C80&J80&G80 -> 1X1 | L80: =IFERROR(VLOOKUP($K80,Mapping!F:H,2,0),"") | M80: =IFERROR(VLOOKUP($K80,Mapping!$F:$H,3,0),"") | N80: =C80&G80 -> 1
A81: 9 | B81: Is er een duidelijke scheiding tussen (plaats, enz.) de verschillende gassen in transportflessen? | C81: 1 | D81: VLAREM II (Vlaams Reglement betreffende de Milieuvergubnning) art 5.17.3.2.3 §1 en §2 | J81: X1 | K81: =C81&J81&G81 -> 1X1 | L81: =IFERROR(VLOOKUP($K81,Mapping!F:H,2,0),"") | M81: =IFERROR(VLOOKUP($K81,Mapping!$F:$H,3,0),"") | N81: =C81&G81 -> 1
A82: 10 | B82: Zijn de transportflessen vastgemaakt of worden ze beschermd tegen omvallen? | C82: 3 | D82: Good Practice | J82: X1 | K82: =C82&J82&G82 -> 3X1 | L82: =IFERROR(VLOOKUP($K82,Mapping!F:H,2,0),"") | M82: =IFERROR(VLOOKUP($K82,Mapping!$F:$H,3,0),"") | N82: =C82&G82 -> 3
A83: 11 | B83: Is er een systematische opvolging van de vervaldata voor de medische gassen in transportflessen? | C83: 1 | D83: KB 30 sept 2020 | E83: Bijlage 1.C.c | J83: X1 | K83: =C83&J83&G83 -> 1X1 | L83: =IFERROR(VLOOKUP($K83,Mapping!F:H,2,0),"") | M83: =IFERROR(VLOOKUP($K83,Mapping!$F:$H,3,0),"") | N83: =C83&G83 -> 1
A84: 12 | B84: Is er een elektronisch systeem voor de opvolging van de vervaldatum? | C84: 3 | D84: Good Practice | J84: X1 | K84: =C84&J84&G84 -> 3X1 | L84: =IFERROR(VLOOKUP($K84,Mapping!F:H,2,0),"") | M84: =IFERROR(VLOOKUP($K84,Mapping!$F:$H,3,0),"") | N84: =C84&G84 -> 3
A85: 13 | B85: Zijn de opslagplaatsen voorzien van de veiligheidswaarschuwingen en veiligheidspictogrammen? | C85: 1 | D85: Europese wetgeving: https://emis.vito.be/sites/emis.vito.be/files/legislation/migrated/pbl311208-1.pdf | J85: X1 | K85: =C85&J85&G85 -> 1X1 | L85: =IFERROR(VLOOKUP($K85,Mapping!F:H,2,0),"") | M85: =IFERROR(VLOOKUP($K85,Mapping!$F:$H,3,0),"") | N85: =C85&G85 -> 1
A86: 14 | B86: Bestaat er een specifieke procedure die de modaliteiten beschrijft voor een adequate opvolging van de reservekaders van de medische gassen betreffende de opslag (temperatuur, vervaldatum…)? | C86: 1 | D86: KB 30 sept 2020 | E86: Bijlage 1.C.c. | J86: X1 | K86: =C86&J86&G86 -> 1X1 | L86: =IFERROR(VLOOKUP($K86,Mapping!F:H,2,0),"") | M86: =IFERROR(VLOOKUP($K86,Mapping!$F:$H,3,0),"") | N86: =C86&G86 -> 1
A87: 15 | B87: Controleert de ziekenhuisapotheker op regelmatige basis de veiligheid van de opslag van de medische gassen in transportflessen? | C87: 1 | D87: KB 30 sept 2020 | E87: Bijlage 1.C.c | J87: X1 | K87: =C87&J87&G87 -> 1X1 | L87: =IFERROR(VLOOKUP($K87,Mapping!F:H,2,0),"") | M87: =IFERROR(VLOOKUP($K87,Mapping!$F:$H,3,0),"") | N87: =C87&G87 -> 1
A88: V | B88: Onderhoud | C88: Progress :: | G88: =SUBTOTAL(3,G91:G93)/(SUBTOTAL(3,C91:C93)-0) -> 0 | L88: =SUBTOTAL(9,L91:L93) -> 0 | M88: =SUBTOTAL(9,M91:M93) -> 0
B89: AUDITVRAGEN
B90: Controleer altijd de documentatie en de toepassing op de werkvloer.
A91: 1 | B91: Worden de controles van de installaties, leidingen en muuraansluitingen (hoofdeinden bedden) regelmatig en volgens een vooraf opgesteld plan uitgevoerd door een bevoegde dienst van het ziekenhuis, in overleg met de apotheek? | C91: 1 | D91: Regionale milieuwetgeving (https://navigator.emis.vito.be/mijn-navigator?woId=10118&woLang=nl) | J91: X1 | K91: =C91&J91&G91 -> 1X1 | L91: =IFERROR(VLOOKUP($K91,Mapping!F:H,2,0),"") | M91: =IFERROR(VLOOKUP($K91,Mapping!$F:$H,3,0),"") | N91: =C91&G91 -> 1
A92: 2 | B92: Worden de controles van de installaties, leidingen en muuraansluitingen (hoofdeinden bedden) gedocumenteerd en besproken met de apotheker die verantwoordelijk is voor de medische gassen? | C92: 3 | D92: Good Practice | J92: X1 | K92: =C92&J92&G92 -> 3X1 | L92: =IFERROR(VLOOKUP($K92,Mapping!F:H,2,0),"") | M92: =IFERROR(VLOOKUP($K92,Mapping!$F:$H,3,0),"") | N92: =C92&G92 -> 3
A93: 3 | B93: Worden de installaties en de leidingen gecontroleerd door een erkend organisme? | C93: 1 | D93: Regionale milieuwetgeving (https://navigator.emis.vito.be/mijn-navigator?woId=10118&woLang=nl) | J93: X1 | K93: =C93&J93&G93 -> 1X1 | L93: =IFERROR(VLOOKUP($K93,Mapping!F:H,2,0),"") | M93: =IFERROR(VLOOKUP($K93,Mapping!$F:$H,3,0),"") | N93: =C93&G93 -> 1
A94: VI | B94: Voorraadbeheer | C94: Progress :: | G94: =SUBTOTAL(3,G97:G107)/(SUBTOTAL(3,C97:C107)-0) -> 0 | L94: =SUBTOTAL(9,L97:L107) -> 0 | M94: =SUBTOTAL(9,M97:M107) -> 0
B95: AUDITVRAGEN
B96: Controleer altijd de documentatie en de toepassing op de werkvloer.
A97: 1 | B97: Is er een procedure rond het voorraadbeheer van de medische gassen? | C97: 3 | D97: Good Practice | J97: X1 | K97: =C97&J97&G97 -> 3X1 | L97: =IFERROR(VLOOKUP($K97,Mapping!F:H,2,0),"") | M97: =IFERROR(VLOOKUP($K97,Mapping!$F:$H,3,0),"") | N97: =C97&G97 -> 3
A98: 2 | B98: Zijn er drie onafhankelijke bronnen aanwezig voor de bevoorrading van vloeibare zuurstof? | C98: 2 | D98: ISO 7396 - 5.1 | J98: X1 | K98: =C98&J98&G98 -> 2X1 | L98: =IFERROR(VLOOKUP($K98,Mapping!F:H,2,0),"") | M98: =IFERROR(VLOOKUP($K98,Mapping!$F:$H,3,0),"") | N98: =C98&G98 -> 2
A99: 3 | B99: Zijn de testen voor de overgang van de ene naar de andere bron tussen de 1e, 2e en 3e bron periodiek geprogrammeerd? | C99: 3 | D99: Good Practice | J99: X1 | K99: =C99&J99&G99 -> 3X1 | L99: =IFERROR(VLOOKUP($K99,Mapping!F:H,2,0),"") | M99: =IFERROR(VLOOKUP($K99,Mapping!$F:$H,3,0),"") | N99: =C99&G99 -> 3
A100: 4 | B100: Worden de testen uitgevoerd voor de overgang van de ene naar de andere bron tussen de 1e, 2e en 3e bron gedocumenteerd en besproken? | C100: 3 | D100: Good Practice | J100: X1 | K100: =C100&J100&G100 -> 3X1 | L100: =IFERROR(VLOOKUP($K100,Mapping!F:H,2,0),"") | M100: =IFERROR(VLOOKUP($K100,Mapping!$F:$H,3,0),"") | N100: =C100&G100 -> 3
A101: 5 | B101: Houdt de bevoorrading van de bronnen van zuurstof rekening met het geschatte verbruik en met de frequentie van levering? | C101: 2 | D101: ISO 7396 - 5.2.1 | J101: X1 | K101: =C101&J101&G101 -> 2X1 | L101: =IFERROR(VLOOKUP($K101,Mapping!F:H,2,0),"") | M101: =IFERROR(VLOOKUP($K101,Mapping!$F:$H,3,0),"") | N101: =C101&G101 -> 2
...

Sheet rapport
B1: MAEIA Medische Gassen Rapport
A3: Date : | I3: Adapt these cells
A4: Ziekenhuis : | I4: Adapt these cells
A5: Hoofdapotheker : | I5: Adapt these cells
A6: Auditeur naam : | I6: Adapt these cells
C7: Max | D7: Score
A8: Total score | C8: ='proces medische gassen'!L3 -> 3 | D8: ='proces medische gassen'!M3 -> 3 | K8: Make sure total is correct | L8: Make sure total is correct
A9: ='proces medische gassen'!A7 -> I | B9: ='proces medische gassen'!B7 -> Kwaliteitsopvolging van het sterilisatieproces | C9: ='proces medische gassen'!L7 -> 3 | D9: ='proces medische gassen'!M7 -> 3 | H9: Copy Paste visible cells from questionnaire sheet | I9: Copy Paste visible cells from questionnaire sheet | J9: Copy Paste visible cells from questionnaire sheet | K9: Copy Paste visible cells from questionnaire sheet | L9: Copy Paste visible cells from questionnaire sheet
A10: ='proces medische gassen'!A13 -> II | B10: ='proces medische gassen'!B13 -> Algemeen | C10: ='proces medische gassen'!L13 -> 0 | D10: ='proces medische gassen'!M13 -> 0 | H10: Copy Paste visible cells from questionnaire sheet | I10: Copy Paste visible cells from questionnaire sheet | J10: Copy Paste visible cells from questionnaire sheet | K10: Copy Paste visible cells from questionnaire sheet | L10: Copy Paste visible cells from questionnaire sheet
A11: ='proces medische gassen'!A27 -> III | B11: ='proces medische gassen'!B27 -> Aankoop en ontvangst | C11: ='proces medische gassen'!L27 -> 0 | D11: ='proces medische gassen'!M27 -> 0 | H11: Copy Paste visible cells from questionnaire sheet | I11: Copy Paste visible cells from questionnaire sheet | J11: Copy Paste visible cells from questionnaire sheet | K11: Copy Paste visible cells from questionnaire sheet | L11: Copy Paste visible cells from questionnaire sheet
A12: ='proces medische gassen'!A30 -> a | B12: ='proces medische gassen'!B30 -> Algemeen | C12: ='proces medische gassen'!L30 -> 0 | D12: ='proces medische gassen'!M30 -> 0 | H12: Copy Paste visible cells from questionnaire sheet | I12: Copy Paste visible cells from questionnaire sheet | J12: Copy Paste visible cells from questionnaire sheet | K12: Copy Paste visible cells from questionnaire sheet | L12: Copy Paste visible cells from questionnaire sheet
A13: ='proces medische gassen'!A37 -> b | B13: ='proces medische gassen'!B37 -> Medische gassen in bulk | C13: ='proces medische gassen'!L37 -> 0 | D13: ='proces medische gassen'!M37 -> 0 | H13: Copy Paste visible cells from questionnaire sheet | I13: Copy Paste visible cells from questionnaire sheet | J13: Copy Paste visible cells from questionnaire sheet | K13: Copy Paste visible cells from questionnaire sheet | L13: Copy Paste visible cells from questionnaire sheet
A14: ='proces medische gassen'!A49 -> c | B14: ='proces medische gassen'!B49 -> Medische gassen in transportflessen | C14: ='proces medische gassen'!L49 -> 0 | D14: ='proces medische gassen'!M49 -> 0 | H14: Copy Paste visible cells from questionnaire sheet | I14: Copy Paste visible cells from questionnaire sheet | J14: Copy Paste visible cells from questionnaire sheet | K14: Copy Paste visible cells from questionnaire sheet | L14: Copy Paste visible cells from questionnaire sheet
A15: ='proces medische gassen'!A60 -> IV | B15: ='proces medische gassen'!B60 -> Opslag | C15: ='proces medische gassen'!L60 -> 0 | D15: ='proces medische gassen'!M60 -> 0 | H15: Copy Paste visible cells from questionnaire sheet | I15: Copy Paste visible cells from questionnaire sheet | J15: Copy Paste visible cells from questionnaire sheet | K15: Copy Paste visible cells from questionnaire sheet | L15: Copy Paste visible cells from questionnaire sheet
A16: ='proces medische gassen'!A63 -> a | B16: ='proces medische gassen'!B63 -> Medische gassen in bulk | C16: ='proces medische gassen'!L63 -> 0 | D16: ='proces medische gassen'!M63 -> 0 | H16: Copy Paste visible cells from questionnaire sheet | I16: Copy Paste visible cells from questionnaire sheet | J16: Copy Paste visible cells from questionnaire sheet | K16: Copy Paste visible cells from questionnaire sheet | L16: Copy Paste visible cells from questionnaire sheet
A17: ='proces medische gassen'!A72 -> b | B17: ='proces medische gassen'!B72 -> Medische gassen in transportflessen | C17: ='proces medische gassen'!L72 -> 0 | D17: ='proces medische gassen'!M72 -> 0 | H17: Copy Paste visible cells from questionnaire sheet | I17: Copy Paste visible cells from questionnaire sheet | J17: Copy Paste visible cells from questionnaire sheet | K17: Copy Paste visible cells from questionnaire sheet | L17: Copy Paste visible cells from questionnaire sheet
A18: ='proces medische gassen'!A88 -> V | B18: ='proces medische gassen'!B88 -> Onderhoud | C18: ='proces medische gassen'!L88 -> 0 | D18: ='proces medische gassen'!M88 -> 0 | H18: Copy Paste visible cells from questionnaire sheet | I18: Copy Paste visible cells from questionnaire sheet | J18: Copy Paste visible cells from questionnaire sheet | K18: Copy Paste visible cells from questionnaire sheet | L18: Copy Paste visible cells from questionnaire sheet
A19: ='proces medische gassen'!A94 -> VI | B19: ='proces medische gassen'!B94 -> Voorraadbeheer | C19: ='proces medische gassen'!L94 -> 0 | D19: ='proces medische gassen'!M94 -> 0 | H19: Copy Paste visible cells from questionnaire sheet | I19: Copy Paste visible cells from questionnaire sheet | J19: Copy Paste visible cells from questionnaire sheet | K19: Copy Paste visible cells from questionnaire sheet | L19: Copy Paste visible cells from questionnaire sheet
A20: ='proces medische gassen'!A108 -> VII | B20: ='proces medische gassen'!B108 -> Distributie en transport | C20: ='proces medische gassen'!L108 -> 0 | D20: ='proces medische gassen'!M108 -> 0 | H20: Copy Paste visible cells from questionnaire sheet | I20: Copy Paste visible cells from questionnaire sheet | J20: Copy Paste visible cells from questionnaire sheet | K20: Copy Paste visible cells from questionnaire sheet | L20: Copy Paste visible cells from questionnaire sheet
A21: ='proces medische gassen'!A111 -> a | B21: ='proces medische gassen'!B111 -> Verdeling in het ziekenhuis | C21: ='proces medische gassen'!L111 -> 0 | D21: ='proces medische gassen'!M111 -> 0 | H21: Copy Paste visible cells from questionnaire sheet | I21: Copy Paste visible cells from questionnaire sheet | J21: Copy Paste visible cells from questionnaire sheet | K21: Copy Paste visible cells from questionnaire sheet | L21: Copy Paste visible cells from questionnaire sheet
A22: ='proces medische gassen'!A115 -> b | B22: ='proces medische gassen'!B115 -> Thuisleveringen | C22: ='proces medische gassen'!L115 -> 0 | D22: ='proces medische gassen'!M115 -> 0
A23: ='proces medische gassen'!A117 -> VIII | B23: ='proces medische gassen'!B117 -> Kwaliteit | C23: ='proces medische gassen'!L117 -> 0 | D23: ='proces medische gassen'!M117 -> 0 | H23: Copy Paste visible cells from questionnaire sheet | I23: Copy Paste visible cells from questionnaire sheet | J23: Copy Paste visible cells from questionnaire sheet | K23: Copy Paste visible cells from questionnaire sheet | L23: Copy Paste visible cells from questionnaire sheet
A24: ='proces medische gassen'!A120 -> a | B24: ='proces medische gassen'!B120 -> Algemeen | C24: ='proces medische gassen'!L120 -> 0 | D24: ='proces medische gassen'!M120 -> 0 | H24: Copy Paste visible cells from questionnaire sheet | I24: Copy Paste visible cells from questionnaire sheet | J24: Copy Paste visible cells from questionnaire sheet | K24: Copy Paste visible cells from questionnaire sheet | L24: Copy Paste visible cells from questionnaire sheet
A25: ='proces medische gassen'!A131 -> b | B25: ='proces medische gassen'!B131 -> Beheer van niet-conformiteiten, klachten en incidenten | C25: ='proces medische gassen'!L131 -> 0 | D25: ='proces medische gassen'!M131 -> 0 | H25: Copy Paste visible cells from questionnaire sheet | I25: Copy Paste visible cells from questionnaire sheet | J25: Copy Paste visible cells from questionnaire sheet | K25: Copy Paste visible cells from questionnaire sheet | L25: Copy Paste visible cells from questionnaire sheet
A26: ='proces medische gassen'!A143 -> IX | B26: ='proces medische gassen'!B143 -> Perslucht | C26: ='proces medische gassen'!L143 -> 0 | D26: ='proces medische gassen'!M143 -> 0 | H26: Copy Paste visible cells from questionnaire sheet | I26: Copy Paste visible cells from questionnaire sheet | J26: Copy Paste visible cells from questionnaire sheet | K26: Copy Paste visible cells from questionnaire sheet | L26: Copy Paste visible cells from questionnaire sheet
A27: ='proces medische gassen'!A173 -> X | B27: ='proces medische gassen'!B173 -> Vacuüm | C27: ='proces medische gassen'!L173 -> 0 | D27: ='proces medische gassen'!M173 -> 0 | H27: Copy Paste visible cells from questionnaire sheet | I27: Copy Paste visible cells from questionnaire sheet | J27: Copy Paste visible cells from questionnaire sheet | K27: Copy Paste visible cells from questionnaire sheet | L27: Copy Paste visible cells from questionnaire sheet
A50: Handtekeningen
A52: Hoofdapotheker | I52: Change name & signature
A55: Auditeur naam : | I55: Change name & signature
B59: MAEIA Medische Gassen Rapport
A86: Sterke punten
A87: 1
A88: 2
A89: 3
A90: 4
A91: 5
A92: 6
A93: Tekortkomingen niveau 1
A94: 1
A95: 2
A96: 3
A97: 4
A98: 5
A99: 6
A100: Verbeterpunten niveau 2
A101: 1
A102: 2
A103: 3
A104: 4
A105: 5
A106: 6
A107: Verbeterpunten niveau 3
A108: 1
A109: 2
A110: 3
A111: 4
A112: 5
A113: 6
A114: Observaties
A115: 1
A116: 2
A117: 3
A118: 4
A119: 5
A120: 6

Sheet actiepunten auditee
A3: Actiepunt | B3: Nummer | C3: ..… | D3: Oorsprong :
D4: o Tekortkoming niveau 1
D5: o Verbeterpunt niveau 2
D6: o Verbeterpunt niveau 3
D7: o Observatie
A8: Geaudit proces | B8: Medische gassen
A9: Auditdatum | B9: …../…../….. | D9: Auditor | E9: ……………………………………………
A10: Auditee | B10: ………………………………………………………………………………..
A11: Omschrijving van de tekortkoming / verbeterpunt / observatie
A12: Voorgestelde maatregel door de auditee | B12: Oorzaak
B15: Actie
B21: Verantwoordelijke
B23: Termijn
A26: Opvolgrapport
A27: (cumulatief)
A44: Conclusie

Sheet Mapping
B4: MAPPING TABLE | G4: points
B5: Base points | C5: Niveau | D5: Extra gewicht factor | E5: Antwoord | F5: Code | G5: Total | H5: Score | M5: Somme | P5: Speedometer | R5: Pointer
A6: Ja Groep | B6: 1 | C6: 3 | D6: X3 | E6: Ja | F6: =C6&D6&E6 -> 3X3Ja | G6: 3 | H6: 3 | L6: Ja | M6: =COUNTIF('proces medische gassen'!$G:$G,Mapping!$L6) -> 2 | P6: Start | Q6: 0 | R6: Value | S6: =+ROUND(M11/M10,2)*100 -> 100
A7: Ja Groep | B7: 1 | C7: 3 | D7: X2 | E7: Ja | F7: =C7&D7&E7 -> 3X2Ja | G7: 2 | H7: 2 | L7: Neen | M7: =COUNTIF('proces medische gassen'!$G:$G,Mapping!$L7) -> 1 | P7: Initial | Q7: 60 | R7: Pointer | S7: 1
A8: Ja Groep | B8: 1 | C8: 3 | D8: X1 | E8: Ja | F8: =C8&D8&E8 -> 3X1Ja | G8: 1 | H8: 1 | L8: NVT | M8: =COUNTIF('proces medische gassen'!$G:$G,Mapping!$L8) -> 1 | P8: Middle | Q8: 30 | R8: end | S8: =200-S7-S6 -> 99
A9: Ja Groep | B9: 1 | C9: 3 | D9: X0,33 | E9: Ja | F9: =C9&D9&E9 -> 3X0,33Ja | G9: =1/3 -> 0.33333333 | H9: =1/3 -> 0.33333333 | L9: Somme | M9: =SUM(M6:M8) -> 4 | P9: End | Q9: 10
A10: Ja Groep | B10: 1 | C10: 3 | D10: X0,66 | E10: Ja | F10: =C10&D10&E10 -> 3X0,66Ja | G10: =2/3 -> 0.66666667 | H10: =2/3 -> 0.66666667 | L10: Total | M10: ='proces medische gassen'!$L$3 -> 3 | P10: Max | Q10: 100
A11: Ja Groep | B11: 1 | C11: 3 | D11: X1 | E11: Ja | F11: =C11&D11&E11 -> 3X1Ja | G11: 1 | H11: 1 | L11: Score | M11: ='proces medische gassen'!$M$3 -> 3
A12: Ja Groep | B12: 3 | C12: 2 | D12: X3 | E12: Ja | F12: =C12&D12&E12 -> 2X3Ja | G12: 9 | H12: 9 | S12: ="Total Score : "&S6&"%" -> Total Score : 100%
A13: Ja Groep | B13: 3 | C13: 2 | D13: X2 | E13: Ja | F13: =C13&D13&E13 -> 2X2Ja | G13: 6 | H13: 6
A14: Ja Groep | B14: 3 | C14: 2 | D14: X1 | E14: Ja | F14: =C14&D14&E14 -> 2X1Ja | G14: 3 | H14: 3 | L14: ROUGE | M14: 60
A15: Ja Groep | B15: 3 | C15: 2 | D15: X0,33 | E15: Ja | F15: =C15&D15&E15 -> 2X0,33Ja | G15: 1 | H15: 1 | L15: ORANGE | M15: 30
A16: Ja Groep | B16: 3 | C16: 2 | D16: X0,66 | E16: Ja | F16: =C16&D16&E16 -> 2X0,66Ja | G16: 2 | H16: 2 | L16: VERT | M16: 10
A17: Ja Groep | B17: 3 | C17: 2 | D17: X1 | E17: Ja | F17: =C17&D17&E17 -> 2X1Ja | G17: 3 | H17: 3 | L17: Invisible | M17: 100
A18: Ja Groep | B18: 6 | C18: 1 | D18: X3 | E18: Ja | F18: =C18&D18&E18 -> 1X3Ja | G18: 18 | H18: 18
A19: Ja Groep | B19: 6 | C19: 1 | D19: X2 | E19: Ja | F19: =C19&D19&E19 -> 1X2Ja | G19: 12 | H19: 12
A20: Ja Groep | B20: 6 | C20: 1 | D20: X1 | E20: Ja | F20: =C20&D20&E20 -> 1X1Ja | G20: 6 | H20: 6 | L20: Aiguille | M20: =M7/M9 -> 0.25
A21: Ja Groep | B21: 6 | C21: 1 | D21: X0,33 | E21: Ja | F21: =C21&D21&E21 -> 1X0,33Ja | G21: 2 | H21: 2 | L21: Largeur | M21: 1
A22: Ja Groep | B22: 6 | C22: 1 | D22: X0,66 | E22: Ja | F22: =C22&D22&E22 -> 1X0,66Ja | G22: 4 | H22: 4 | L22: Invisible | M22: =SUM(M14:M17)-(M21+M20) -> 198.75
A23: Ja Groep | B23: 6 | C23: 1 | D23: X1 | E23: Ja | F23: =C23&D23&E23 -> 1X1Ja | G23: 6 | H23: 6
A24: Neen groep | B24: 1 | C24: 3 | D24: X3 | E24: Neen | F24: =C24&D24&E24 -> 3X3Neen | G24: 3 | H24: 0 | L24: RIEN
A25: Neen groep | B25: 1 | C25: 3 | D25: X2 | E25: Neen | F25: =C25&D25&E25 -> 3X2Neen | G25: 2 | H25: 0 | L25: Aiguille | M25: =ROUND(M20,0)&"%" -> 0%
A26: Neen groep | B26: 1 | C26: 3 | D26: X1 | E26: Neen | F26: =C26&D26&E26 -> 3X1Neen | G26: 1 | H26: 0 | L26: RIEN
A27: Neen groep | B27: 1 | C27: 3 | D27: X0,33 | E27: Neen | F27: =C27&D27&E27 -> 3X0,33Neen | G27: =1/3 -> 0.33333333 | H27: 0
A28: Neen groep | B28: 1 | C28: 3 | D28: X0,66 | E28: Neen | F28: =C28&D28&E28 -> 3X0,66Neen | G28: =2/3 -> 0.66666667 | H28: 0
A29: Neen groep | B29: 1 | C29: 3 | D29: X1 | E29: Neen | F29: =C29&D29&E29 -> 3X1Neen | G29: 1 | H29: 0
A30: Neen groep | B30: 3 | C30: 2 | D30: X3 | E30: Neen | F30: =C30&D30&E30 -> 2X3Neen | G30: 9 | H30: 0
A31: Neen groep | B31: 3 | C31: 2 | D31: X2 | E31: Neen | F31: =C31&D31&E31 -> 2X2Neen | G31: 6 | H31: 0
A32: Neen groep | B32: 3 | C32: 2 | D32: X1 | E32: Neen | F32: =C32&D32&E32 -> 2X1Neen | G32: 3 | H32: 0
A33: Neen groep | B33: 3 | C33: 2 | D33: X0,33 | E33: Neen | F33: =C33&D33&E33 -> 2X0,33Neen | G33: 1 | H33: 0
A34: Neen groep | B34: 3 | C34: 2 | D34: X0,66 | E34: Neen | F34: =C34&D34&E34 -> 2X0,66Neen | G34: 2 | H34: 0
A35: Neen groep | B35: 3 | C35: 2 | D35: X1 | E35: Neen | F35: =C35&D35&E35 -> 2X1Neen | G35: 3 | H35: 0
A36: Neen groep | B36: 6 | C36: 1 | D36: X3 | E36: Neen | F36: =C36&D36&E36 -> 1X3Neen | G36: 18 | H36: 0
A37: Neen groep | B37: 6 | C37: 1 | D37: X2 | E37: Neen | F37: =C37&D37&E37 -> 1X2Neen | G37: 12 | H37: 0
A38: Neen groep | B38: 6 | C38: 1 | D38: X1 | E38: Neen | F38: =C38&D38&E38 -> 1X1Neen | G38: 6 | H38: 0
A39: Neen groep | B39: 6 | C39: 1 | D39: X0,33 | E39: Neen | F39: =C39&D39&E39 -> 1X0,33Neen | G39: 2 | H39: 0
A40: Neen groep | B40: 6 | C40: 1 | D40: X0,66 | E40: Neen | F40: =C40&D40&E40 -> 1X0,66Neen | G40: 4 | H40: 0
... A59: NVT groep | B59: 6 | C59: 1 | D59: X1 | E59: NVT | F59: =C59&D59&E59 -> 1X1NVT | G59: 0 | H59: 0
