Workbook

Sheet algemene inleiding

Sheet handleiding
A2: Hoe gebruiken we de kwaliteitstool MAEIA?

Sheet expertenteam
A1: MET DANK AAN HET EXPERTENTEAM
A2: Stéphanie Wuyts
A3: Evelyne Swinnen
A4: Brusseel Marieke
A5: Jo Swartenbroekx
A6: An Heeremans
A7: Dominique Wouters

Sheet inleiding ..... 
A1: INLEIDING MEDISCHE GASSEN

Sheet inhoudstafel

Sheet proces medische gassen
A2: VERSIE 20231205 | B2: MEDISCHE GASSEN | C2: NIVEAU | D2: Referentie | E2: ter info: artikelnummer, §, pagina | G2: ANTWOORD | H2: OPMERKINGEN | J2: extra factor gewicht | L2: TOTAL | M2: SCORE
C3: 1 = WETGEVING (= 6 punten) | H3: OPMERKINGEN | L3: =SUBTOTAL(9,L7:L281) -> 3 | M3: =SUBTOTAL(9,M7:M281) -> 3
C4: 2 = RICHTLIJNEN, NORMEN, AANBEVELINGEN (= 3 punten) | G4: Ja
C5: 3 = GOOD PRACTICE (= 1 punt) | G5: Neen
G6: NVT | K6: Code | L6: Total | M6: Score
A7: I | B7: Kwaliteitsopvolging van het sterilisatieproces | C7: Progress :: | G7: =SUBTOTAL(3,G10:G12)/SUBTOTAL(3,C10:C12) -> 0.33333333 | L7: =SUBTOTAL(9,L10:L12) -> 3 | M7: =SUBTOTAL(9,M10:M12) -> 3
B8: AUDITVRAGEN
B9: Controleer altijd de documentatie en de toepassing op de werkvloer.
A10: 1 | B10: Werden alle genomen acties op basis van de tekortkomingen van niveau 1 die bij de vorige audit werden vastgesteld adequaat opgevolgd en met met succes geïmplementeerd? | C10: 3 | D10: Good Practice | G10: Ja | J10: X3 | K10: =C10&J10&G10 -> 3X3Ja | L10: =IFERROR(VLOOKUP($K10,Mapping!$F:$H,2,0),"") -> 3 | M10: =IFERROR(VLOOKUP($K10,Mapping!$F:$H,3,0),"") -> 3 | N10: =C10&G10 -> 3Ja
A11: 2 | B11: Werden alle genomen acties op basis van de verbeterpunten van niveau 2 die bij de vorige audit werden vastgesteld adequaat opgevolgd en met met succes geïmplementeerd? | C11: 3 | D11: Good Practice | J11: X2 | K11: =C11&J11&G11 -> 3X2 | L11: =IFERROR(VLOOKUP($K11,Mapping!F:H,2,0),"") | M11: =IFERROR(VLOOKUP($K11,Mapping!$F:$H,3,0),"") | N11: =C11&G11 -> 3
A12: 3 | B12: Werden alle genomen acties op basis van de verbeterpunten van niveau 3 die bij de vorige audit werden vastgesteld adequaat opgevolgd en met met succes geïmplementeerd? | C12: 3 | D12: Good Practice | J12: X1 | K12: =C12&J12&G12 -> 3X1 | L12: =IFERROR(VLOOKUP($K12,Mapping!F:H,2,0),"") | M12: =IFERROR(VLOOKUP($K12,Mapping!$F:$H,3,0),"") | N12: =C12&G12 -> 3
A13: II | B13: Algemeen | C13: Progress :: | G13: =SUBTOTAL(3,G16:G26)/(SUBTOTAL(3,C16:C26)-0) -> 0 | L13: =SUBTOTAL(9,L16:L26) -> 0 | M13: =SUBTOTAL(9,M16:M26) -> 0
B14: AUDITVRAGEN
B15: Controleer altijd de documentatie en de toepassing op de werkvloer.
A16: 1 | B16: Bestaat er in de apotheek een algemene procedure voor het beheer van de medische gassen? | C16: 1 | D16: KB 30 sept 2020 | E16: Bijlage 1.A | J16: X1 | K16: =C16&J16&G16 -> 1X1 | L16: =IFERROR(VLOOKUP($K16,Mapping!F:H,2,0),"") | M16: =IFERROR(VLOOKUP($K16,Mapping!$F:$H,3,0),"") | N16: =C16&G16 -> 1
A17: 2 | B17: Wordt de procedure voor het beheer van de medische gassen periodiek gëvalueerd en goedgekeurd? | C17: 1 | D17: KB 30 sept 2020 | E17: Bijlage 1.A | J17: X1 | K17: =C17&J17&G17 -> 1X1 | L17: =IFERROR(VLOOKUP($K17,Mapping!F:H,2,0),"") | M17: =IFERROR(VLOOKUP($K17,Mapping!$F:$H,3,0),"") | N17: =C17&G17 -> 1
A18: 3 | B18: Is er een SLA die de verantwoordelijkheden en de rollen van de verschillende diensten met betrekking tot de medische gassen goed definieert binnen het ziekenhuis (apotheek, technische dienst, biotechnische dienst, enz.)? | C18: 3 | D18: Good Practice | J18: X1 | K18: =C18&J18&G18 -> 3X1 | L18: =IFERROR(VLOOKUP($K18,Mapping!F:H,2,0),"") | M18: =IFERROR(VLOOKUP($K18,Mapping!$F:$H,3,0),"") | N18: =C18&G18 -> 3
A19: 4 | B19: Is in de procedure of in de SLA opgenomen wie de eindverantwoordelijke is voor medische gassen en wie voor de technische gassen? | C19: 3 | D19: Good Practice | J19: X1 | K19: =C19&J19&G19 -> 3X1 | L19: =IFERROR(VLOOKUP($K19,Mapping!F:H,2,0),"") | M19: =IFERROR(VLOOKUP($K19,Mapping!$F:$H,3,0),"") | N19: =C19&G19 -> 3
A20: 5 | B20: Is er een samenwerkingsovereenkomst met de leverancier aan wie er eventueel magistrale bereidingen worden uitbesteed? | C20: 1 | D20: KB 30 sept 2020 | E20: Art 22 §2 | J20: X1 | K20: =C20&J20&G20 -> 1X1 | L20: =IFERROR(VLOOKUP($K20,Mapping!F:H,2,0),"") | M20: =IFERROR(VLOOKUP($K20,Mapping!$F:$H,3,0),"") | N20: =C20&G20 -> 1
A21: 6 | B21: Bezorgt de leverancier aan wie een magistrale bereiding werd uitbesteed, een protocol aan de ziekenhuisapotheker? | C21: 1 | D21: KB 30 sept 2020 | E21: Art 22 §4 | J21: X1 | K21: =C21&J21&G21 -> 1X1 | L21: =IFERROR(VLOOKUP($K21,Mapping!F:H,2,0),"") | M21: =IFERROR(VLOOKUP($K21,Mapping!$F:$H,3,0),"") | N21: =C21&G21 -> 1
A22: 7 | B22: Bevat dit protocol de wettelijke verplichtingen ( naam verantwoordelijke bereidingsvergunning, datum bereiding, type bereiding, controles, vervaldatum, voorzorgsmaatregelen rond bewaring, manipulatie, gebruik en transport)? | C22: 1 | D22: KB 30 sept 2020 | E22: Art 22 §4 | J22: X1 | K22: =C22&J22&G22 -> 1X1 | L22: =IFERROR(VLOOKUP($K22,Mapping!F:H,2,0),"") | M22: =IFERROR(VLOOKUP($K22,Mapping!$F:$H,3,0),"") | N22: =C22&G22 -> 1
A23: 8 | B23: Is er een noodplan beschreven in geval van calamiteiten voor de medische gassen? | C23: 2 | D23: JCI: FMS 5 | J23: X1 | K23: =C23&J23&G23 -> 2X1 | L23: =IFERROR(VLOOKUP($K23,Mapping!F:H,2,0),"") | M23: =IFERROR(VLOOKUP($K23,Mapping!$F:$H,3,0),"") | N23: =C23&G23 -> 2
A24: 9 | B24: Krijgt het personeel dat werkt met de medische gassen een specifieke opleiding? | C24: 2 | D24: JCI: FMS - Qualicor | J24: X1 | K24: =C24&J24&G24 -> 2X1 | L24: =IFERROR(VLOOKUP($K24,Mapping!F:H,2,0),"") | M24: =IFERROR(VLOOKUP($K24,Mapping!$F:$H,3,0),"") | N24: =C24&G24 -> 2
A25: 10 | B25: Wordt deze opleiding periodiek herhaald? | C25: 3 | D25: Good Practice | J25: X1 | K25: =C25&J25&G25 -> 3X1 | L25: =IFERROR(VLOOKUP($K25,Mapping!F:H,2,0),"") | M25: =IFERROR(VLOOKUP($K25,Mapping!$F:$H,3,0),"") | N25: =C25&G25 -> 3
A26: 11 | B26: Worden de medische gassen in transportflessen door heen heel het proces getraceerd (bestelling, ontvangst, stockage op de verschillende plaatsen in het ziekenhuis, terugzending naar de leverancier)? | C26: 3 | D26: Good Practice | J26: X1 | K26: =C26&J26&G26 -> 3X1 | L26: =IFERROR(VLOOKUP($K26,Mapping!F:H,2,0),"") | M26: =IFERROR(VLOOKUP($K26,Mapping!$F:$H,3,0),"") | N26: =C26&G26 -> 3
A27: III | B27: Aankoop en ontvangst | C27: Progress :: | G27: =SUBTOTAL(3,G30:G59)/(SUBTOTAL(3,C30:C59)-3) -> 0 | L27: =SUBTOTAL(9,L30:L59) -> 0 | M27: =SUBTOTAL(9,M30:M59) -> 0
B28: AUDITVRAGEN
B29: Controleer altijd de documentatie en de toepassing op de werkvloer.
A30: a | B30: Algemeen | C30: Progress :: | G30: =SUBTOTAL(3,G31:G36)/SUBTOTAL(3,C31:C36) -> 0 | L30: =SUBTOTAL(9,L31:L36) -> 0 | M30: =SUBTOTAL(9,M31:M36) -> 0
A31: 1 | B31: Is er een door de apotheker die verantwoordelijk is voor de medische gassen goedgekeurde procedure voor de aankoop van de medische gassen? | C31: 1 | D31: KB 30 sept 2020 | E31: Bijlage 1 C.f | J31: X1 | K31: =C31&J31&G31 -> 1X1 | L31: =IFERROR(VLOOKUP($K31,Mapping!F:H,2,0),"") | M31: =IFERROR(VLOOKUP($K31,Mapping!$F:$H,3,0),"") | N31: =C31&G31 -> 1
A32: 2 | B32: Worden de overheidsopdrachten toegepast op de aankoop van de medische gassen? | C32: 1 | D32: Wet van 17 juni 2016 | J32: X1 | K32: =C32&J32&G32 -> 1X1 | L32: =IFERROR(VLOOKUP($K32,Mapping!F:H,2,0),"") | M32: =IFERROR(VLOOKUP($K32,Mapping!$F:$H,3,0),"") | N32: =C32&G32 -> 1
A33: 3 | B33: Is de apotheek betrokken bij de onderhandelingen volgens de overheidsopdrachten voor de aankoop van medische gassen, eventueel met de hulp van andere partners (technische dienst, aankoopdienst, enz.)? | C33: 3 | D33: Good Practice | J33: X1 | K33: =C33&J33&G33 -> 3X1 | L33: =IFERROR(VLOOKUP($K33,Mapping!F:H,2,0),"") | M33: =IFERROR(VLOOKUP($K33,Mapping!$F:$H,3,0),"") | N33: =C33&G33 -> 3
A34: 4 | B34: Voldoen de aangekochte medische gassen aan de Europese farmacopee en aan de andere normen waarmee eventueel rekening moet worden gehouden in het kader van de goede farmaceutische praktijken? | C34: 1 | D34: KB 30 sept 2020 | E34: Bijlage 1 C.f | J34: X1 | K34: =C34&J34&G34 -> 1X1 | L34: =IFERROR(VLOOKUP($K34,Mapping!F:H,2,0),"") | M34: =IFERROR(VLOOKUP($K34,Mapping!$F:$H,3,0),"") | N34: =C34&G34 -> 1
A35: 5 | B35: Is de ziekenhuisapotheker betrokken bij de opvolging van de aankoopcontracten van de medische gassen? | C35: 2 | D35: JCI: GLD 6-7 | J35: X1 | K35: =C35&J35&G35 -> 2X1 | L35: =IFERROR(VLOOKUP($K35,Mapping!F:H,2,0),"") | M35: =IFERROR(VLOOKUP($K35,Mapping!$F:$H,3,0),"") | N35: =C35&G35 -> 2
A36: 6 | B36: Is er een ontvangstprocedure opgesteld door de ziekenhuisapotheker voor de medische gassen? | C36: 3 | D36: Good Practice | J36: X1 | K36: =C36&J36&G36 -> 3X1 | L36: =IFERROR(VLOOKUP($K36,Mapping!F:H,2,0),"") | M36: =IFERROR(VLOOKUP($K36,Mapping!$F:$H,3,0),"") | N36: =C36&G36 -> 3
A37: b | B37: Medische gassen in bulk | C37: Progress :: | G37: =SUBTOTAL(3,G38:G48)/SUBTOTAL(3,C38:C48) -> 0 | L37: =SUBTOTAL(9,L38:L48) -> 0 | M37: =SUBTOTAL(9,M38:M48) -> 0
A38: 1 | B38: Worden alle medische gassen in bulk besteld door de apotheek? | C38: 1 | D38: KB 30 sept 2020 | E38: Bijlage 1 C.f | J38: X1 | K38: =C38&J38&G38 -> 1X1 | L38: =IFERROR(VLOOKUP($K38,Mapping!F:H,2,0),"") | M38: =IFERROR(VLOOKUP($K38,Mapping!$F:$H,3,0),"") | N38: =C38&G38 -> 1
A39: 2 | B39: Worden de bestellingen van medische gassen in bulk uitgevoerd door middel van telemetrie? | C39: 3 | D39: Good Practice | J39: X1 | K39: =C39&J39&G39 -> 3X1 | L39: =IFERROR(VLOOKUP($K39,Mapping!F:H,2,0),"") | M39: =IFERROR(VLOOKUP($K39,Mapping!$F:$H,3,0),"") | N39: =C39&G39 -> 3
A40: 3 | B40: Wordt het proces van ontvangst bij de levering uitgevoerd door correct opgeleid personeel ? | C40: 3 | D40: Good Practice | J40: X1 | K40: =C40&J40&G40 -> 3X1 | L40: =IFERROR(VLOOKUP($K40,Mapping!F:H,2,0),"") | M40: =IFERROR(VLOOKUP($K40,Mapping!$F:$H,3,0),"") | N40: =C40&G40 -> 3
A41: 4 | B41: Indien het personeel dat zorgt voor de ontvangst van de medische gassen niet behoort tot het personeel van de apotheek, is er dan een procedure die beschrijft wie deze personen zijn en hoe ze moeten werken? | C41: 1 | D41: KB 30 sept 2020 | E41: Bijlage C.b | J41: X1 | K41: =C41&J41&G41 -> 1X1 | L41: =IFERROR(VLOOKUP($K41,Mapping!F:H,2,0),"") | M41: =IFERROR(VLOOKUP($K41,Mapping!$F:$H,3,0),"") | N41: =C41&G41 -> 1
...

Sheet rapport
B1: MAEIA Medische Gassen Rapport
A3: Date : | I3: Adapt these cells
A4: Ziekenhuis : | I4: Adapt these cells
A5: Hoofdapotheker : | I5: Adapt these cells
A6: Auditeur naam : | I6: Adapt these cells
C7: Max | D7: Score
A8: Total score | C8: ='proces medische gassen'!L3 -> 3 | D8: ='proces medische gassen'!M3 -> 3 | K8: Make sure total is correct | L8: Make sure total is correct
A9: ='proces medische gassen'!A7 -> I | B9: ='proces medische gassen'!B7 -> Kwaliteitsopvolging van het sterilisatieproces | C9: ='proces medische gassen'!L7 -> 3 | D9: ='proces medische gassen'!M7 -> 3 | H9: Copy Paste visible cells from questionnaire sheet | I9: Copy Paste visible cells from questionnaire sheet | J9: Copy Paste visible cells from questionnaire sheet | K9: Copy Paste visible cells from questionnaire sheet | L9: Copy Paste visible cells from questionnaire sheet
A10: ='proces medische gassen'!A13 -> II | B10: ='proces medische gassen'!B13 -> Algemeen | C10: ='proces medische gassen'!L13 -> 0 | D10: ='proces medische gassen'!M13 -> 0 | H10: Copy Paste visible cells from questionnaire sheet | I10: Copy Paste visible cells from questionnaire sheet | J10: Copy Paste visible cells from questionnaire sheet | K10: Copy Paste visible cells from questionnaire sheet | L10: Copy Paste visible cells from questionnaire sheet
A11: ='proces medische gassen'!A27 -> III | B11: ='proces medische gassen'!B27 -> Aankoop en ontvangst | C11: ='proces medische gassen'!L27 -> 0 | D11: ='proces medische gassen'!M27 -> 0 | H11: Copy Paste visible cells from questionnaire sheet | I11: Copy Paste visible cells from questionnaire sheet | J11: Copy Paste visible cells from questionnaire sheet | K11: Copy Paste visible cells from questionnaire sheet | L11: Copy Paste visible cells from questionnaire sheet
A12: ='proces medische gassen'!A30 -> a | B12: ='proces medische gassen'!B30 -> Algemeen | C12: ='proces medische gassen'!L30 -> 0 | D12: ='proces medische gassen'!M30 -> 0 | H12: Copy Paste visible cells from questionnaire sheet | I12: Copy Paste visible cells from questionnaire sheet | J12: Copy Paste visible cells from questionnaire sheet | K12: Copy Paste visible cells from questionnaire sheet | L12: Copy Paste visible cells from questionnaire sheet
A13: ='proces medische gassen'!A37 -> b | B13: ='proces medische gassen'!B37 -> Medische gassen in bulk | C13: ='proces medische gassen'!L37 -> 0 | D13: ='proces medische gassen'!M37 -> 0 | H13: Copy Paste visible cells from questionnaire sheet | I13: Copy Paste visible cells from questionnaire sheet | J13: Copy Paste visible cells from questionnaire sheet | K13: Copy Paste visible cells from questionnaire sheet | L13: Copy Paste visible cells from questionnaire sheet
A14: ='proces medische gassen'!A49 -> c | B14: ='proces medische gassen'!B49 -> Medische gassen in transportflessen | C14: ='proces medische gassen'!L49 -> 0 | D14: ='proces medische gassen'!M49 -> 0 | H14: Copy Paste visible cells from questionnaire sheet | I14: Copy Paste visible cells from questionnaire sheet | J14: Copy Paste visible cells from questionnaire sheet | K14: Copy Paste visible cells from questionnaire sheet | L14: Copy Paste visible cells from questionnaire sheet
A15: ='proces medische gassen'!A60 -> IV | B15: ='proces medische gassen'!B60 -> Opslag | C15: ='proces medische gassen'!L60 -> 0 | D15: ='proces medische gassen'!M60 -> 0 | H15: Copy Paste visible cells from questionnaire sheet | I15: Copy Paste visible cells from questionnaire sheet | J15: Copy Paste visible cells from questionnaire sheet | K15: Copy Paste visible cells from questionnaire sheet | L15: Copy Paste visible cells from questionnaire sheet
A16: ='proces medische gassen'!A63 -> a | B16: ='proces medische gassen'!B63 -> Medische gassen in bulk | C16: ='proces medische gassen'!L63 -> 0 | D16: ='proces medische gassen'!M63 -> 0 | H16: Copy Paste visible cells from questionnaire sheet | I16: Copy Paste visible cells from questionnaire sheet | J16: Copy Paste visible cells from questionnaire sheet | K16: Copy Paste visible cells from questionnaire sheet | L16: Copy Paste visible cells from questionnaire sheet
A17: ='proces medische gassen'!A72 -> b | B17: ='proces medische gassen'!B72 -> Medische gassen in transportflessen | C17: ='proces medische gassen'!L72 -> 0 | D17: ='proces medische gassen'!M72 -> 0 | H17: Copy Paste visible cells from questionnaire sheet | I17: Copy Paste visible cells from questionnaire sheet | J17: Copy Paste visible cells from questionnaire sheet | K17: Copy Paste visible cells from questionnaire sheet | L17: Copy Paste visible cells from questionnaire sheet
A18: ='proces medische gassen'!A88 -> V | B18: ='proces medische gassen'!B88 -> Onderhoud | C18: ='proces medische gassen'!L88 -> 0 | D18: ='proces medische gassen'!M88 -> 0 | H18: Copy Paste visible cells from questionnaire sheet | I18: Copy Paste visible cells from questionnaire sheet | J18: Copy Paste visible cells from questionnaire sheet | K18: Copy Paste visible cells from questionnaire sheet | L18: Copy Paste visible cells from questionnaire sheet
A19: ='proces medische gassen'!A94 -> VI | B19: ='proces medische gassen'!B94 -> Voorraadbeheer | C19: ='proces medische gassen'!L94 -> 0 | D19: ='proces medische gassen'!M94 -> 0 | H19: Copy Paste visible cells from questionnaire sheet | I19: Copy Paste visible cells from questionnaire sheet | J19: Copy Paste visible cells from questionnaire sheet | K19: Copy Paste visible cells from questionnaire sheet | L19: Copy Paste visible cells from questionnaire sheet
A20: ='proces medische gassen'!A108 -> VII | B20: ='proces medische gassen'!B108 -> Distributie en transport | C20: ='proces medische gassen'!L108 -> 0 | D20: ='proces medische gassen'!M108 -> 0 | H20: Copy Paste visible cells from questionnaire sheet | I20: Copy Paste visible cells from questionnaire sheet | J20: Copy Paste visible cells from questionnaire sheet | K20: Copy Paste visible cells from questionnaire sheet | L20: Copy Paste visible cells from questionnaire sheet
A21: ='proces medische gassen'!A111 -> a | B21: ='proces medische gassen'!B111 -> Verdeling in het ziekenhuis | C21: ='proces medische gassen'!L111 -> 0 | D21: ='proces medische gassen'!M111 -> 0 | H21: Copy Paste visible cells from questionnaire sheet | I21: Copy Paste visible cells from questionnaire sheet | J21: Copy Paste visible cells from questionnaire sheet | K21: Copy Paste visible cells from questionnaire sheet | L21: Copy Paste visible cells from questionnaire sheet
A22: ='proces medische gassen'!A115 -> b | B22: ='proces medische gassen'!B115 -> Thuisleveringen | C22: ='proces medische gassen'!L115 -> 0 | D22: ='proces medische gassen'!M115 -> 0
A23: ='proces medische gassen'!A117 -> VIII | B23: ='proces medische gassen'!B117 -> Kwaliteit | C23: ='proces medische gassen'!L117 -> 0 | D23: ='proces medische gassen'!M117 -> 0 | H23: Copy Paste visible cells from questionnaire sheet | I23: Copy Paste visible cells from questionnaire sheet | J23: Copy Paste visible cells from questionnaire sheet | K23: Copy Paste visible cells from questionnaire sheet | L23: Copy Paste visible cells from questionnaire sheet
A24: ='proces medische gassen'!A120 -> a | B24: ='proces medische gassen'!B120 -> Algemeen | C24: ='proces medische gassen'!L120 -> 0 | D24: ='proces medische gassen'!M120 -> 0 | H24: Copy Paste visible cells from questionnaire sheet | I24: Copy Paste visible cells from questionnaire sheet | J24: Copy Paste visible cells from questionnaire sheet | K24: Copy Paste visible cells from questionnaire sheet | L24: Copy Paste visible cells from questionnaire sheet
A25: ='proces medische gassen'!A131 -> b | B25: ='proces medische gassen'!B131 -> Beheer van niet-conformiteiten, klachten en incidenten | C25: ='proces medische gassen'!L131 -> 0 | D25: ='proces medische gassen'!M131 -> 0 | H25: Copy Paste visible cells from questionnaire sheet | I25: Copy Paste visible cells from questionnaire sheet | J25: Copy Paste visible cells from questionnaire sheet | K25: Copy Paste visible cells from questionnaire sheet | L25: Copy Paste visible cells from questionnaire sheet
A26: ='proces medische gassen'!A143 -> IX | B26: ='proces medische gassen'!B143 -> Perslucht | C26: ='proces medische gassen'!L143 -> 0 | D26: ='proces medische gassen'!M143 -> 0 | H26: Copy Paste visible cells from questionnaire sheet | I26: Copy Paste visible cells from questionnaire sheet | J26: Copy Paste visible cells from questionnaire sheet | K26: Copy Paste visible cells from questionnaire sheet | L26: Copy Paste visible cells from questionnaire sheet
A27: ='proces medische gassen'!A173 -> X | B27: ='proces medische gassen'!B173 -> Vacuüm | C27: ='proces medische gassen'!L173 -> 0 | D27: ='proces medische gassen'!M173 -> 0 | H27: Copy Paste visible cells from questionnaire sheet | I27: Copy Paste visible cells from questionnaire sheet | J27: Copy Paste visible cells from questionnaire sheet | K27: Copy Paste visible cells from questionnaire sheet | L27: Copy Paste visible cells from questionnaire sheet
A50: Handtekeningen
A52: Hoofdapotheker | I52: Change name & signature
A55: Auditeur naam : | I55: Change name & signature
B59: MAEIA Medische Gassen Rapport
A86: Sterke punten
A87: 1
A88: 2
A89: 3
A90: 4
A91: 5
A92: 6
A93: Tekortkomingen niveau 1
A94: 1
A95: 2
...

Sheet actiepunten auditee
A3: Actiepunt | B3: Nummer | C3: ..… | D3: Oorsprong :
D4: o Tekortkoming niveau 1
D5: o Verbeterpunt niveau 2
D6: o Verbeterpunt niveau 3
D7: o Observatie
A8: Geaudit proces | B8: Medische gassen
A9: Auditdatum | B9: …../…../….. | D9: Auditor | E9: ……………………………………………
A10: Auditee | B10: ………………………………………………………………………………..
A11: Omschrijving van de tekortkoming / verbeterpunt / observatie
A12: Voorgestelde maatregel door de auditee | B12: Oorzaak
B15: Actie
B21: Verantwoordelijke
B23: Termijn
A26: Opvolgrapport
A27: (cumulatief)
A44: Conclusie

Sheet Mapping
B4: MAPPING TABLE | G4: points
B5: Base points | C5: Niveau | D5: Extra gewicht factor | E5: Antwoord | F5: Code | G5: Total | H5: Score | M5: Somme | P5: Speedometer | R5: Pointer
A6: Ja Groep | B6: 1 | C6: 3 | D6: X3 | E6: Ja | F6: =C6&D6&E6 -> 3X3Ja | G6: 3 | H6: 3 | L6: Ja | M6: =COUNTIF('proces medische gassen'!$G:$G,Mapping!$L6) -> 2 | P6: Start | Q6: 0 | R6: Value | S6: =+ROUND(M11/M10,2)*100 -> 100
A7: Ja Groep | B7: 1 | C7: 3 | D7: X2 | E7: Ja | F7: =C7&D7&E7 -> 3X2Ja | G7: 2 | H7: 2 | L7: Neen | M7: =COUNTIF('proces medische gassen'!$G:$G,Mapping!$L7) -> 1 | P7: Initial | Q7: 60 | R7: Pointer | S7: 1
A8: Ja Groep | B8: 1 | C8: 3 | D8: X1 | E8: Ja | F8: =C8&D8&E8 -> 3X1Ja | G8: 1 | H8: 1 | L8: NVT | M8: =COUNTIF('proces medische gassen'!$G:$G,Mapping!$L8) -> 1 | P8: Middle | Q8: 30 | R8: end | S8: =200-S7-S6 -> 99
A9: Ja Groep | B9: 1 | C9: 3 | D9: X0,33 | E9: Ja | F9: =C9&D9&E9 -> 3X0,33Ja | G9: =1/3 -> 0.33333333 | H9: =1/3 -> 0.33333333 | L9: Somme | M9: =SUM(M6:M8) -> 4 | P9: End | Q9: 10
A10: Ja Groep | B10: 1 | C10: 3 | D10: X0,66 | E10: Ja | F10: =C10&D10&E10 -> 3X0,66Ja | G10: =2/3 -> 0.66666667 | H10: =2/3 -> 0.66666667 | L10: Total | M10: ='proces medische gassen'!$L$3 -> 3 | P10: Max | Q10: 100
A11: Ja Groep | B11: 1 | C11: 3 | D11: X1 | E11: Ja | F11: =C11&D11&E11 -> 3X1Ja | G11: 1 | H11: 1 | L11: Score | M11: ='proces medische gassen'!$M$3 -> 3
A12: Ja Groep | B12: 3 | C12: 2 | D12: X3 | E12: Ja | F12: =C12&D12&E12 -> 2X3Ja | G12: 9 | H12: 9 | S12: ="Total Score : "&S6&"%" -> Total Score : 100%
A13: Ja Groep | B13: 3 | C13: 2 | D13: X2 | E13: Ja | F13: =C13&D13&E13 -> 2X2Ja | G13: 6 | H13: 6
A14: Ja Groep | B14: 3 | C14: 2 | D14: X1 | E14: Ja | F14: =C14&D14&E14 -> 2X1Ja | G14: 3 | H14: 3 | L14: ROUGE | M14: 60
A15: Ja Groep | B15: 3 | C15: 2 | D15: X0,33 | E15: Ja | F15: =C15&D15&E15 -> 2X0,33Ja | G15: 1 | H15: 1 | L15: ORANGE | M15: 30
A16: Ja Groep | B16: 3 | C16: 2 | D16: X0,66 | E16: Ja | F16: =C16&D16&E16 -> 2X0,66Ja | G16: 2 | H16: 2 | L16: VERT | M16: 10
A17: Ja Groep | B17: 3 | C17: 2 | D17: X1 | E17: Ja | F17: =C17&D17&E17 -> 2X1Ja | G17: 3 | H17: 3 | L17: Invisible | M17: 100
A18: Ja Groep | B18: 6 | C18: 1 | D18: X3 | E18: Ja | F18: =C18&D18&E18 -> 1X3Ja | G18: 18 | H18: 18
A19: Ja Groep | B19: 6 | C19: 1 | D19: X2 | E19: Ja | F19: =C19&D19&E19 -> 1X2Ja | G19: 12 | H19: 12
A20: Ja Groep | B20: 6 | C20: 1 | D20: X1 | E20: Ja | F20: =C20&D20&E20 -> 1X1Ja | G20: 6 | H20: 6 | L20: Aiguille | M20: =M7/M9 -> 0.25
A21: Ja Groep | B21: 6 | C21: 1 | D21: X0,33 | E21: Ja | F21: =C21&D21&E21 -> 1X0,33Ja | G21: 2 | H21: 2 | L21: Largeur | M21: 1
A22: Ja Groep | B22: 6 | C22: 1 | D22: X0,66 | E22: Ja | F22: =C22&D22&E22 -> 1X0,66Ja | G22: 4 | H22: 4 | L22: Invisible | M22: =SUM(M14:M17)-(M21+M20) -> 198.75
A23: Ja Groep | B23: 6 | C23: 1 | D23: X1 | E23: Ja | F23: =C23&D23&E23 -> 1X1Ja | G23: 6 | H23: 6
A24: Neen groep | B24: 1 | C24: 3 | D24: X3 | E24: Neen | F24: =C24&D24&E24 -> 3X3Neen | G24: 3 | H24: 0 | L24: RIEN
A25: Neen groep | B25: 1 | C25: 3 | D25: X2 | E25: Neen | F25: =C25&D25&E25 -> 3X2Neen | G25: 2 | H25: 0 | L25: Aiguille | M25: =ROUND(M20,0)&"%" -> 0%
A26: Neen groep | B26: 1 | C26: 3 | D26: X1 | E26: Neen | F26: =C26&D26&E26 -> 3X1Neen | G26: 1 | H26: 0 | L26: RIEN
A27: Neen groep | B27: 1 | C27: 3 | D27: X0,33 | E27: Neen | F27: =C27&D27&E27 -> 3X0,33Neen | G27: =1/3 -> 0.33333333 | H27: 0
A28: Neen groep | B28: 1 | C28: 3 | D28: X0,66 | E28: Neen | F28: =C28&D28&E28 -> 3X0,66Neen | G28: =2/3 -> 0.66666667 | H28: 0
A29: Neen groep | B29: 1 | C29: 3 | D29: X1 | E29: Neen | F29: =C29&D29&E29 -> 3X1Neen | G29: 1 | H29: 0
A30: Neen groep | B30: 3 | C30: 2 | D30: X3 | E30: Neen | F30: =C30&D30&E30 -> 2X3Neen | G30: 9 | H30: 0
A31: Neen groep | B31: 3 | C31: 2 | D31: X2 | E31: Neen | F31: =C31&D31&E31 -> 2X2Neen | G31: 6 | H31: 0
A32: Neen groep | B32: 3 | C32: 2 | D32: X1 | E32: Neen | F32: =C32&D32&E32 -> 2X1Neen | G32: 3 | H32: 0
A33: Neen groep | B33: 3 | C33: 2 | D33: X0,33 | E33: Neen | F33: =C33&D33&E33 -> 2X0,33Neen | G33: 1 | H33: 0
A34: Neen groep | B34: 3 | C34: 2 | D34: X0,66 | E34: Neen | F34: =C34&D34&E34 -> 2X0,66Neen | G34: 2 | H34: 0
A35: Neen groep | B35: 3 | C35: 2 | D35: X1 | E35: Neen | F35: =C35&D35&E35 -> 2X1Neen | G35: 3 | H35: 0
A36: Neen groep | B36: 6 | C36: 1 | D36: X3 | E36: Neen | F36: =C36&D36&E36 -> 1X3Neen | G36: 18 | H36: 0
A37: Neen groep | B37: 6 | C37: 1 | D37: X2 | E37: Neen | F37: =C37&D37&E37 -> 1X2Neen | G37: 12 | H37: 0
A38: Neen groep | B38: 6 | C38: 1 | D38: X1 | E38: Neen | F38: =C38&D38&E38 -> 1X1Neen | G38: 6 | H38: 0
A39: Neen groep | B39: 6 | C39: 1 | D39: X0,33 | E39: Neen | F39: =C39&D39&E39 -> 1X0,33Neen | G39: 2 | H39: 0
A40: Neen groep | B40: 6 | C40: 1 | D40: X0,66 | E40: Neen | F40: =C40&D40&E40 -> 1X0,66Neen | G40: 4 | H40: 0
... A59: NVT groep | B59: 6 | C59: 1 | D59: X1 | E59: NVT | F59: =C59&D59&E59 -> 1X1NVT | G59: 0 | H59: 0
