Workbook

Sheet algemene inleiding

Sheet handleiding
A2: Hoe gebruiken we de kwaliteitstool MAEIA?

Sheet expertenteam
A1: MET DANK AAN HET EXPERTENTEAM
A2: Annick Verbiest
A3: Janne Theuwissen
A4: Dominique Janssens
A5: Sophie Struyf
A6: Sarah de Mûelenaere
A7: Elke De Clerck
A8: Katrien Meeussen
A9: Hanne Tyberghien
A10: Nick Boeykens
A11: Barbara Thiessen
A12: Benoit Dulière
A13: Dominique Wouters

Sheet inleiding MHM 
A1: INLEIDING MEDISCHE HULPMIDDELEN

Sheet Inhoudstafel

Sheet proces CMM
A2: VERSIE 20240301 | B2: COMITE MEDISCHE MATERIALEN | C2: NIVEAU | D2: Referentie | E2: ter info: artikelnummer, §, pagina | G2: ANTWOORD | H2: OPMERKINGEN | J2: extra factor gewicht | L2: TOTAL | M2: SCORE
C3: 1 = WETGEVING (= 6 punten) | H3: OPMERKINGEN | L3: =SUBTOTAL(9,L7:L161) -> 3 | M3: =SUBTOTAL(9,M7:M161) -> 3
C4: 2 = RICHTLIJNEN, NORMEN, AANBEVELINGEN (= 3 punten) | G4: Ja
C5: 3 = GOOD PRACTICE (= 1 punt) | G5: Neen
G6: NVT | K6: Code | L6: Total | M6: Score
A7: I | B7: Kwaliteitsopvolging van het proces van het Comité Medische Materialen (CMM) | C7: Progress :: | G7: =SUBTOTAL(3,G10:G12)/SUBTOTAL(3,C10:C12) -> 0.33333333 | L7: =SUBTOTAL(9,L10:L12) -> 3 | M7: =SUBTOTAL(9,M10:M12) -> 3
B8: AUDITVRAGEN
B9: Controleer altijd de documentatie en de toepassing op de werkvloer.
A10: 1 | B10: Werden alle genomen acties op basis van de tekortkomingen van niveau 1 die bij de vorige audit werden vastgesteld adequaat opgevolgd en met met succes geïmplementeerd? | C10: 3 | D10: Good Practice | G10: Ja | J10: X3 | K10: =C10&J10&G10 -> 3X3Ja | L10: =IFERROR(VLOOKUP($K10,Mapping!$F:$H,2,0),"") -> 3 | M10: =IFERROR(VLOOKUP($K10,Mapping!$F:$H,3,0),"") -> 3 | N10: =C10&G10 -> 3Ja
A11: 2 | B11: Werden alle genomen acties op basis van de verbeterpunten van niveau 2 die bij de vorige audit werden vastgesteld adequaat opgevolgd en met met succes geïmplementeerd? | C11: 3 | D11: Good Practice | J11: X2 | K11: =C11&J11&G11 -> 3X2 | L11: =IFERROR(VLOOKUP($K11,Mapping!F:H,2,0),"") | M11: =IFERROR(VLOOKUP($K11,Mapping!$F:$H,3,0),"") | N11: =C11&G11 -> 3
A12: 3 | B12: Werden alle genomen acties op basis van de verbeterpunten van niveau 3 die bij de vorige audit werden vastgesteld adequaat opgevolgd en met met succes geïmplementeerd? | C12: 3 | D12: Good Practice | J12: X1 | K12: =C12&J12&G12 -> 3X1 | L12: =IFERROR(VLOOKUP($K12,Mapping!F:H,2,0),"") | M12: =IFERROR(VLOOKUP($K12,Mapping!$F:$H,3,0),"") | N12: =C12&G12 -> 3
A13: II | B13: Algemeen | C13: Progress :: | G13: =SUBTOTAL(3,G16:G33)/(SUBTOTAL(3,C16:C33)-0) -> 0 | L13: =SUBTOTAL(9,L16:L33) -> 0 | M13: =SUBTOTAL(9,M16:M33) -> 0
B14: AUDITVRAGEN
B15: Controleer altijd de documentatie en de toepassing op de werkvloer.
A16: 1 | B16: Is er een Comité voor Medisch Materiaal (CMM)? | C16: 1 | D16: KB 4 maart 1991 | E16: Art 26 §1 | J16: X1 | K16: =C16&J16&G16 -> 1X1 | L16: =IFERROR(VLOOKUP($K16,Mapping!F:H,2,0),"") | M16: =IFERROR(VLOOKUP($K16,Mapping!$F:$H,3,0),"") | N16: =C16&G16 -> 1
A17: 2 | B17: Is de samenstelling van het CMM conform de vigerende wetgeving? | C17: 1 | D17: KB 4 maart 1991 | E17: Art 26 §2 | J17: X1 | K17: =C17&J17&G17 -> 1X1 | L17: =IFERROR(VLOOKUP($K17,Mapping!F:H,2,0),"") | M17: =IFERROR(VLOOKUP($K17,Mapping!$F:$H,3,0),"") | N17: =C17&G17 -> 1
A18: 3 | B18: Zijn de taken van het CMM conform de vigerende wetgeving? | C18: 1 | D18: KB 4 maart 1991 | E18: Art 27 | J18: X1 | K18: =C18&J18&G18 -> 1X1 | L18: =IFERROR(VLOOKUP($K18,Mapping!F:H,2,0),"") | M18: =IFERROR(VLOOKUP($K18,Mapping!$F:$H,3,0),"") | N18: =C18&G18 -> 1
A19: 4 | B19: Is er in het CMM steeds minstens één (ziekenhuis)apotheker expert in medische materialen aanwezig? | C19: 1 | D19: KB 4 maart 1991 | E19: Art 28 | J19: X1 | K19: =C19&J19&G19 -> 1X1 | L19: =IFERROR(VLOOKUP($K19,Mapping!F:H,2,0),"") | M19: =IFERROR(VLOOKUP($K19,Mapping!$F:$H,3,0),"") | N19: =C19&G19 -> 1
A20: 5 | B20: Is er in het CMM steeds een (ziekenhuis)apotheker expert in steriele MHM aanwezig? | C20: 3 | D20: Good Practice | J20: X1 | K20: =C20&J20&G20 -> 3X1 | L20: =IFERROR(VLOOKUP($K20,Mapping!F:H,2,0),"") | M20: =IFERROR(VLOOKUP($K20,Mapping!$F:$H,3,0),"") | N20: =C20&G20 -> 3
A21: 6 | B21: Is er in het CMM steeds een (ziekenhuis)apotheker expert in implanteerbare MHM en invasieve MHM aanwezig? | C21: 3 | D21: Good Practice | J21: X1 | K21: =C21&J21&G21 -> 3X1 | L21: =IFERROR(VLOOKUP($K21,Mapping!F:H,2,0),"") | M21: =IFERROR(VLOOKUP($K21,Mapping!$F:$H,3,0),"") | N21: =C21&G21 -> 3
A22: 7 | B22: Is er in het CMM steeds een (ziekenhuis)apotheker expert in niet steriele implantaten en chirurgische herbruikbare invasieve MHM aanwezig? | C22: 3 | D22: Good Practice | J22: X1 | K22: =C22&J22&G22 -> 3X1 | L22: =IFERROR(VLOOKUP($K22,Mapping!F:H,2,0),"") | M22: =IFERROR(VLOOKUP($K22,Mapping!$F:$H,3,0),"") | N22: =C22&G22 -> 3
A23: 8 | B23: Wordt er een minimale aanwezigheid vereist van de leden om tot een goede besluitvorming te komen? | C23: 3 | D23: Good Practice | J23: X1 | K23: =C23&J23&G23 -> 3X1 | L23: =IFERROR(VLOOKUP($K23,Mapping!F:H,2,0),"") | M23: =IFERROR(VLOOKUP($K23,Mapping!$F:$H,3,0),"") | N23: =C23&G23 -> 3
A24: 9 | B24: Behandelt het CMM alle medische materialen die wettelijk vermeld zijn (steriele MHM, steriel injectiemateriaal, perfusiemateriaal, transfusiemateriaal, drainering, sondes, katheters, oplossingen voor irrigatie en concecntraten voor hemodialyse, implanten, MHM tandheelkunde (ook op maat), invasieve MHM, chirurgisch herbruikbare MHM, niet-steriele MHM die ook bestaan in steriele MHM zoals watten, verbanden en handschoenen,...)? | C24: 1 | D24: KB 4 maart 1991 | E24: Art 26 §3 | J24: X1 | K24: =C24&J24&G24 -> 1X1 | L24: =IFERROR(VLOOKUP($K24,Mapping!F:H,2,0),"") | M24: =IFERROR(VLOOKUP($K24,Mapping!$F:$H,3,0),"") | N24: =C24&G24 -> 1
A25: 10 | B25: Komt het CMM minstens 5 x jaar samen? | C25: 3 | D25: Good Practice | J25: X1 | K25: =C25&J25&G25 -> 3X1 | L25: =IFERROR(VLOOKUP($K25,Mapping!F:H,2,0),"") | M25: =IFERROR(VLOOKUP($K25,Mapping!$F:$H,3,0),"") | N25: =C25&G25 -> 3
A26: 11 | B26: Is er een gestructureerde dagorde met vaste onderwerpen voor het CMM? | C26: 3 | D26: Good Practice | J26: X1 | K26: =C26&J26&G26 -> 3X1 | L26: =IFERROR(VLOOKUP($K26,Mapping!F:H,2,0),"") | M26: =IFERROR(VLOOKUP($K26,Mapping!$F:$H,3,0),"") | N26: =C26&G26 -> 3
A27: 12 | B27: Kunnen de volledige verslagen van het CMM worden geraadpleegd uitsluitend door de leden van het CMM? | C27: 3 | D27: Good Practice | J27: X1 | K27: =C27&J27&G27 -> 3X1 | L27: =IFERROR(VLOOKUP($K27,Mapping!F:H,2,0),"") | M27: =IFERROR(VLOOKUP($K27,Mapping!$F:$H,3,0),"") | N27: =C27&G27 -> 3
A28: 13 | B28: Zijn de beslissingen van het CMM gemakkelijk toegankelijk voor alle zorgverstrekkers? | C28: 3 | D28: Good Practice | J28: X1 | K28: =C28&J28&G28 -> 3X1 | L28: =IFERROR(VLOOKUP($K28,Mapping!F:H,2,0),"") | M28: =IFERROR(VLOOKUP($K28,Mapping!$F:$H,3,0),"") | N28: =C28&G28 -> 3
A29: 14 | B29: Worden de notulen van het CMM bewaard? | C29: 3 | D29: Good Practice | J29: X1 | K29: =C29&J29&G29 -> 3X1 | L29: =IFERROR(VLOOKUP($K29,Mapping!F:H,2,0),"") | M29: =IFERROR(VLOOKUP($K29,Mapping!$F:$H,3,0),"") | N29: =C29&G29 -> 3
A30: 15 | B30: Is er en periodieke rapportering op het CMM van de materiovigilantie? | C30: 2 | D30: JCI | J30: X1 | K30: =C30&J30&G30 -> 2X1 | L30: =IFERROR(VLOOKUP($K30,Mapping!F:H,2,0),"") | M30: =IFERROR(VLOOKUP($K30,Mapping!$F:$H,3,0),"") | N30: =C30&G30 -> 2
A31: 17 | B31: Is er een vast agendapunt tijdens het CMM betreffende de rapportering van de incidenten met de MHM? | C31: 2 | D31: JCI | J31: X1 | K31: =C31&J31&G31 -> 2X1 | L31: =IFERROR(VLOOKUP($K31,Mapping!F:H,2,0),"") | M31: =IFERROR(VLOOKUP($K31,Mapping!$F:$H,3,0),"") | N31: =C31&G31 -> 2
A32: 18 | B32: Is het CMM betrokken bij de flow betreffende het escaleren van een incident met MHM? | C32: 3 | D32: Good Practice | J32: X1 | K32: =C32&J32&G32 -> 3X1 | L32: =IFERROR(VLOOKUP($K32,Mapping!F:H,2,0),"") | M32: =IFERROR(VLOOKUP($K32,Mapping!$F:$H,3,0),"") | N32: =C32&G32 -> 3
A33: 19 | B33: Zijn er subwerkgroepen die regelmatig rapporteren aan het CMM (bv. wondzorg, …)? | C33: 1 | D33: KB 4 maart 1991 | E33: Art 27 §1.8° | J33: X1 | K33: =C33&J33&G33 -> 1X1 | L33: =IFERROR(VLOOKUP($K33,Mapping!F:H,2,0),"") | M33: =IFERROR(VLOOKUP($K33,Mapping!$F:$H,3,0),"") | N33: =C33&G33 -> 1
A34: III | B34: Formularium | C34: Progress :: | G34: =SUBTOTAL(3,G37:G54)/(SUBTOTAL(3,C37:C54)-0) -> 0 | L34: =SUBTOTAL(9,L37:L54) -> 0 | M34: =SUBTOTAL(9,M37:M54) -> 0
B35: AUDITVRAGEN
B36: Controleer altijd de documentatie en de toepassing op de werkvloer.
A37: 1 | B37: Stellen de leden van het CMM het ziekenhuisformularium op voor de steriele medische hulpmiddelen? | C37: 1 | D37: KB 4 maart 1991 | E37: Art 27 §1.2° | J37: X1 | K37: =C37&J37&G37 -> 1X1 | L37: =IFERROR(VLOOKUP($K37,Mapping!F:H,2,0),"") | M37: =IFERROR(VLOOKUP($K37,Mapping!$F:$H,3,0),"") | N37: =C37&G37 -> 1
A38: 2 | B38: Stellen de leden het CMM het ziekenhuisformularium op voor de implanteerbare en invasieve MHM? | C38: 1 | D38: KB 4 maart 1991 | E38: Art 27 §1.2° | J38: X1 | K38: =C38&J38&G38 -> 1X1 | L38: =IFERROR(VLOOKUP($K38,Mapping!F:H,2,0),"") | M38: =IFERROR(VLOOKUP($K38,Mapping!$F:$H,3,0),"") | N38: =C38&G38 -> 1
A39: 3 | B39: Is de formulariumlijst van de steriele MHM op elk ogenblik raadpleegbaar voor alle zorgverstrekkers? | C39: 2 | D39: JCI | J39: X1 | K39: =C39&J39&G39 -> 2X1 | L39: =IFERROR(VLOOKUP($K39,Mapping!F:H,2,0),"") | M39: =IFERROR(VLOOKUP($K39,Mapping!$F:$H,3,0),"") | N39: =C39&G39 -> 2
A40: 4 | B40: Is de formulariumlijst van de implanteerbare en invasieve MHM op elk ogenblik raadpleegbaar voor alle zorgverstrekkers? | C40: 2 | D40: JCI | J40: X1 | K40: =C40&J40&G40 -> 2X1 | L40: =IFERROR(VLOOKUP($K40,Mapping!F:H,2,0),"") | M40: =IFERROR(VLOOKUP($K40,Mapping!$F:$H,3,0),"") | N40: =C40&G40 -> 2
A41: 5 | B41: Is het therapeutisch formularium elektronisch beschikbaar voor alle zorgverstrekkers? | C41: 3 | D41: Good Practice | J41: X1 | K41: =C41&J41&G41 -> 3X1 | L41: =IFERROR(VLOOKUP($K41,Mapping!F:H,2,0),"") | M41: =IFERROR(VLOOKUP($K41,Mapping!$F:$H,3,0),"") | N41: =C41&G41 -> 3
A42: 6 | B42: Bestaat er een aanvraagprocedure voor elk nieuw medisch hulpmiddel? | C42: 3 | D42: Good Practice | J42: X1 | K42: =C42&J42&G42 -> 3X1 | L42: =IFERROR(VLOOKUP($K42,Mapping!F:H,2,0),"") | M42: =IFERROR(VLOOKUP($K42,Mapping!$F:$H,3,0),"") | N42: =C42&G42 -> 3
A43: 7 | B43: Is er een gestandaardiseerd aanvraagformulier met vaste kwaliteitscriteria om een nieuwe behoefte kenbaar te maken? | C43: 3 | D43: Good Practice | J43: X1 | K43: =C43&J43&G43 -> 3X1 | L43: =IFERROR(VLOOKUP($K43,Mapping!F:H,2,0),"") | M43: =IFERROR(VLOOKUP($K43,Mapping!$F:$H,3,0),"") | N43: =C43&G43 -> 3
A44: 8 | B44: Is er een procedure voor indiening van een nieuwe aanvraag (tijdstip van indiening, wie kan indienen, welke gegevens, ….)? | C44: 3 | D44: Good Practice | J44: X1 | K44: =C44&J44&G44 -> 3X1 | L44: =IFERROR(VLOOKUP($K44,Mapping!F:H,2,0),"") | M44: =IFERROR(VLOOKUP($K44,Mapping!$F:$H,3,0),"") | N44: =C44&G44 -> 3
A45: 9 | B45: Wordt de aanvrager van een nieuw MHM uitgenodigd in het CMM om de aanvraag te motiveren? | C45: 3 | D45: Good Practice | J45: X1 | K45: =C45&J45&G45 -> 3X1 | L45: =IFERROR(VLOOKUP($K45,Mapping!F:H,2,0),"") | M45: =IFERROR(VLOOKUP($K45,Mapping!$F:$H,3,0),"") | N45: =C45&G45 -> 3
A46: 10 | B46: Wordt er zo nodig advies ingewonnen van subwerkgroepen (experten) alvorens een definitief besluit door het CMM wordt genomen? | C46: 3 | D46: Good Practice | J46: X1 | K46: =C46&J46&G46 -> 3X1 | L46: =IFERROR(VLOOKUP($K46,Mapping!F:H,2,0),"") | M46: =IFERROR(VLOOKUP($K46,Mapping!$F:$H,3,0),"") | N46: =C46&G46 -> 3
A47: 11 | B47: Maakt het CMM systematisch een keuze op basis van de verhouding prijs/kwaliteit/wetenschappelijk evidentie? | C47: 3 | D47: Good Practice | J47: X1 | K47: =C47&J47&G47 -> 3X1 | L47: =IFERROR(VLOOKUP($K47,Mapping!F:H,2,0),"") | M47: =IFERROR(VLOOKUP($K47,Mapping!$F:$H,3,0),"") | N47: =C47&G47 -> 3
A48: 12 | B48: Krijgt de aanvrager feedback over het feit of het gevraagde materiaal al of niet in het formularium werd opgenomen? | C48: 3 | D48: Good Practice | J48: X1 | K48: =C48&J48&G48 -> 3X1 | L48: =IFERROR(VLOOKUP($K48,Mapping!F:H,2,0),"") | M48: =IFERROR(VLOOKUP($K48,Mapping!$F:$H,3,0),"") | N48: =C48&G48 -> 3
A49: 13 | B49: Is er een noodprocedure voor urgente aanvragen? | C49: 3 | D49: Good Practice | J49: X1 | K49: =C49&J49&G49 -> 3X1 | L49: =IFERROR(VLOOKUP($K49,Mapping!F:H,2,0),"") | M49: =IFERROR(VLOOKUP($K49,Mapping!$F:$H,3,0),"") | N49: =C49&G49 -> 3
A50: 14 | B50: Worden de wijzigingen waartoe het CMM beslist correct aan alle betrokken personeelsleden van het ziekenhuis meegedeeld via een informatiedocument? | C50: 3 | D50: Good Practice | J50: X1 | K50: =C50&J50&G50 -> 3X1 | L50: =IFERROR(VLOOKUP($K50,Mapping!F:H,2,0),"") | M50: =IFERROR(VLOOKUP($K50,Mapping!$F:$H,3,0),"") | N50: =C50&G50 -> 3
A51: 15 | B51: Beschikt het CMM over een procedure om MHM te gebruiken buiten het formularium? | C51: 1 | D51: KB 4 maart 1991 | E51: Art 27§1 .2° | J51: X1 | K51: =C51&J51&G51 -> 1X1 | L51: =IFERROR(VLOOKUP($K51,Mapping!F:H,2,0),"") | M51: =IFERROR(VLOOKUP($K51,Mapping!$F:$H,3,0),"") | N51: =C51&G51 -> 1
A52: 16 | B52: Evalueert en actualiseert het CMM het formularium regelmatig? | C52: 2 | D52: JCI | J52: X1 | K52: =C52&J52&G52 -> 2X1 | L52: =IFERROR(VLOOKUP($K52,Mapping!F:H,2,0),"") | M52: =IFERROR(VLOOKUP($K52,Mapping!$F:$H,3,0),"") | N52: =C52&G52 -> 2
A53: 17 | B53: Is er opvolging met herevaluatie van de goedgekeurde aanvragen betreffende het verbruik? | C53: 3 | D53: Good Practice | J53: X1 | K53: =C53&J53&G53 -> 3X1 | L53: =IFERROR(VLOOKUP($K53,Mapping!F:H,2,0),"") | M53: =IFERROR(VLOOKUP($K53,Mapping!$F:$H,3,0),"") | N53: =C53&G53 -> 3
A54: 18 | B54: Wordt het attest van de Notified Body (CE-conformiteitsmarkering) opgevraagd en gecontroleerd volgens de klasse I+meting, klasse I+steriel, Klasse IIa, klasse Iib, klasse III en AIMD? | C54: 1 | D54: MDR -hoofdstuk conformiteit | J54: X1 | K54: =C54&J54&G54 -> 1X1 | L54: =IFERROR(VLOOKUP($K54,Mapping!F:H,2,0),"") | M54: =IFERROR(VLOOKUP($K54,Mapping!$F:$H,3,0),"") | N54: =C54&G54 -> 1
A55: IV | B55: Analyse | C55: Progress :: | G55: =SUBTOTAL(3,G58:G66)/(SUBTOTAL(3,C58:C66)-0) -> 0 | L55: =SUBTOTAL(9,L58:L66) -> 0 | M55: =SUBTOTAL(9,M58:M66) -> 0
B56: AUDITVRAGEN
B57: Controleer altijd de documentatie en de toepassing op de werkvloer.
A58: 1 | B58: Is er een intern rapport betreffende het verbruik van de MHM beschikbaar? | C58: 1 | D58: KB 4 maart 1991 | E58: Art 27 §1.5° | J58: X1 | K58: =C58&J58&G58 -> 1X1 | L58: =IFERROR(VLOOKUP($K58,Mapping!F:H,2,0),"") | M58: =IFERROR(VLOOKUP($K58,Mapping!$F:$H,3,0),"") | N58: =C58&G58 -> 1
A59: 2 | B59: Wordt dit intern rapport verspreid onder het medisch personeel? | C59: 1 | D59: KB 4 maart 1991 | E59: Art 27 §1.6° | J59: X1 | K59: =C59&J59&G59 -> 1X1 | L59: =IFERROR(VLOOKUP($K59,Mapping!F:H,2,0),"") | M59: =IFERROR(VLOOKUP($K59,Mapping!$F:$H,3,0),"") | N59: =C59&G59 -> 1
A60: 3 | B60: Analyseert het CMM het verbruik van de MHM in het ziekenhuis per categorie? | C60: 1 | D60: KB 4 maart 1991 | E60: Art 27 §1.5° | J60: X1 | K60: =C60&J60&G60 -> 1X1 | L60: =IFERROR(VLOOKUP($K60,Mapping!F:H,2,0),"") | M60: =IFERROR(VLOOKUP($K60,Mapping!$F:$H,3,0),"") | N60: =C60&G60 -> 1
A61: 4 | B61: Analyseert het CMM het verbruik van de MHM in het ziekenhuis per dienst? | C61: 1 | D61: KB 4 maart 1991 | E61: Art 27 §1.5° | J61: X1 | K61: =C61&J61&G61 -> 1X1 | L61: =IFERROR(VLOOKUP($K61,Mapping!F:H,2,0),"") | M61: =IFERROR(VLOOKUP($K61,Mapping!$F:$H,3,0),"") | N61: =C61&G61 -> 1
A62: 5 | B62: Analyseert het CMM het verbruik van de MHM in het ziekenhuis per arts? | C62: 1 | D62: KB 4 maart 1991 | E62: Art 27 §1.5° | J62: X1 | K62: =C62&J62&G62 -> 1X1 | L62: =IFERROR(VLOOKUP($K62,Mapping!F:H,2,0),"") | M62: =IFERROR(VLOOKUP($K62,Mapping!$F:$H,3,0),"") | N62: =C62&G62 -> 1
A63: 6 | B63: Analyseert het CMM de afwijkingen het verbruik van de MHM van vergelijkbare nationale of internationale referenties? | C63: 1 | D63: KB 4 maart 1991 | E63: Art 27 §1.5° | J63: X1 | K63: =C63&J63&G63 -> 1X1 | L63: =IFERROR(VLOOKUP($K63,Mapping!F:H,2,0),"") | M63: =IFERROR(VLOOKUP($K63,Mapping!$F:$H,3,0),"") | N63: =C63&G63 -> 1
A64: 7 | B64: Analyseert het CMM het verbruik van de MHM in correlatie met de desbetreffende diagnostische en therapeutische procedures? | C64: 1 | D64: KB 4 maart 1991 | E64: Art 27 §1.5° | J64: X1 | K64: =C64&J64&G64 -> 1X1 | L64: =IFERROR(VLOOKUP($K64,Mapping!F:H,2,0),"") | M64: =IFERROR(VLOOKUP($K64,Mapping!$F:$H,3,0),"") | N64: =C64&G64 -> 1
A65: 8 | B65: Neemt het CMM de nodige maatregelen op basis van deze analyses om het verbruik van de MHM te optimaliseren? | C65: 1 | D65: KB 4 maart 1991 | E65: Art 27 §1.5° | J65: X1 | K65: =C65&J65&G65 -> 1X1 | L65: =IFERROR(VLOOKUP($K65,Mapping!F:H,2,0),"") | M65: =IFERROR(VLOOKUP($K65,Mapping!$F:$H,3,0),"") | N65: =C65&G65 -> 1
A66: 9 | B66: Worden de genomen maatregelen opgevolgd en gedocumenteerd? | C66: 1 | D66: KB 4 maart 1991 | E66: Art 27 §1.6° | J66: X1 | K66: =C66&J66&G66 -> 1X1 | L66: =IFERROR(VLOOKUP($K66,Mapping!F:H,2,0),"") | M66: =IFERROR(VLOOKUP($K66,Mapping!$F:$H,3,0),"") | N66: =C66&G66 -> 1
A67: V | B67: Richtlijnen | C67: Progress :: | G67: =SUBTOTAL(3,G70:G75)/(SUBTOTAL(3,C70:C75)-9) -> 0 | L67: =SUBTOTAL(9,L70:L75) -> 0 | M67: =SUBTOTAL(9,M70:M75) -> 0
B68: AUDITVRAGEN
B69: Controleer altijd de documentatie en de toepassing op de werkvloer.
A70: 1 | B70: Stellen de leden van het CMM richtlijnen op voor het goede gebruik van de steriele MHM? | C70: 1 | D70: KB 4 maart 1991 | E70: Art 27 §1.4° | J70: X1 | K70: =C70&J70&G70 -> 1X1 | L70: =IFERROR(VLOOKUP($K70,Mapping!F:H,2,0),"") | M70: =IFERROR(VLOOKUP($K70,Mapping!$F:$H,3,0),"") | N70: =C70&G70 -> 1
A71: 2 | B71: Stellen de leden van het CMM richtlijnen op voor het goede gebruik van de implanteerbare en invasieve MHM? | C71: 1 | D71: KB 4 maart 1991 | E71: Art 27 §1.4° | J71: X1 | K71: =C71&J71&G71 -> 1X1 | L71: =IFERROR(VLOOKUP($K71,Mapping!F:H,2,0),"") | M71: =IFERROR(VLOOKUP($K71,Mapping!$F:$H,3,0),"") | N71: =C71&G71 -> 1
A72: 3 | B72: Worden de professionele gebruikers regelmatig geïnformeerd over de kostprijs van de MHM en de terugbetaling ervan? | C72: 1 | D72: KB 4 maart 1991 | E72: Art 27 §1.3° | J72: X1 | K72: =C72&J72&G72 -> 1X1 | L72: =IFERROR(VLOOKUP($K72,Mapping!F:H,2,0),"") | M72: =IFERROR(VLOOKUP($K72,Mapping!$F:$H,3,0),"") | N72: =C72&G72 -> 1
A73: 4 | B73: Worden de professionele gebruikers bij elke wijziging van terugbetalingsmodaliteiten geïnformeerd? | C73: 1 | D73: KB 4 maart 1991 | E73: Art 27 §1.3° | J73: X1 | K73: =C73&J73&G73 -> 1X1 | L73: =IFERROR(VLOOKUP($K73,Mapping!F:H,2,0),"") | M73: =IFERROR(VLOOKUP($K73,Mapping!$F:$H,3,0),"") | N73: =C73&G73 -> 1
A74: 5 | B74: Zijn er richtlijnen betreffende het hernieuwd gebruik van MHM? | C74: 1 | D74: KB 4 maart 1991 | E74: Art 27 §1.7° | J74: X1 | K74: =C74&J74&G74 -> 1X1 | L74: =IFERROR(VLOOKUP($K74,Mapping!F:H,2,0),"") | M74: =IFERROR(VLOOKUP($K74,Mapping!$F:$H,3,0),"") | N74: =C74&G74 -> 1
A75: 6 | B75: Is er een procedure die beschrijft wat er met de implantaatkaart die in de verpakking zit, moet gebeuren indien die beschikbaar is? | C75: 3 | D75: Good Practice | J75: X1 | K75: =C75&J75&G75 -> 3X1 | L75: =IFERROR(VLOOKUP($K75,Mapping!F:H,2,0),"") | M75: =IFERROR(VLOOKUP($K75,Mapping!$F:$H,3,0),"") | N75: =C75&G75 -> 3
O83: Do not delete
P86: 0-60
P87: 60-90
P88: 90-100
Q90: Ja | R90: Nee | S90: NVT
P91: Niveau 1 | Q91: =+N171 -> 0 | R91: =+N165 -> 0 | S91: =+N168 -> 0
P92: Niveau 2 | Q92: =+N172 -> 0 | R92: =+N166 -> 0 | S92: =+N169 -> 0
P93: Niveau 3 | Q93: =+N173 -> 1 | R93: =+N167 -> 0 | S93: =+N170 -> 0
Q95: Ja | R95: Nee | S95: NVT
P96: Niveau 1 | Q96: =IFERROR(Q91/SUM($Q91:$S91),0) -> 0 | R96: =IFERROR(R91/SUM($Q91:$S91),0) -> 0 | S96: =IFERROR(S91/SUM($Q91:$S91),0) -> 0
P97: Niveau 2 | Q97: =IFERROR(Q92/SUM($Q92:$S92),0) -> 0 | R97: =IFERROR(R92/SUM($Q92:$S92),0) -> 0 | S97: =IFERROR(S92/SUM($Q92:$S92),0) -> 0
P98: Niveau 3 | Q98: =IFERROR(Q93/SUM($Q93:$S93),0) -> 1 | R98: =IFERROR(R93/SUM($Q93:$S93),0) -> 0 | S98: =IFERROR(S93/SUM($Q93:$S93),0) -> 0
K165: 1 | L165: =COUNTIF($C$7:$C$161,$K165) -> 24 | M165: 1Neen | N165: =COUNTIF($N$7:$N$161,$M165) -> 0
K166: 2 | L166: =COUNTIF($C$7:$C$161,$K166) -> 5 | M166: 2Neen | N166: =COUNTIF($N$7:$N$161,$M166) -> 0
K167: 3 | L167: =COUNTIF($C$7:$C$161,$K167) -> 25 | M167: 3Neen | N167: =COUNTIF($N$7:$N$161,$M167) -> 0
K168: =K165 -> 1 | L168: =L165 -> 24 | M168: 1NVT | N168: =COUNTIF($N$7:$N$161,$M168) -> 0
K169: =K166 -> 2 | L169: =L166 -> 5 | M169: 2NVT | N169: =COUNTIF($N$7:$N$161,$M169) -> 0
K170: =K167 -> 3 | L170: =L167 -> 25 | M170: 3NVT | N170: =COUNTIF($N$7:$N$161,$M170) -> 0
K171: =K168 -> 1 | L171: =L168 -> 24 | M171: 1Ja | N171: =COUNTIF($N$7:$N$161,$M171) -> 0
K172: =K169 -> 2 | L172: =L169 -> 5 | M172: 2Ja | N172: =COUNTIF($N$7:$N$161,$M172) -> 0
K173: =K170 -> 3 | L173: =L170 -> 25 | M173: 3Ja | N173: =COUNTIF($N$7:$N$161,$M173) -> 1
K174: =K171 -> 1 | L174: =L171 -> 24 | M174: 1Total | N174: =+N165+N168+N171 -> 0
K175: =K172 -> 2 | L175: =L172 -> 5 | M175: 2Total | N175: =+N166+N169+N172 -> 0
K176: =K173 -> 3 | L176: =L173 -> 25 | M176: 3Total | N176: =+N167+N170+N173 -> 1
K180: Wordt er jaarlijks een controle van de stoomkwaliteit uitgevoerd?
K181: Wordt er halfjaarlijks een controle van de stoomkwaliteit uitgevoerd?
...

Sheet rapport
B1: MAEIA Rapport CMM
A3: Date : | I3: Adapt these cells
A4: Ziekenhuis : | I4: Adapt these cells
A5: Hoofdapotheker : | I5: Adapt these cells
A6: Auditeur naam : | I6: Adapt these cells
C7: Max | D7: Score
A8: Total score | C8: ='proces CMM'!L3 -> 3 | D8: ='proces CMM'!M3 -> 3 | K8: Make sure total is correct | L8: Make sure total is correct
A9: ='proces CMM'!A7 -> I | B9: ='proces CMM'!B7 -> Kwaliteitsopvolging van het proces van het Comité Medische Materialen (CMM) | C9: ='proces CMM'!L7 -> 3 | D9: ='proces CMM'!M7 -> 3 | H9: Copy Paste visible cells from questionnaire sheet | I9: Copy Paste visible cells from questionnaire sheet | J9: Copy Paste visible cells from questionnaire sheet | K9: Copy Paste visible cells from questionnaire sheet | L9: Copy Paste visible cells from questionnaire sheet
A10: ='proces CMM'!A13 -> II | B10: ='proces CMM'!B13 -> Algemeen | C10: ='proces CMM'!L13 -> 0 | D10: ='proces CMM'!M13 -> 0 | H10: Copy Paste visible cells from questionnaire sheet | I10: Copy Paste visible cells from questionnaire sheet | J10: Copy Paste visible cells from questionnaire sheet | K10: Copy Paste visible cells from questionnaire sheet | L10: Copy Paste visible cells from questionnaire sheet
A11: ='proces CMM'!A34 -> III | B11: ='proces CMM'!B34 -> Formularium | C11: ='proces CMM'!L34 -> 0 | D11: ='proces CMM'!M34 -> 0 | H11: Copy Paste visible cells from questionnaire sheet | I11: Copy Paste visible cells from questionnaire sheet | J11: Copy Paste visible cells from questionnaire sheet | K11: Copy Paste visible cells from questionnaire sheet | L11: Copy Paste visible cells from questionnaire sheet
A12: ='proces CMM'!A55 -> IV | B12: ='proces CMM'!B55 -> Analyse | C12: ='proces CMM'!L55 -> 0 | D12: ='proces CMM'!M55 -> 0 | H12: Copy Paste visible cells from questionnaire sheet | I12: Copy Paste visible cells from questionnaire sheet | J12: Copy Paste visible cells from questionnaire sheet | K12: Copy Paste visible cells from questionnaire sheet | L12: Copy Paste visible cells from questionnaire sheet
A13: ='proces CMM'!A67 -> V | B13: ='proces CMM'!B67 -> Richtlijnen | C13: ='proces CMM'!L67 -> 0 | D13: ='proces CMM'!M67 -> 0 | H13: Copy Paste visible cells from questionnaire sheet | I13: Copy Paste visible cells from questionnaire sheet | J13: Copy Paste visible cells from questionnaire sheet | K13: Copy Paste visible cells from questionnaire sheet | L13: Copy Paste visible cells from questionnaire sheet
A36: Handtekeningen
A38: Hoofdapotheker | I38: Change name & signature
A41: Auditeur naam : | I41: Change name & signature
B45: MAEIA Rapport CMM
A72: Sterke punten
A73: 1
A74: 2
A75: 3
A76: 4
A77: 5
A78: 6
A79: Tekortkomingen niveau 1
A80: 1
A81: 2
A82: 3
A83: 4
A84: 5
A85: 6
A86: Verbeterpunten niveau 2
A87: 1
A88: 2
A89: 3
A90: 4
A91: 5
A92: 6
A93: Verbeterpunten niveau 3
A94: 1
A95: 2
A96: 3
A97: 4
A98: 5
A99: 6
A100: Observaties
A101: 1
A102: 2
A103: 3
A104: 4
A105: 5
A106: 6

Sheet actiepunten auditee
A3: Actiepunt | B3: Nummer | C3: ..… | D3: Oorsprong :
D4: o Tekortkoming niveau 1
D5: o Verbeterpunt niveau 2
D6: o Verbeterpunt niveau 3
D7: o Observatie
A8: Geaudit proces | B8: proces CMM
A9: Auditdatum | B9: …../…../….. | D9: Auditor | E9: ……………………………………………
A10: Auditee | B10: ………………………………………………………………………………..
A11: Omschrijving van de tekortkoming / verbeterpunt / observatie
A12: Voorgestelde maatregel door de auditee | B12: Oorzaak
B15: Actie
B21: Verantwoordelijke
B23: Termijn
A26: Opvolgrapport
A27: (cumulatief)
A44: Conclusie

Sheet Mapping
B4: MAPPING TABLE | G4: points
B5: Base points | C5: Niveau | D5: Extra gewicht factor | E5: Antwoord | F5: Code | G5: Total | H5: Score | M5: Somme | P5: Speedometer | R5: Pointer
A6: Ja Groep | B6: 1 | C6: 3 | D6: X3 | E6: Ja | F6: =C6&D6&E6 -> 3X3Ja | G6: 3 | H6: 3 | L6: Ja | M6: =COUNTIF('proces CMM'!$G:$G,Mapping!$L6) -> 2 | P6: Start | Q6: 0 | R6: Value | S6: =+ROUND(M11/M10,2)*100 -> 100
A7: Ja Groep | B7: 1 | C7: 3 | D7: X2 | E7: Ja | F7: =C7&D7&E7 -> 3X2Ja | G7: 2 | H7: 2 | L7: Neen | M7: =COUNTIF('proces CMM'!$G:$G,Mapping!$L7) -> 1 | P7: Initial | Q7: 60 | R7: Pointer | S7: 1
A8: Ja Groep | B8: 1 | C8: 3 | D8: X1 | E8: Ja | F8: =C8&D8&E8 -> 3X1Ja | G8: 1 | H8: 1 | L8: NVT | M8: =COUNTIF('proces CMM'!$G:$G,Mapping!$L8) -> 1 | P8: Middle | Q8: 30 | R8: end | S8: =200-S7-S6 -> 99
A9: Ja Groep | B9: 1 | C9: 3 | D9: X0,33 | E9: Ja | F9: =C9&D9&E9 -> 3X0,33Ja | G9: =1/3 -> 0.33333333 | H9: =1/3 -> 0.33333333 | L9: Somme | M9: =SUM(M6:M8) -> 4 | P9: End | Q9: 10
A10: Ja Groep | B10: 1 | C10: 3 | D10: X0,66 | E10: Ja | F10: =C10&D10&E10 -> 3X0,66Ja | G10: =2/3 -> 0.66666667 | H10: =2/3 -> 0.66666667 | L10: Total | M10: ='proces CMM'!$L$3 -> 3 | P10: Max | Q10: 100
A11: Ja Groep | B11: 1 | C11: 3 | D11: X1 | E11: Ja | F11: =C11&D11&E11 -> 3X1Ja | G11: 1 | H11: 1 | L11: Score | M11: ='proces CMM'!$M$3 -> 3
A12: Ja Groep | B12: 3 | C12: 2 | D12: X3 | E12: Ja | F12: =C12&D12&E12 -> 2X3Ja | G12: 9 | H12: 9 | S12: ="Total Score : "&S6&"%" -> Total Score : 100%
A13: Ja Groep | B13: 3 | C13: 2 | D13: X2 | E13: Ja | F13: =C13&D13&E13 -> 2X2Ja | G13: 6 | H13: 6
A14: Ja Groep | B14: 3 | C14: 2 | D14: X1 | E14: Ja | F14: =C14&D14&E14 -> 2X1Ja | G14: 3 | H14: 3 | L14: ROUGE | M14: 60
A15: Ja Groep | B15: 3 | C15: 2 | D15: X0,33 | E15: Ja | F15: =C15&D15&E15 -> 2X0,33Ja | G15: 1 | H15: 1 | L15: ORANGE | M15: 30
A16: Ja Groep | B16: 3 | C16: 2 | D16: X0,66 | E16: Ja | F16: =C16&D16&E16 -> 2X0,66Ja | G16: 2 | H16: 2 | L16: VERT | M16: 10
A17: Ja Groep | B17: 3 | C17: 2 | D17: X1 | E17: Ja | F17: =C17&D17&E17 -> 2X1Ja | G17: 3 | H17: 3 | L17: Invisible | M17: 100
A18: Ja Groep | B18: 6 | C18: 1 | D18: X3 | E18: Ja | F18: =C18&D18&E18 -> 1X3Ja | G18: 18 | H18: 18
A19: Ja Groep | B19: 6 | C19: 1 | D19: X2 | E19: Ja | F19: =C19&D19&E19 -> 1X2Ja | G19: 12 | H19: 12
A20: Ja Groep | B20: 6 | C20: 1 | D20: X1 | E20: Ja | F20: =C20&D20&E20 -> 1X1Ja | G20: 6 | H20: 6 | L20: Aiguille | M20: =M7/M9 -> 0.25
A21: Ja Groep | B21: 6 | C21: 1 | D21: X0,33 | E21: Ja | F21: =C21&D21&E21 -> 1X0,33Ja | G21: 2 | H21: 2 | L21: Largeur | M21: 1
A22: Ja Groep | B22: 6 | C22: 1 | D22: X0,66 | E22: Ja | F22: =C22&D22&E22 -> 1X0,66Ja | G22: 4 | H22: 4 | L22: Invisible | M22: =SUM(M14:M17)-(M21+M20) -> 198.75
A23: Ja Groep | B23: 6 | C23: 1 | D23: X1 | E23: Ja | F23: =C23&D23&E23 -> 1X1Ja | G23: 6 | H23: 6
A24: Neen groep | B24: 1 | C24: 3 | D24: X3 | E24: Neen | F24: =C24&D24&E24 -> 3X3Neen | G24: 3 | H24: 0 | L24: RIEN
A25: Neen groep | B25: 1 | C25: 3 | D25: X2 | E25: Neen | F25: =C25&D25&E25 -> 3X2Neen | G25: 2 | H25: 0 | L25: Aiguille | M25: =ROUND(M20,0)&"%" -> 0%
A26: Neen groep | B26: 1 | C26: 3 | D26: X1 | E26: Neen | F26: =C26&D26&E26 -> 3X1Neen | G26: 1 | H26: 0 | L26: RIEN
A27: Neen groep | B27: 1 | C27: 3 | D27: X0,33 | E27: Neen | F27: =C27&D27&E27 -> 3X0,33Neen | G27: =1/3 -> 0.33333333 | H27: 0
A28: Neen groep | B28: 1 | C28: 3 | D28: X0,66 | E28: Neen | F28: =C28&D28&E28 -> 3X0,66Neen | G28: =2/3 -> 0.66666667 | H28: 0
A29: Neen groep | B29: 1 | C29: 3 | D29: X1 | E29: Neen | F29: =C29&D29&E29 -> 3X1Neen | G29: 1 | H29: 0
A30: Neen groep | B30: 3 | C30: 2 | D30: X3 | E30: Neen | F30: =C30&D30&E30 -> 2X3Neen | G30: 9 | H30: 0
A31: Neen groep | B31: 3 | C31: 2 | D31: X2 | E31: Neen | F31: =C31&D31&E31 -> 2X2Neen | G31: 6 | H31: 0
A32: Neen groep | B32: 3 | C32: 2 | D32: X1 | E32: Neen | F32: =C32&D32&E32 -> 2X1Neen | G32: 3 | H32: 0
A33: Neen groep | B33: 3 | C33: 2 | D33: X0,33 | E33: Neen | F33: =C33&D33&E33 -> 2X0,33Neen | G33: 1 | H33: 0
A34: Neen groep | B34: 3 | C34: 2 | D34: X0,66 | E34: Neen | F34: =C34&D34&E34 -> 2X0,66Neen | G34: 2 | H34: 0
A35: Neen groep | B35: 3 | C35: 2 | D35: X1 | E35: Neen | F35: =C35&D35&E35 -> 2X1Neen | G35: 3 | H35: 0
A36: Neen groep | B36: 6 | C36: 1 | D36: X3 | E36: Neen | F36: =C36&D36&E36 -> 1X3Neen | G36: 18 | H36: 0
A37: Neen groep | B37: 6 | C37: 1 | D37: X2 | E37: Neen | F37: =C37&D37&E37 -> 1X2Neen | G37: 12 | H37: 0
A38: Neen groep | B38: 6 | C38: 1 | D38: X1 | E38: Neen | F38: =C38&D38&E38 -> 1X1Neen | G38: 6 | H38: 0
A39: Neen groep | B39: 6 | C39: 1 | D39: X0,33 | E39: Neen | F39: =C39&D39&E39 -> 1X0,33Neen | G39: 2 | H39: 0
A40: Neen groep | B40: 6 | C40: 1 | D40: X0,66 | E40: Neen | F40: =C40&D40&E40 -> 1X0,66Neen | G40: 4 | H40: 0
... A59: NVT groep | B59: 6 | C59: 1 | D59: X1 | E59: NVT | F59: =C59&D59&E59 -> 1X1NVT | G59: 0 | H59: 0
