Workbook

Sheet algemene inleiding

Sheet inleiding radiofarmacie
A1: INLEIDING RADIOFARMACIE

Sheet expertenteam
A1: MET DANK AAN HET EXPERTENTEAM
A2: Vicky Caveliers
A3: Pieter-Jan De Jonghe
A4: Astrid Sterckx
A5: Lieselotte Moerman
A6: Dominique Vanderghinste
A7: Nele Cromphout
A8: Kim Serdons
A9: Amandine Louppe
A10: Muriel Bary

Sheet handleiding
A2: Hoe gebruiken we de kwaliteitstool MAEIA?

Sheet inhoudstafel

Sheet proces radiofarmacie
A2: VERSIE 20230701 | B2: RADIOFARMACIE | C2: NIVEAU | D2: Referentie | E2: ter info: artikelnummer, §, pagina | G2: ANTWOORD | H2: OPMERKINGEN | J2: extra factor gewicht | L2: TOTAL | M2: SCORE
C3: 1 = WETGEVING (= 6 punten) | H3: OPMERKINGEN | L3: =SUBTOTAL(9,L7:L234) -> 3 | M3: =SUBTOTAL(9,M7:M234) -> 3
C4: 2 = RICHTLIJNEN, NORMEN, AANBEVELINGEN (= 3 punten) | G4: Ja
C5: 3 = GOOD PRACTICE (= 1 punt) | G5: Neen
G6: NVT | K6: Code | L6: Total | M6: Score
A7: I | B7: Kwaliteitsopvolging van het radiofarmacieproces | C7: Progress :: | G7: =SUBTOTAL(3,G10:G12)/SUBTOTAL(3,C10:C12) -> 0.33333333 | L7: =SUBTOTAL(9,L10:L12) -> 3 | M7: =SUBTOTAL(9,M10:M12) -> 3
B8: AUDITVRAGEN
B9: Controleer altijd de documentatie en de toepassing op de werkvloer.
A10: 1 | B10: Werden alle genomen acties op basis van de tekortkomingen van niveau 1 die bij de vorige audit werden vastgesteld adequaat opgevolgd en met met succes geïmplementeerd? | C10: 3 | D10: Good Practice | G10: Ja | J10: X3 | K10: =C10&J10&G10 -> 3X3Ja | L10: =IFERROR(VLOOKUP($K10,Mapping!$F:$H,2,0),"") -> 3 | M10: =IFERROR(VLOOKUP($K10,Mapping!$F:$H,3,0),"") -> 3 | N10: =C10&G10 -> 3Ja
A11: 2 | B11: Werden alle genomen acties op basis van de verbeterpunten van niveau 2 die bij de vorige audit werden vastgesteld adequaat opgevolgd en met met succes geïmplementeerd? | C11: 3 | D11: Good Practice | J11: X2 | K11: =C11&J11&G11 -> 3X2 | L11: =IFERROR(VLOOKUP($K11,Mapping!F:H,2,0),"") | M11: =IFERROR(VLOOKUP($K11,Mapping!$F:$H,3,0),"") | N11: =C11&G11 -> 3
A12: 3 | B12: Werden alle genomen acties op basis van de verbeterpunten van niveau 3 die bij de vorige audit werden vastgesteld adequaat opgevolgd en met met succes geïmplementeerd? | C12: 3 | D12: Good Practice | J12: X1 | K12: =C12&J12&G12 -> 3X1 | L12: =IFERROR(VLOOKUP($K12,Mapping!F:H,2,0),"") | M12: =IFERROR(VLOOKUP($K12,Mapping!$F:$H,3,0),"") | N12: =C12&G12 -> 3
A13: II | B13: Algemeen | C13: Progress :: | G13: =SUBTOTAL(3,G16:G28)/(SUBTOTAL(3,C16:C28)-3) -> 0 | L13: =SUBTOTAL(9,L16:L28) -> 0 | M13: =SUBTOTAL(9,M16:M28) -> 0
B14: AUDITVRAGEN
B15: Controleer altijd de documentatie en de toepassing op de werkvloer.
A16: 1 | B16: Bestaat er een algemene procedure betreffende het beheer en organisatie voor de bereiding van radiofarmaca? | C16: 1 | D16: KB 20 juli 2001 ARBIS | E16: Art 51 | J16: X1 | K16: =C16&J16&G16 -> 1X1 | L16: =IFERROR(VLOOKUP($K16,Mapping!F:H,2,0),"") | M16: =IFERROR(VLOOKUP($K16,Mapping!$F:$H,3,0),"") | N16: =C16&G16 -> 1
A17: 2 | B17: Wordt deze procedure gevalideerd door het diensthoofd apotheek of radiofarmaceut? | C17: 1 | D17: KB 30 sept 2020 | E17: Bijlage I A | J17: X1 | K17: =C17&J17&G17 -> 1X1 | L17: =IFERROR(VLOOKUP($K17,Mapping!F:H,2,0),"") | M17: =IFERROR(VLOOKUP($K17,Mapping!$F:$H,3,0),"") | N17: =C17&G17 -> 1
A18: 3 | B18: Is de procedure beschikbaar voor beide diensthoofden (ziekenhuisapotheek - dienst Nucleaire geneeskunde) | C18: 3 | D18: Good Practice | J18: X1 | K18: =C18&J18&G18 -> 3X1 | L18: =IFERROR(VLOOKUP($K18,Mapping!F:H,2,0),"") | M18: =IFERROR(VLOOKUP($K18,Mapping!$F:$H,3,0),"") | N18: =C18&G18 -> 3
A19: 4 | B19: Bestaat er een procedure voor de verwijdering van radioactief afval? | C19: 1 | D19: KB 20 juli 2001 ARBIS | E19: Art 34 | J19: X1 | K19: =C19&J19&G19 -> 1X1 | L19: =IFERROR(VLOOKUP($K19,Mapping!F:H,2,0),"") | M19: =IFERROR(VLOOKUP($K19,Mapping!$F:$H,3,0),"") | N19: =C19&G19 -> 1
A20: 5 | B20: Bestaat er een procedure in geval van radioactieve contaminatie? | C20: 1 | D20: KB 20 juli 2001 ARBIS | E20: Art 23 | J20: X1 | K20: =C20&J20&G20 -> 1X1 | L20: =IFERROR(VLOOKUP($K20,Mapping!F:H,2,0),"") | M20: =IFERROR(VLOOKUP($K20,Mapping!$F:$H,3,0),"") | N20: =C20&G20 -> 1
A21: 6 | B21: Bestaat er een aanvraagprocedure voor een dosismeter? | C21: 3 | D21: Good Practice | J21: X1 | K21: =C21&J21&G21 -> 3X1 | L21: =IFERROR(VLOOKUP($K21,Mapping!F:H,2,0),"") | M21: =IFERROR(VLOOKUP($K21,Mapping!$F:$H,3,0),"") | N21: =C21&G21 -> 3
A22: 7 | B22: Bestaat er een procedure die beschrijft hoe de resultaten van de dosismeter moeten worden opgevolgd? | C22: 3 | D22: Good Practice | J22: X1 | K22: =C22&J22&G22 -> 3X1 | L22: =IFERROR(VLOOKUP($K22,Mapping!F:H,2,0),"") | M22: =IFERROR(VLOOKUP($K22,Mapping!$F:$H,3,0),"") | N22: =C22&G22 -> 3
A23: 8 | B23: Bestaat er een procedure die uitlegt welk stralingsbeschermingsmateriaal er moet worden gebruikt bij de bereiding van radiofarmaca? | C23: 1 | D23: KB 20 juli 2001 ARBIS | E23: Art 25 | J23: X1 | K23: =C23&J23&G23 -> 1X1 | L23: =IFERROR(VLOOKUP($K23,Mapping!F:H,2,0),"") | M23: =IFERROR(VLOOKUP($K23,Mapping!$F:$H,3,0),"") | N23: =C23&G23 -> 1
A24: 9 | B24: Is er een procedure indien de producten moeten worden vervoerd naar een andere zorginstelling? | C24: 1 | D24: KB 30 sept 2020 | E24: Bijlage III Bijlage 3 - 53 | J24: X1 | K24: =C24&J24&G24 -> 1X1 | L24: =IFERROR(VLOOKUP($K24,Mapping!F:H,2,0),"") | M24: =IFERROR(VLOOKUP($K24,Mapping!$F:$H,3,0),"") | N24: =C24&G24 -> 1
A25: 10 | B25: Voldoet deze procedure aan de lokale wetgeving? | C25: 1 | D25: KB 30 sept 2020 | E25: Bijlage III Bijlage 3 - 53 | J25: X1 | K25: =C25&J25&G25 -> 1X1 | L25: =IFERROR(VLOOKUP($K25,Mapping!F:H,2,0),"") | M25: =IFERROR(VLOOKUP($K25,Mapping!$F:$H,3,0),"") | N25: =C25&G25 -> 1
A26: 11 | B26: Is er een overeenkomst indien het transport gebeurt door een extern transportbedrijf? | C26: 1 | D26: KB 30 sept 2020 | E26: Bijlage III Bijlage 3 - 53 | J26: X1 | K26: =C26&J26&G26 -> 1X1 | L26: =IFERROR(VLOOKUP($K26,Mapping!F:H,2,0),"") | M26: =IFERROR(VLOOKUP($K26,Mapping!$F:$H,3,0),"") | N26: =C26&G26 -> 1
A27: 12 | B27: Is er voor elke bereiding van radiofarmaca een schriftelijke werkinstructie beschikbaar gevalideerd door de radiofarmaceut of ziekenhuisapotheker verantwoordelijk voor radiofarmaca? | C27: 1 | D27: KB 30 sept 2020 | E27: Bijlage III Bijlage 3 - 28 | J27: X1 | K27: =C27&J27&G27 -> 1X1 | L27: =IFERROR(VLOOKUP($K27,Mapping!F:H,2,0),"") | M27: =IFERROR(VLOOKUP($K27,Mapping!$F:$H,3,0),"") | N27: =C27&G27 -> 1
A28: 13 | B28: Is er een procedure en zijn er werkinstructies voor de kwaliteitscontroles die op een bereid radiofarmacon moeten uitgevoerd worden. | C28: 1 | D28: KB 30 sept 2020 | E28: Bijlage I A | J28: X1 | K28: =C28&J28&G28 -> 1X1 | L28: =IFERROR(VLOOKUP($K28,Mapping!F:H,2,0),"") | M28: =IFERROR(VLOOKUP($K28,Mapping!$F:$H,3,0),"") | N28: =C28&G28 -> 1
A29: III | B29: Personeel | C29: Progress :: | G29: =SUBTOTAL(3,G32:G51)/(SUBTOTAL(3,C32:C51)-3) -> 0 | L29: =SUBTOTAL(9,L32:L51) -> 0 | M29: =SUBTOTAL(9,M32:M51) -> 0
B30: AUDITVRAGEN
B31: Controleer altijd de documentatie en de toepassing op de werkvloer.
A32: 1 | B32: Wordt het personeel dat de steriele radiofarmaca aanmaakt opgeleid voor dit type werk? | C32: 1 | D32: KB 30 sept 2020 | E32: Bijlage III Bijlage 3 Sectie 1 | J32: X1 | K32: =C32&J32&G32 -> 1X1 | L32: =IFERROR(VLOOKUP($K32,Mapping!F:H,2,0),"") | M32: =IFERROR(VLOOKUP($K32,Mapping!$F:$H,3,0),"") | N32: =C32&G32 -> 1
A33: 2 | B33: Wordt het personeel regelmatig getest op steriel werken (media-fill test)? | C33: 1 | D33: KB 30 sept 2020 | E33: Bijlage III Bijlage 3 Sectie 1 | J33: X1 | K33: =C33&J33&G33 -> 1X1 | L33: =IFERROR(VLOOKUP($K33,Mapping!F:H,2,0),"") | M33: =IFERROR(VLOOKUP($K33,Mapping!$F:$H,3,0),"") | N33: =C33&G33 -> 1
A34: 3 | B34: Wordt het personeel opgeleid met gedetailleerde kennis van goed praktijken voor de bereiding en aseptische bewerkingen volgens de geldende PIC/S richtlijnen? | C34: 1 | D34: KB 30 sept 2020 | E34: Bijlage III Bijlage 3 Sectie 1 | J34: X1 | K34: =C34&J34&G34 -> 1X1 | L34: =IFERROR(VLOOKUP($K34,Mapping!F:H,2,0),"") | M34: =IFERROR(VLOOKUP($K34,Mapping!$F:$H,3,0),"") | N34: =C34&G34 -> 1
A35: 4 | B35: Wordt het personeel opgeleid met de algemene kennis van radiochemie? | C35: 1 | D35: KB 30 sept 2020 | E35: Bijlage III Bijlage 3 Sectie 1 | J35: X1 | K35: =C35&J35&G35 -> 1X1 | L35: =IFERROR(VLOOKUP($K35,Mapping!F:H,2,0),"") | M35: =IFERROR(VLOOKUP($K35,Mapping!$F:$H,3,0),"") | N35: =C35&G35 -> 1
A36: 5 | B36: Krijgt het personeel een jaarlijkse opleiding van minimum 1 uur in radioprotectie? | C36: 1 | D36: KB 20 juli 2001 ARBIS | E36: Art 25 | J36: X1 | K36: =C36&J36&G36 -> 1X1 | L36: =IFERROR(VLOOKUP($K36,Mapping!F:H,2,0),"") | M36: =IFERROR(VLOOKUP($K36,Mapping!$F:$H,3,0),"") | N36: =C36&G36 -> 1
A37: 6 | B37: Heeft het personeel een gedetailleerde kennis van de risico's van ioniserende straling? | C37: 1 | D37: KB 30 sept 2020 | E37: Bijlage III Bijlage 3 Sectie 1 | J37: X1 | K37: =C37&J37&G37 -> 1X1 | L37: =IFERROR(VLOOKUP($K37,Mapping!F:H,2,0),"") | M37: =IFERROR(VLOOKUP($K37,Mapping!$F:$H,3,0),"") | N37: =C37&G37 -> 1
A38: 7 | B38: Heeft het personeel dat individuele dosissen voor de patiënten bereidt een opleiding gevolgd conform Art 85 van het KB medische blootstelling van het Fanc? | C38: 1 | D38: KB 13 feb 2020 | E38: Art 85 | J38: X1 | K38: =C38&J38&G38 -> 1X1 | L38: =IFERROR(VLOOKUP($K38,Mapping!F:H,2,0),"") | M38: =IFERROR(VLOOKUP($K38,Mapping!$F:$H,3,0),"") | N38: =C38&G38 -> 1
A39: 8 | B39: Bestaat er een kledingprocedure (kleding, make-up, juwelen, enz.)? | C39: 1 | D39: KB 30 sept 2020 | E39: Bijlage III 2.4 | J39: X1 | K39: =C39&J39&G39 -> 1X1 | L39: =IFERROR(VLOOKUP($K39,Mapping!F:H,2,0),"") | M39: =IFERROR(VLOOKUP($K39,Mapping!$F:$H,3,0),"") | N39: =C39&G39 -> 1
A40: 9 | B40: Beschikt het personeel over aangepast materiaal voor de bereiding van radiofarmaca? | C40: 1 | D40: KB 30 sept 2020 | E40: Bijlage 1 B | J40: X1 | K40: =C40&J40&G40 -> 1X1 | L40: =IFERROR(VLOOKUP($K40,Mapping!F:H,2,0),"") | M40: =IFERROR(VLOOKUP($K40,Mapping!$F:$H,3,0),"") | N40: =C40&G40 -> 1
A41: 10 | B41: Bestaat er een procedure voor het correcte gebruik van de cleanrooms (kledij, mal, pal...)? | C41: 1 | D41: KB 30 sept 2020 | E41: Bijlage III 2.4 | J41: X1 | K41: =C41&J41&G41 -> 1X1 | L41: =IFERROR(VLOOKUP($K41,Mapping!F:H,2,0),"") | M41: =IFERROR(VLOOKUP($K41,Mapping!$F:$H,3,0),"") | N41: =C41&G41 -> 1
A42: 11 | B42: Beschikken de personeelsleden over kledingaccessoires aangepast aan de bereidingen en gebruiken zij ze? | C42: 1 | D42: KB 30 sept 2020 | E42: Bijlage III 2.4 | J42: X1 | K42: =C42&J42&G42 -> 1X1 | L42: =IFERROR(VLOOKUP($K42,Mapping!F:H,2,0),"") | M42: =IFERROR(VLOOKUP($K42,Mapping!$F:$H,3,0),"") | N42: =C42&G42 -> 1
A43: 12 | B43: Is er samenwerking tussen de radiofarmaceut of ziekenhuisapotheker verantwoordelijk voor radiofarmaca en de persoon die verantwoordelijk is voor stralingsbescherming? | C43: 3 | D43: Good Practice | J43: X1 | K43: =C43&J43&G43 -> 3X1 | L43: =IFERROR(VLOOKUP($K43,Mapping!F:H,2,0),"") | M43: =IFERROR(VLOOKUP($K43,Mapping!$F:$H,3,0),"") | N43: =C43&G43 -> 3
A44: 13 | B44: Wordt de radiofarmaceut of ziekenhuisapotheker verantwoordelijk voor radiofarmaca geraadpleegd bij de aankoop van nieuw stralingsbeschermingsmateriaal? | C44: 1 | D44: KB 20 juli 2001 ARBIS | E44: Art 23 | J44: X1 | K44: =C44&J44&G44 -> 1X1 | L44: =IFERROR(VLOOKUP($K44,Mapping!F:H,2,0),"") | M44: =IFERROR(VLOOKUP($K44,Mapping!$F:$H,3,0),"") | N44: =C44&G44 -> 1
A45: 14 | B45: Beheert de radiofarmaceut of ziekenhuisapotheker verantwoordelijk voor radiofarmaca de aankoop van bereidingsproducten, of wordt hij bij de aankoop betrokken? (generator, kit,…)? | C45: 3 | D45: Good Practice | J45: X1 | K45: =C45&J45&G45 -> 3X1 | L45: =IFERROR(VLOOKUP($K45,Mapping!F:H,2,0),"") | M45: =IFERROR(VLOOKUP($K45,Mapping!$F:$H,3,0),"") | N45: =C45&G45 -> 3
A46: 15 | B46: Bestaat er een procedure voor het wassen en ontsmetten van de handen? | C46: 3 | D46: Good Practice | J46: X1 | K46: =C46&J46&G46 -> 3X1 | L46: =IFERROR(VLOOKUP($K46,Mapping!F:H,2,0),"") | M46: =IFERROR(VLOOKUP($K46,Mapping!$F:$H,3,0),"") | N46: =C46&G46 -> 3
A47: 16 | B47: Wordt het personeel regelmatig gecontroleerd op de hoeveelheid blootstelling aan ioniserende straling? | C47: 1 | D47: KB 30 sept 2020 | E47: Bijlage III Bijlage 3 Sectie 1 | J47: X1 | K47: =C47&J47&G47 -> 1X1 | L47: =IFERROR(VLOOKUP($K47,Mapping!F:H,2,0),"") | M47: =IFERROR(VLOOKUP($K47,Mapping!$F:$H,3,0),"") | N47: =C47&G47 -> 1
A48: 17 | B48: Is er een scheiding van verantwoordelijkheden voor de kwaliteitscontrole en de de productieactiviteiten? | C48: 1 | D48: KB 30 sept 2020 | E48: Bijlage III Bijlage 3 Sectie 1 | J48: X1 | K48: =C48&J48&G48 -> 1X1 | L48: =IFERROR(VLOOKUP($K48,Mapping!F:H,2,0),"") | M48: =IFERROR(VLOOKUP($K48,Mapping!$F:$H,3,0),"") | N48: =C48&G48 -> 1
A49: 18 | B49: Is er een specifieke vrijgaveprocedure voor het werken buiten de normale arbeidstijden? | C49: 1 | D49: KB 30 sept 2020 | E49: Bijlage III Bijlage 3 Sectie 1 | J49: X1 | K49: =C49&J49&G49 -> 1X1 | L49: =IFERROR(VLOOKUP($K49,Mapping!F:H,2,0),"") | M49: =IFERROR(VLOOKUP($K49,Mapping!$F:$H,3,0),"") | N49: =C49&G49 -> 1
A50: 19 | B50: Wordt de vrijgave aan de patiënt door een andere persoon uitgevoerd dan diegene die het product heeft gemaakt indien men gebruik maakt van kits en generatoren waar geen kwaliteitscontrole is vereist? | C50: 1 | D50: KB 30 sept 2020 | E50: Bijlage III Bijlage 3 Sectie 1 | J50: X1 | K50: =C50&J50&G50 -> 1X1 | L50: =IFERROR(VLOOKUP($K50,Mapping!F:H,2,0),"") | M50: =IFERROR(VLOOKUP($K50,Mapping!$F:$H,3,0),"") | N50: =C50&G50 -> 1
A51: 20 | B51: Is er een capaciteitsplan aanwezig met beschikbaar personeel versus beschikbare productietijd? | C51: 1 | D51: KB 30 sept 2020 | E51: Bijlage III Bijlage 3 Sectie 1 | J51: X1 | K51: =C51&J51&G51 -> 1X1 | L51: =IFERROR(VLOOKUP($K51,Mapping!F:H,2,0),"") | M51: =IFERROR(VLOOKUP($K51,Mapping!$F:$H,3,0),"") | N51: =C51&G51 -> 1
A52: IV | B52: Gebouwen en apparatuur | C52: Progress :: | G52: =SUBTOTAL(3,G55:G69)/(SUBTOTAL(3,C55:C69)-3) -> 0 | L52: =SUBTOTAL(9,L55:L69) -> 0 | M52: =SUBTOTAL(9,M55:M69) -> 0
B53: AUDITVRAGEN
B54: Controleer altijd de documentatie en de toepassing op de werkvloer.
A55: 1 | B55: Is er een afzonderlijke, aangepaste, specifieke ruimte voor het bereiden van steriele radiofarmaca? | C55: 1 | D55: KB 30 sept 2020 | E55: Bijlage III Bijlage 3 Sectie 2 | J55: X1 | K55: =C55&J55&G55 -> 1X1 | L55: =IFERROR(VLOOKUP($K55,Mapping!F:H,2,0),"") | M55: =IFERROR(VLOOKUP($K55,Mapping!$F:$H,3,0),"") | N55: =C55&G55 -> 1
A56: 2 | B56: Is de toegang gecontroleerd tot deze ruimtes? | C56: 1 | D56: KB 30 sept 2020 | E56: Bijlage I B | J56: X1 | K56: =C56&J56&G56 -> 1X1 | L56: =IFERROR(VLOOKUP($K56,Mapping!F:H,2,0),"") | M56: =IFERROR(VLOOKUP($K56,Mapping!$F:$H,3,0),"") | N56: =C56&G56 -> 1
A57: 3 | B57: Beschermt de omgeving waarin radiofarmaceutische bereidingen voor injectie worden uitgevoerd het product tegen microbiële contaminatie en tegelijk de operator tegen ioniserende straling? | C57: 1 | D57: KB 30 sept 2020 | E57: Bijlage III Bijlage 3 Sectie 2 .12 | J57: X1 | K57: =C57&J57&G57 -> 1X1 | L57: =IFERROR(VLOOKUP($K57,Mapping!F:H,2,0),"") | M57: =IFERROR(VLOOKUP($K57,Mapping!$F:$H,3,0),"") | N57: =C57&G57 -> 1
A58: 4 | B58: Is er geschikte apparatuur aanwezig voor de detectie en controle van het personeel op blootstelling aan straling? | C58: 1 | D58: KB 30 sept 2020 | E58: Bijlage III Bijlage 3 Sectie 2 .14 | J58: X1 | K58: =C58&J58&G58 -> 1X1 | L58: =IFERROR(VLOOKUP($K58,Mapping!F:H,2,0),"") | M58: =IFERROR(VLOOKUP($K58,Mapping!$F:$H,3,0),"") | N58: =C58&G58 -> 1
A59: 5 | B59: Worden de toestellen voor stralingsbescherming gecontroleerd volgens de geldende richtlijnen? | C59: 1 | D59: KB 20 juli 2001 ARBIS | E59: Art 23 | J59: X1 | K59: =C59&J59&G59 -> 1X1 | L59: =IFERROR(VLOOKUP($K59,Mapping!F:H,2,0),"") | M59: =IFERROR(VLOOKUP($K59,Mapping!$F:$H,3,0),"") | N59: =C59&G59 -> 1
A60: 6 | B60: Staan de douches en/of gootstenen of andere methoden van decontaminatie voldoende dicht tegen de schone ruimte? | C60: 1 | D60: KB 30 sept 2020 | E60: Bijlage III Bijlage 3 Sectie 2 .15 | J60: X1 | K60: =C60&J60&G60 -> 1X1 | L60: =IFERROR(VLOOKUP($K60,Mapping!F:H,2,0),"") | M60: =IFERROR(VLOOKUP($K60,Mapping!$F:$H,3,0),"") | N60: =C60&G60 -> 1
A61: 7 | B61: Worden de handschoenen telkens vervangen wanneer er een vermoeden is van radioactieve contaminatie? | C61: 3 | D61: Good Practice | J61: X1 | K61: =C61&J61&G61 -> 3X1 | L61: =IFERROR(VLOOKUP($K61,Mapping!F:H,2,0),"") | M61: =IFERROR(VLOOKUP($K61,Mapping!$F:$H,3,0),"") | N61: =C61&G61 -> 3
A62: 8 | B62: Is er een afzonderlijks specifieke ruimte voor het merken van bloedcellen? | C62: 1 | D62: KB 30 sept 2020 | E62: Bijlage III Bijlage 3 Sectie 2 .16 | J62: X1 | K62: =C62&J62&G62 -> 1X1 | L62: =IFERROR(VLOOKUP($K62,Mapping!F:H,2,0),"") | M62: =IFERROR(VLOOKUP($K62,Mapping!$F:$H,3,0),"") | N62: =C62&G62 -> 1
A63: 9 | B63: Maakt men vooral gebruik van een gesloten methode voor de radiofarmaceutische bereidingen? | C63: 1 | D63: KB 30 sept 2020 | E63: Bijlage III Bijlage 3 Sectie 2 .17 | J63: X1 | K63: =C63&J63&G63 -> 1X1 | L63: =IFERROR(VLOOKUP($K63,Mapping!F:H,2,0),"") | M63: =IFERROR(VLOOKUP($K63,Mapping!$F:$H,3,0),"") | N63: =C63&G63 -> 1
A64: 10 | B64: Is er een correcte omgevingsclassificatie voorzien volgens de gebruikte werkstations die voldoet aan de wettelijke normering? | C64: 1 | D64: KB 30 sept 2020 | E64: Bijlage III Bijlage 3 Sectie 2 .25 | J64: X1 | K64: =C64&J64&G64 -> 1X1 | L64: =IFERROR(VLOOKUP($K64,Mapping!F:H,2,0),"") | M64: =IFERROR(VLOOKUP($K64,Mapping!$F:$H,3,0),"") | N64: =C64&G64 -> 1
A65: 11 | B65: Is er een risicoanalyse gebeurd indien u de minimale classificatie niet respecteert? | C65: 1 | D65: KB 30 sept 2020 | E65: Bijlage III Bijlage 3 Sectie 2 .25 | J65: X1 | K65: =C65&J65&G65 -> 1X1 | L65: =IFERROR(VLOOKUP($K65,Mapping!F:H,2,0),"") | M65: =IFERROR(VLOOKUP($K65,Mapping!$F:$H,3,0),"") | N65: =C65&G65 -> 1
A66: 12 | B66: Staan de generatoren in een geschikte ruimte of werkstation naast de bereidingsruimte en met de vereiste wettelijke classificatie gebaseerd op een risicobeoordeling? | C66: 1 | D66: KB 30 sept 2020 | E66: Bijlage III Bijlage 3 Sectie 2 .23 | J66: X1 | K66: =C66&J66&G66 -> 1X1 | L66: =IFERROR(VLOOKUP($K66,Mapping!F:H,2,0),"") | M66: =IFERROR(VLOOKUP($K66,Mapping!$F:$H,3,0),"") | N66: =C66&G66 -> 1
A67: 13 | B67: Wordt de lucht in de isolator niet gehercirculeerd? | C67: 1 | D67: KB 30 sept 2020 | E67: Bijlage III Bijlage 3 Sectie 2 .24 | J67: X1 | K67: =C67&J67&G67 -> 1X1 | L67: =IFERROR(VLOOKUP($K67,Mapping!F:H,2,0),"") | M67: =IFERROR(VLOOKUP($K67,Mapping!$F:$H,3,0),"") | N67: =C67&G67 -> 1
A68: 14 | B68: Worden radioactieve materialen opgeslagen in afgeschermde containers met betrekking tot stralingsbescherming? | C68: 1 | D68: KB 30 sept 2020 | E68: Bijlage III Bijlage 3 Sectie 2 .26 | J68: X1 | K68: =C68&J68&G68 -> 1X1 | L68: =IFERROR(VLOOKUP($K68,Mapping!F:H,2,0),"") | M68: =IFERROR(VLOOKUP($K68,Mapping!$F:$H,3,0),"") | N68: =C68&G68 -> 1
A69: 15 | B69: Is er een monitoring van de luchtafvoer naar buiten zodanig dat er wordt vermeden dat radioactieve lucht naar buiten gaat? | C69: 1 | D69: KB 30 sept 2020 | E69: Bijlage III Bijlage 1 Sectie 2 .13 | J69: X1 | K69: =C69&J69&G69 -> 1X1 | L69: =IFERROR(VLOOKUP($K69,Mapping!F:H,2,0),"") | M69: =IFERROR(VLOOKUP($K69,Mapping!$F:$H,3,0),"") | N69: =C69&G69 -> 1
A70: V | B70: Documentatie | C70: Progress :: | G70: =SUBTOTAL(3,G73:G82)/(SUBTOTAL(3,C73:C82)-3) -> 0 | L70: =SUBTOTAL(9,L73:L82) -> 0 | M70: =SUBTOTAL(9,M73:M82) -> 0
B71: AUDITVRAGEN
B72: Controleer altijd de documentatie en de toepassing op de werkvloer.
A73: 1 | B73: Wordt de documentatie (specificaties, productspecifieke instructies, dossiers en algemene procedures) van elke bereiding gearchiveerd volgens de geldende procedures? | C73: 1 | D73: KB 30 sept 2020 | E73: Bijlage III 4.2 .7 | J73: X1 | K73: =C73&J73&G73 -> 1X1 | L73: =IFERROR(VLOOKUP($K73,Mapping!F:H,2,0),"") | M73: =IFERROR(VLOOKUP($K73,Mapping!$F:$H,3,0),"") | N73: =C73&G73 -> 1
A74: 2 | B74: Is er een documentbeheersysteem voor de procedures en werkinstructies met duidelijke rollen ? | C74: 3 | D74: Good Practice | J74: X1 | K74: =C74&J74&G74 -> 3X1 | L74: =IFERROR(VLOOKUP($K74,Mapping!F:H,2,0),"") | M74: =IFERROR(VLOOKUP($K74,Mapping!$F:$H,3,0),"") | N74: =C74&G74 -> 3
A75: 3 | B75: Is het toegangsbeheer toereikend van het gebruikte documentbeheersysteem? | C75: 1 | D75: KB 30 sept 2020 | E75: Bijlage III Bijlage 3 Sectie 3 - 30 | J75: X1 | K75: =C75&J75&G75 -> 1X1 | L75: =IFERROR(VLOOKUP($K75,Mapping!F:H,2,0),"") | M75: =IFERROR(VLOOKUP($K75,Mapping!$F:$H,3,0),"") | N75: =C75&G75 -> 1
A76: 4 | B76: Kan men alle documenten altijd op een tijdige en eenvoudige wijze opvragen? | C76: 1 | D76: KB 30 sept 2020 | E76: Bijlage III Bijlage 3 Sectie 3 - 30 | J76: X1 | K76: =C76&J76&G76 -> 1X1 | L76: =IFERROR(VLOOKUP($K76,Mapping!F:H,2,0),"") | M76: =IFERROR(VLOOKUP($K76,Mapping!$F:$H,3,0),"") | N76: =C76&G76 -> 1
A77: 5 | B77: Is de traceerbaarheid (die per definitie tot aan de patiënt gaat) van de bereiding operationeel? | C77: 1 | D77: KB 30 sept 2020 | E77: Art 18 - 28 | J77: X1 | K77: =C77&J77&G77 -> 1X1 | L77: =IFERROR(VLOOKUP($K77,Mapping!F:H,2,0),"") | M77: =IFERROR(VLOOKUP($K77,Mapping!$F:$H,3,0),"") | N77: =C77&G77 -> 1
A78: 6 | B78: Zijn de gebruikte producten traceerbaar? | C78: 1 | D78: KB 30 sept 2020 | E78: Art 18 - 28 | J78: X1 | K78: =C78&J78&G78 -> 1X1 | L78: =IFERROR(VLOOKUP($K78,Mapping!F:H,2,0),"") | M78: =IFERROR(VLOOKUP($K78,Mapping!$F:$H,3,0),"") | N78: =C78&G78 -> 1
A79: 7 | B79: Zijn de werkinstructies traceerbaar? | C79: 1 | D79: KB 30 sept 2020 | E79: Art 18 - 28 | J79: X1 | K79: =C79&J79&G79 -> 1X1 | L79: =IFERROR(VLOOKUP($K79,Mapping!F:H,2,0),"") | M79: =IFERROR(VLOOKUP($K79,Mapping!$F:$H,3,0),"") | N79: =C79&G79 -> 1
A80: 8 | B80: Is de bereider traceerbaar? | C80: 1 | D80: KB 30 sept 2020 | E80: Art 18 - 28 | J80: X1 | K80: =C80&J80&G80 -> 1X1 | L80: =IFERROR(VLOOKUP($K80,Mapping!F:H,2,0),"") | M80: =IFERROR(VLOOKUP($K80,Mapping!$F:$H,3,0),"") | N80: =C80&G80 -> 1
A81: 9 | B81: Zijn de bereide dosissen traceerbaar? | C81: 1 | D81: KB 30 sept 2020 | E81: Art 18 - 28 | J81: X1 | K81: =C81&J81&G81 -> 1X1 | L81: =IFERROR(VLOOKUP($K81,Mapping!F:H,2,0),"") | M81: =IFERROR(VLOOKUP($K81,Mapping!$F:$H,3,0),"") | N81: =C81&G81 -> 1
A82: 10 | B82: Zijn de geïnjecteerde patiënten traceerbaar? | C82: 1 | D82: KB 30 sept 2020 | E82: Art 18 - 28 | J82: X1 | K82: =C82&J82&G82 -> 1X1 | L82: =IFERROR(VLOOKUP($K82,Mapping!F:H,2,0),"") | M82: =IFERROR(VLOOKUP($K82,Mapping!$F:$H,3,0),"") | N82: =C82&G82 -> 1
A83: VI | B83: Productie | C83: Progress :: | G83: =SUBTOTAL(3,G86:G118)/(SUBTOTAL(3,C86:C118)-3) -> 0 | L83: =SUBTOTAL(9,L86:L118) -> 0 | M83: =SUBTOTAL(9,M86:M118) -> 0
B84: AUDITVRAGEN
B85: Controleer altijd de documentatie en de toepassing op de werkvloer.
A86: a | B86: Algemeen | C86: Progress :: | G86: =SUBTOTAL(3,G87:G103)/SUBTOTAL(3,C87:C103) -> 0 | L86: =SUBTOTAL(9,L87:L103) -> 0 | M86: =SUBTOTAL(9,M87:M103) -> 0
A87: 1 | B87: Is er tijdens het ontvangstproces een inspectie van de aanwezige documentatie? | C87: 1 | D87: KB 30 sept 2020 | E87: Bijlage III Bijlage 3 Sectie 4 - 31 | J87: X1 | K87: =C87&J87&G87 -> 1X1 | L87: =IFERROR(VLOOKUP($K87,Mapping!F:H,2,0),"") | M87: =IFERROR(VLOOKUP($K87,Mapping!$F:$H,3,0),"") | N87: =C87&G87 -> 1
A88: 2 | B88: Is er tijdens het ontvangstproces een controle of de leverancier erkend/goedgekeurd is? | C88: 1 | D88: KB 30 sept 2020 | E88: Bijlage III Bijlage 3 Sectie 4 - 31 | J88: X1 | K88: =C88&J88&G88 -> 1X1 | L88: =IFERROR(VLOOKUP($K88,Mapping!F:H,2,0),"") | M88: =IFERROR(VLOOKUP($K88,Mapping!$F:$H,3,0),"") | N88: =C88&G88 -> 1
A89: 3 | B89: Doet men tijdens het ontvangsproces de nodige kwaliteitstesten? | C89: 1 | D89: KB 30 sept 2020 | E89: Bijlage III Bijlage 3 Sectie 4 - 31 | J89: X1 | K89: =C89&J89&G89 -> 1X1 | L89: =IFERROR(VLOOKUP($K89,Mapping!F:H,2,0),"") | M89: =IFERROR(VLOOKUP($K89,Mapping!$F:$H,3,0),"") | N89: =C89&G89 -> 1
A90: 4 | B90: Brengt de radiofarmaceut of ziekenhuisapotheker verantwoordelijk voor radiofarmaca indien nodig het Centrum voor geneesmiddelenbewaking en de fabrikant op de hoogte in geval van niet-conformiteit van een geleverd product? | C90: 1 | D90: KB 30 sept 2020 | E90: Bijlage I C k | J90: X1 | K90: =C90&J90&G90 -> 1X1 | L90: =IFERROR(VLOOKUP($K90,Mapping!F:H,2,0),"") | M90: =IFERROR(VLOOKUP($K90,Mapping!$F:$H,3,0),"") | N90: =C90&G90 -> 1
A91: 5 | B91: Worden er passende maatregelen genomen om kruiscontaminatie te vermijden tijdens de synthesprocessen? | C91: 1 | D91: KB 30 sept 2020 | E91: Bijlage III Bijlage 3 Sectie 4 - 32 | J91: X1 | K91: =C91&J91&G91 -> 1X1 | L91: =IFERROR(VLOOKUP($K91,Mapping!F:H,2,0),"") | M91: =IFERROR(VLOOKUP($K91,Mapping!$F:$H,3,0),"") | N91: =C91&G91 -> 1
A92: 6 | B92: Maakt men gebruik van een geautomatiseerd systeem voor de syntheseprocessen? | C92: 1 | D92: KB 30 sept 2020 | E92: Bijlage III Bijlage 3 Sectie 4 - 33 | J92: X1 | K92: =C92&J92&G92 -> 1X1 | L92: =IFERROR(VLOOKUP($K92,Mapping!F:H,2,0),"") | M92: =IFERROR(VLOOKUP($K92,Mapping!$F:$H,3,0),"") | N92: =C92&G92 -> 1
A93: 7 | B93: Is dit geautomatiseerd systeem gevalideerd? | C93: 1 | D93: KB 30 sept 2020 | E93: Bijlage III Bijlage 3 Sectie 4 - 33 | J93: X1 | K93: =C93&J93&G93 -> 1X1 | L93: =IFERROR(VLOOKUP($K93,Mapping!F:H,2,0),"") | M93: =IFERROR(VLOOKUP($K93,Mapping!$F:$H,3,0),"") | N93: =C93&G93 -> 1
A94: 8 | B94: Is er een procedure aanwezig betreffende het overbrengen en desinfecteren van de generator naar de bereidingsruimte om het risico op contaminatie te beperken? | C94: 1 | D94: KB 30 sept 2020 | E94: Bijlage III Bijlage 3 Sectie 4 - 35 | J94: X1 | K94: =C94&J94&G94 -> 1X1 | L94: =IFERROR(VLOOKUP($K94,Mapping!F:H,2,0),"") | M94: =IFERROR(VLOOKUP($K94,Mapping!$F:$H,3,0),"") | N94: =C94&G94 -> 1
A95: 9 | B95: Is er een procedure die vermeldt dat er geen verschillende producten op hetzelfde moment in hetzelfde werkstation mogen worden bereid? | C95: 1 | D95: KB 30 sept 2020 | E95: Bijlage III Bijlage 3 Sectie 4 - 39 | J95: X1 | K95: =C95&J95&G95 -> 1X1 | L95: =IFERROR(VLOOKUP($K95,Mapping!F:H,2,0),"") | M95: =IFERROR(VLOOKUP($K95,Mapping!$F:$H,3,0),"") | N95: =C95&G95 -> 1
A96: 10 | B96: Voldoet de etikettering van de radiofarmaca aan de wettelijk vereisten of aan de vereisten van de farmacopee? | C96: 1 | D96: KB 30 sept 2020 | E96: Bijlage III Bijlage 3 Sectie 4 - 41 | J96: X1 | K96: =C96&J96&G96 -> 1X1 | L96: =IFERROR(VLOOKUP($K96,Mapping!F:H,2,0),"") | M96: =IFERROR(VLOOKUP($K96,Mapping!$F:$H,3,0),"") | N96: =C96&G96 -> 1
A97: 11 | B97: Worden flacons de tijdens de bereiding zijn gebruikt geëtiketteerd? | C97: 1 | D97: KB 30 sept 2020 | E97: Bijlage III Bijlage 3 Sectie 4 - 42 | J97: X1 | K97: =C97&J97&G97 -> 1X1 | L97: =IFERROR(VLOOKUP($K97,Mapping!F:H,2,0),"") | M97: =IFERROR(VLOOKUP($K97,Mapping!$F:$H,3,0),"") | N97: =C97&G97 -> 1
A98: 12 | B98: Worden loden/wolframen potten of gelijkaardige recipiënten na de bereiding geëtiketteerd? | C98: 1 | D98: KB 30 sept 2020 | E98: Bijlage III Bijlage 3 Sectie 4 - 42 | J98: X1 | K98: =C98&J98&G98 -> 1X1 | L98: =IFERROR(VLOOKUP($K98,Mapping!F:H,2,0),"") | M98: =IFERROR(VLOOKUP($K98,Mapping!$F:$H,3,0),"") | N98: =C98&G98 -> 1
... A103: 17 | B103: Worden de dosiskalibratoren dagelijks of voor gebruik gecontroleerd volgens de nationale normen? | C103: 1 | D103: KB 30 sept 2020 | E103: Bijlage III Bijlage 3 Sectie 4 - 48 | J103: X1 | K103: =C103&J103&G103 -> 1X1 | L103: =IFERROR(VLOOKUP($K103,Mapping!F:H,2,0),"") | M103: =IFERROR(VLOOKUP($K103,Mapping!$F:$H,3,0),"") | N103: =C103&G103 -> 1
A104: b | B104: Werkinstructies | C104: Progress :: | G104: =SUBTOTAL(3,G105:G113)/SUBTOTAL(3,C105:C113) -> 0 | L104: =SUBTOTAL(9,L105:L113) -> 0 | M104: =SUBTOTAL(9,M105:M113) -> 0
A105: 1 | B105: Worden de werkinstructies opgesteld in overeenstemming met de huidige PIC’s of de geldende aanbevelingen? | C105: 1 | D105: KB 30 sept 2020 | E105: Bijlage III 4.4.2 | J105: X1 | K105: =C105&J105&G105 -> 1X1 | L105: =IFERROR(VLOOKUP($K105,Mapping!F:H,2,0),"") | M105: =IFERROR(VLOOKUP($K105,Mapping!$F:$H,3,0),"") | N105: =C105&G105 -> 1
...

Sheet rapport
B1: MAEIA Radiofarmacie Rapport
A3: Date : | I3: Adapt these cells
A4: Ziekenhuis : | I4: Adapt these cells
A5: Hoofdapotheker : | I5: Adapt these cells
A6: Auditeur naam : | I6: Adapt these cells
C7: Max | D7: Score
A8: Total score | C8: ='proces radiofarmacie'!L3 -> 3 | D8: ='proces radiofarmacie'!M3 -> 3 | K8: Make sure total is correct | L8: Make sure total is correct
A9: ='proces radiofarmacie'!A7 -> I | B9: ='proces radiofarmacie'!B7 -> Kwaliteitsopvolging van het radiofarmacieproces | C9: ='proces radiofarmacie'!L7 -> 3 | D9: ='proces radiofarmacie'!M7 -> 3 | H9: Copy Paste visible cells from questionnaire sheet | I9: Copy Paste visible cells from questionnaire sheet | J9: Copy Paste visible cells from questionnaire sheet | K9: Copy Paste visible cells from questionnaire sheet | L9: Copy Paste visible cells from questionnaire sheet
A10: ='proces radiofarmacie'!A13 -> II | B10: ='proces radiofarmacie'!B13 -> Algemeen | C10: ='proces radiofarmacie'!L13 -> 0 | D10: ='proces radiofarmacie'!M13 -> 0 | H10: Copy Paste visible cells from questionnaire sheet | I10: Copy Paste visible cells from questionnaire sheet | J10: Copy Paste visible cells from questionnaire sheet | K10: Copy Paste visible cells from questionnaire sheet | L10: Copy Paste visible cells from questionnaire sheet
A11: ='proces radiofarmacie'!A29 -> III | B11: ='proces radiofarmacie'!B29 -> Personeel | C11: ='proces radiofarmacie'!L29 -> 0 | D11: ='proces radiofarmacie'!M29 -> 0 | H11: Copy Paste visible cells from questionnaire sheet | I11: Copy Paste visible cells from questionnaire sheet | J11: Copy Paste visible cells from questionnaire sheet | K11: Copy Paste visible cells from questionnaire sheet | L11: Copy Paste visible cells from questionnaire sheet
A12: ='proces radiofarmacie'!A52 -> IV | B12: ='proces radiofarmacie'!B52 -> Gebouwen en apparatuur | C12: ='proces radiofarmacie'!L52 -> 0 | D12: ='proces radiofarmacie'!M52 -> 0 | H12: Copy Paste visible cells from questionnaire sheet | I12: Copy Paste visible cells from questionnaire sheet | J12: Copy Paste visible cells from questionnaire sheet | K12: Copy Paste visible cells from questionnaire sheet | L12: Copy Paste visible cells from questionnaire sheet
A13: ='proces radiofarmacie'!A70 -> V | B13: ='proces radiofarmacie'!B70 -> Documentatie | C13: ='proces radiofarmacie'!L70 -> 0 | D13: ='proces radiofarmacie'!M70 -> 0 | H13: Copy Paste visible cells from questionnaire sheet | I13: Copy Paste visible cells from questionnaire sheet | J13: Copy Paste visible cells from questionnaire sheet | K13: Copy Paste visible cells from questionnaire sheet | L13: Copy Paste visible cells from questionnaire sheet
A14: ='proces radiofarmacie'!A83 -> VI | B14: ='proces radiofarmacie'!B83 -> Productie | C14: ='proces radiofarmacie'!L83 -> 0 | D14: ='proces radiofarmacie'!M83 -> 0 | H14: Copy Paste visible cells from questionnaire sheet | I14: Copy Paste visible cells from questionnaire sheet | J14: Copy Paste visible cells from questionnaire sheet | K14: Copy Paste visible cells from questionnaire sheet | L14: Copy Paste visible cells from questionnaire sheet
A15: ='proces radiofarmacie'!A86 -> a | B15: ='proces radiofarmacie'!B86 -> Algemeen | C15: ='proces radiofarmacie'!L86 -> 0 | D15: ='proces radiofarmacie'!M86 -> 0 | H15: Copy Paste visible cells from questionnaire sheet | I15: Copy Paste visible cells from questionnaire sheet | J15: Copy Paste visible cells from questionnaire sheet | K15: Copy Paste visible cells from questionnaire sheet | L15: Copy Paste visible cells from questionnaire sheet
A16: ='proces radiofarmacie'!A104 -> b | B16: ='proces radiofarmacie'!B104 -> Werkinstructies | C16: ='proces radiofarmacie'!L104 -> 0 | D16: ='proces radiofarmacie'!M104 -> 0 | H16: Copy Paste visible cells from questionnaire sheet | I16: Copy Paste visible cells from questionnaire sheet | J16: Copy Paste visible cells from questionnaire sheet | K16: Copy Paste visible cells from questionnaire sheet | L16: Copy Paste visible cells from questionnaire sheet
A17: ='proces radiofarmacie'!A114 -> c | B17: ='proces radiofarmacie'!B114 -> Bereidingsverslag | C17: ='proces radiofarmacie'!L114 -> 0 | D17: ='proces radiofarmacie'!M114 -> 0 | H17: Copy Paste visible cells from questionnaire sheet | I17: Copy Paste visible cells from questionnaire sheet | J17: Copy Paste visible cells from questionnaire sheet | K17: Copy Paste visible cells from questionnaire sheet | L17: Copy Paste visible cells from questionnaire sheet
A18: ='proces radiofarmacie'!A119 -> VII | B18: ='proces radiofarmacie'!B119 -> Voorschrift | C18: ='proces radiofarmacie'!L119 -> 0 | D18: ='proces radiofarmacie'!M119 -> 0 | H18: Copy Paste visible cells from questionnaire sheet | I18: Copy Paste visible cells from questionnaire sheet | J18: Copy Paste visible cells from questionnaire sheet | K18: Copy Paste visible cells from questionnaire sheet | L18: Copy Paste visible cells from questionnaire sheet
A19: ='proces radiofarmacie'!A129 -> VIII | B19: ='proces radiofarmacie'!B129 -> Kwaliteitscontrole | C19: ='proces radiofarmacie'!L129 -> 0 | D19: ='proces radiofarmacie'!M129 -> 0 | H19: Copy Paste visible cells from questionnaire sheet | I19: Copy Paste visible cells from questionnaire sheet | J19: Copy Paste visible cells from questionnaire sheet | K19: Copy Paste visible cells from questionnaire sheet | L19: Copy Paste visible cells from questionnaire sheet
A42: Handtekeningen
A44: Hoofdapotheker | I44: Change name & signature
A47: Auditeur naam : | I47: Change name & signature
B51: MAEIA Radiofarmacie Rapport
A78: Sterke punten
A79: 1
A80: 2
A81: 3
A82: 4
A83: 5
A84: 6
A85: Tekortkomingen niveau 1
A86: 1
A87: 2
A88: 3
A89: 4
A90: 5
A91: 6
A92: Verbeterpunten niveau 2
A93: 1
A94: 2
A95: 3
A96: 4
A97: 5
A98: 6
A99: Verbeterpunten niveau 3
A100: 1
A101: 2
A102: 3
A103: 4
A104: 5
A105: 6
A106: Observaties
A107: 1
A108: 2
A109: 3
A110: 4
A111: 5
A112: 6

Sheet actiepunten auditee
A3: Actiepunt | B3: Nummer | C3: ..… | D3: Oorsprong :
D4: o Tekortkoming niveau 1
D5: o Verbeterpunt niveau 2
D6: o Verbeterpunt niveau 3
D7: o Observatie
A8: Geaudit proces | B8: Radiofarmacie
A9: Auditdatum | B9: …../…../….. | D9: Auditor | E9: ……………………………………………
A10: Auditee | B10: ………………………………………………………………………………..
A11: Omschrijving van de tekortkoming / verbeterpunt / observatie
A12: Voorgestelde maatregel door de auditee | B12: Oorzaak
B15: Actie
B21: Verantwoordelijke
B23: Termijn
A26: Opvolgrapport
A27: (cumulatief)
A44: Conclusie

Sheet Mapping
B4: MAPPING TABLE | G4: points
B5: Base points | C5: Niveau | D5: Extra gewicht factor | E5: Antwoord | F5: Code | G5: Total | H5: Score | M5: Somme | P5: Speedometer | R5: Pointer
A6: Ja Groep | B6: 1 | C6: 3 | D6: X3 | E6: Ja | F6: =C6&D6&E6 -> 3X3Ja | G6: 3 | H6: 3 | L6: Ja | M6: =COUNTIF('proces radiofarmacie'!$G:$G,Mapping!$L6) -> 2 | P6: Start | Q6: 0 | R6: Value | S6: =+ROUND(M11/M10,2)*100 -> 100
A7: Ja Groep | B7: 1 | C7: 3 | D7: X2 | E7: Ja | F7: =C7&D7&E7 -> 3X2Ja | G7: 2 | H7: 2 | L7: Neen | M7: =COUNTIF('proces radiofarmacie'!$G:$G,Mapping!$L7) -> 1 | P7: Initial | Q7: 60 | R7: Pointer | S7: 1
A8: Ja Groep | B8: 1 | C8: 3 | D8: X1 | E8: Ja | F8: =C8&D8&E8 -> 3X1Ja | G8: 1 | H8: 1 | L8: NVT | M8: =COUNTIF('proces radiofarmacie'!$G:$G,Mapping!$L8) -> 1 | P8: Middle | Q8: 30 | R8: end | S8: =200-S7-S6 -> 99
A9: Ja Groep | B9: 1 | C9: 3 | D9: X0,33 | E9: Ja | F9: =C9&D9&E9 -> 3X0,33Ja | G9: =1/3 -> 0.33333333 | H9: =1/3 -> 0.33333333 | L9: Somme | M9: =SUM(M6:M8) -> 4 | P9: End | Q9: 10
A10: Ja Groep | B10: 1 | C10: 3 | D10: X0,66 | E10: Ja | F10: =C10&D10&E10 -> 3X0,66Ja | G10: =2/3 -> 0.66666667 | H10: =2/3 -> 0.66666667 | L10: Total | M10: ='proces radiofarmacie'!$L$3 -> 3 | P10: Max | Q10: 100
A11: Ja Groep | B11: 1 | C11: 3 | D11: X1 | E11: Ja | F11: =C11&D11&E11 -> 3X1Ja | G11: 1 | H11: 1 | L11: Score | M11: ='proces radiofarmacie'!$M$3 -> 3
A12: Ja Groep | B12: 3 | C12: 2 | D12: X3 | E12: Ja | F12: =C12&D12&E12 -> 2X3Ja | G12: 9 | H12: 9 | S12: ="Total Score : "&S6&"%" -> Total Score : 100%
A13: Ja Groep | B13: 3 | C13: 2 | D13: X2 | E13: Ja | F13: =C13&D13&E13 -> 2X2Ja | G13: 6 | H13: 6
A14: Ja Groep | B14: 3 | C14: 2 | D14: X1 | E14: Ja | F14: =C14&D14&E14 -> 2X1Ja | G14: 3 | H14: 3 | L14: ROUGE | M14: 60
A15: Ja Groep | B15: 3 | C15: 2 | D15: X0,33 | E15: Ja | F15: =C15&D15&E15 -> 2X0,33Ja | G15: 1 | H15: 1 | L15: ORANGE | M15: 30
A16: Ja Groep | B16: 3 | C16: 2 | D16: X0,66 | E16: Ja | F16: =C16&D16&E16 -> 2X0,66Ja | G16: 2 | H16: 2 | L16: VERT | M16: 10
A17: Ja Groep | B17: 3 | C17: 2 | D17: X1 | E17: Ja | F17: =C17&D17&E17 -> 2X1Ja | G17: 3 | H17: 3 | L17: Invisible | M17: 100
A18: Ja Groep | B18: 6 | C18: 1 | D18: X3 | E18: Ja | F18: =C18&D18&E18 -> 1X3Ja | G18: 18 | H18: 18
A19: Ja Groep | B19: 6 | C19: 1 | D19: X2 | E19: Ja | F19: =C19&D19&E19 -> 1X2Ja | G19: 12 | H19: 12
A20: Ja Groep | B20: 6 | C20: 1 | D20: X1 | E20: Ja | F20: =C20&D20&E20 -> 1X1Ja | G20: 6 | H20: 6 | L20: Aiguille | M20: =M7/M9 -> 0.25
A21: Ja Groep | B21: 6 | C21: 1 | D21: X0,33 | E21: Ja | F21: =C21&D21&E21 -> 1X0,33Ja | G21: 2 | H21: 2 | L21: Largeur | M21: 1
A22: Ja Groep | B22: 6 | C22: 1 | D22: X0,66 | E22: Ja | F22: =C22&D22&E22 -> 1X0,66Ja | G22: 4 | H22: 4 | L22: Invisible | M22: =SUM(M14:M17)-(M21+M20) -> 198.75
A23: Ja Groep | B23: 6 | C23: 1 | D23: X1 | E23: Ja | F23: =C23&D23&E23 -> 1X1Ja | G23: 6 | H23: 6
A24: Neen groep | B24: 1 | C24: 3 | D24: X3 | E24: Neen | F24: =C24&D24&E24 -> 3X3Neen | G24: 3 | H24: 0 | L24: RIEN
A25: Neen groep | B25: 1 | C25: 3 | D25: X2 | E25: Neen | F25: =C25&D25&E25 -> 3X2Neen | G25: 2 | H25: 0 | L25: Aiguille | M25: =ROUND(M20,0)&"%" -> 0%
A26: Neen groep | B26: 1 | C26: 3 | D26: X1 | E26: Neen | F26: =C26&D26&E26 -> 3X1Neen | G26: 1 | H26: 0 | L26: RIEN
A27: Neen groep | B27: 1 | C27: 3 | D27: X0,33 | E27: Neen | F27: =C27&D27&E27 -> 3X0,33Neen | G27: =1/3 -> 0.33333333 | H27: 0
A28: Neen groep | B28: 1 | C28: 3 | D28: X0,66 | E28: Neen | F28: =C28&D28&E28 -> 3X0,66Neen | G28: =2/3 -> 0.66666667 | H28: 0
A29: Neen groep | B29: 1 | C29: 3 | D29: X1 | E29: Neen | F29: =C29&D29&E29 -> 3X1Neen | G29: 1 | H29: 0
A30: Neen groep | B30: 3 | C30: 2 | D30: X3 | E30: Neen | F30: =C30&D30&E30 -> 2X3Neen | G30: 9 | H30: 0
A31: Neen groep | B31: 3 | C31: 2 | D31: X2 | E31: Neen | F31: =C31&D31&E31 -> 2X2Neen | G31: 6 | H31: 0
A32: Neen groep | B32: 3 | C32: 2 | D32: X1 | E32: Neen | F32: =C32&D32&E32 -> 2X1Neen | G32: 3 | H32: 0
A33: Neen groep | B33: 3 | C33: 2 | D33: X0,33 | E33: Neen | F33: =C33&D33&E33 -> 2X0,33Neen | G33: 1 | H33: 0
A34: Neen groep | B34: 3 | C34: 2 | D34: X0,66 | E34: Neen | F34: =C34&D34&E34 -> 2X0,66Neen | G34: 2 | H34: 0
A35: Neen groep | B35: 3 | C35: 2 | D35: X1 | E35: Neen | F35: =C35&D35&E35 -> 2X1Neen | G35: 3 | H35: 0
A36: Neen groep | B36: 6 | C36: 1 | D36: X3 | E36: Neen | F36: =C36&D36&E36 -> 1X3Neen | G36: 18 | H36: 0
A37: Neen groep | B37: 6 | C37: 1 | D37: X2 | E37: Neen | F37: =C37&D37&E37 -> 1X2Neen | G37: 12 | H37: 0
A38: Neen groep | B38: 6 | C38: 1 | D38: X1 | E38: Neen | F38: =C38&D38&E38 -> 1X1Neen | G38: 6 | H38: 0
A39: Neen groep | B39: 6 | C39: 1 | D39: X0,33 | E39: Neen | F39: =C39&D39&E39 -> 1X0,33Neen | G39: 2 | H39: 0
A40: Neen groep | B40: 6 | C40: 1 | D40: X0,66 | E40: Neen | F40: =C40&D40&E40 -> 1X0,66Neen | G40: 4 | H40: 0
... A59: NVT groep | B59: 6 | C59: 1 | D59: X1 | E59: NVT | F59: =C59&D59&E59 -> 1X1NVT | G59: 0 | H59: 0
