Workbook

Sheet algemene inleiding

Sheet inleiding radiofarmacie
A1: INLEIDING RADIOFARMACIE

Sheet expertenteam
A1: MET DANK AAN HET EXPERTENTEAM
A2: Vicky Caveliers
A3: Pieter-Jan De Jonghe
A4: Astrid Sterckx
A5: Lieselotte Moerman
A6: Dominique Vanderghinste
A7: Nele Cromphout
A8: Kim Serdons
A9: Amandine Louppe
A10: Muriel Bary

Sheet handleiding
A2: Hoe gebruiken we de kwaliteitstool MAEIA?

Sheet inhoudstafel

Sheet proces radiofarmacie
A2: VERSIE 20230701 | B2: RADIOFARMACIE | C2: NIVEAU | D2: Referentie | E2: ter info: artikelnummer, §, pagina | G2: ANTWOORD | H2: OPMERKINGEN | J2: extra factor gewicht | L2: TOTAL | M2: SCORE
C3: 1 = WETGEVING (= 6 punten) | H3: OPMERKINGEN | L3: =SUBTOTAL(9,L7:L234) -> 3 | M3: =SUBTOTAL(9,M7:M234) -> 3
C4: 2 = RICHTLIJNEN, NORMEN, AANBEVELINGEN (= 3 punten) | G4: Ja
C5: 3 = GOOD PRACTICE (= 1 punt) | G5: Neen
G6: NVT | K6: Code | L6: Total | M6: Score
A7: I | B7: Kwaliteitsopvolging van het radiofarmacieproces | C7: Progress :: | G7: =SUBTOTAL(3,G10:G12)/SUBTOTAL(3,C10:C12) -> 0.33333333 | L7: =SUBTOTAL(9,L10:L12) -> 3 | M7: =SUBTOTAL(9,M10:M12) -> 3
B8: AUDITVRAGEN
B9: Controleer altijd de documentatie en de toepassing op de werkvloer.
A10: 1 | B10: Werden alle genomen acties op basis van de tekortkomingen van niveau 1 die bij de vorige audit werden vastgesteld adequaat opgevolgd en met met succes geïmplementeerd? | C10: 3 | D10: Good Practice | G10: Ja | J10: X3 | K10: =C10&J10&G10 -> 3X3Ja | L10: =IFERROR(VLOOKUP($K10,Mapping!$F:$H,2,0),"") -> 3 | M10: =IFERROR(VLOOKUP($K10,Mapping!$F:$H,3,0),"") -> 3 | N10: =C10&G10 -> 3Ja
A11: 2 | B11: Werden alle genomen acties op basis van de verbeterpunten van niveau 2 die bij de vorige audit werden vastgesteld adequaat opgevolgd en met met succes geïmplementeerd? | C11: 3 | D11: Good Practice | J11: X2 | K11: =C11&J11&G11 -> 3X2 | L11: =IFERROR(VLOOKUP($K11,Mapping!F:H,2,0),"") | M11: =IFERROR(VLOOKUP($K11,Mapping!$F:$H,3,0),"") | N11: =C11&G11 -> 3
A12: 3 | B12: Werden alle genomen acties op basis van de verbeterpunten van niveau 3 die bij de vorige audit werden vastgesteld adequaat opgevolgd en met met succes geïmplementeerd? | C12: 3 | D12: Good Practice | J12: X1 | K12: =C12&J12&G12 -> 3X1 | L12: =IFERROR(VLOOKUP($K12,Mapping!F:H,2,0),"") | M12: =IFERROR(VLOOKUP($K12,Mapping!$F:$H,3,0),"") | N12: =C12&G12 -> 3
A13: II | B13: Algemeen | C13: Progress :: | G13: =SUBTOTAL(3,G16:G28)/(SUBTOTAL(3,C16:C28)-3) -> 0 | L13: =SUBTOTAL(9,L16:L28) -> 0 | M13: =SUBTOTAL(9,M16:M28) -> 0
B14: AUDITVRAGEN
B15: Controleer altijd de documentatie en de toepassing op de werkvloer.
A16: 1 | B16: Bestaat er een algemene procedure betreffende het beheer en organisatie voor de bereiding van radiofarmaca? | C16: 1 | D16: KB 20 juli 2001 ARBIS | E16: Art 51 | J16: X1 | K16: =C16&J16&G16 -> 1X1 | L16: =IFERROR(VLOOKUP($K16,Mapping!F:H,2,0),"") | M16: =IFERROR(VLOOKUP($K16,Mapping!$F:$H,3,0),"") | N16: =C16&G16 -> 1
A17: 2 | B17: Wordt deze procedure gevalideerd door het diensthoofd apotheek of radiofarmaceut? | C17: 1 | D17: KB 30 sept 2020 | E17: Bijlage I A | J17: X1 | K17: =C17&J17&G17 -> 1X1 | L17: =IFERROR(VLOOKUP($K17,Mapping!F:H,2,0),"") | M17: =IFERROR(VLOOKUP($K17,Mapping!$F:$H,3,0),"") | N17: =C17&G17 -> 1
A18: 3 | B18: Is de procedure beschikbaar voor beide diensthoofden (ziekenhuisapotheek - dienst Nucleaire geneeskunde) | C18: 3 | D18: Good Practice | J18: X1 | K18: =C18&J18&G18 -> 3X1 | L18: =IFERROR(VLOOKUP($K18,Mapping!F:H,2,0),"") | M18: =IFERROR(VLOOKUP($K18,Mapping!$F:$H,3,0),"") | N18: =C18&G18 -> 3
A19: 4 | B19: Bestaat er een procedure voor de verwijdering van radioactief afval? | C19: 1 | D19: KB 20 juli 2001 ARBIS | E19: Art 34 | J19: X1 | K19: =C19&J19&G19 -> 1X1 | L19: =IFERROR(VLOOKUP($K19,Mapping!F:H,2,0),"") | M19: =IFERROR(VLOOKUP($K19,Mapping!$F:$H,3,0),"") | N19: =C19&G19 -> 1
A20: 5 | B20: Bestaat er een procedure in geval van radioactieve contaminatie? | C20: 1 | D20: KB 20 juli 2001 ARBIS | E20: Art 23 | J20: X1 | K20: =C20&J20&G20 -> 1X1 | L20: =IFERROR(VLOOKUP($K20,Mapping!F:H,2,0),"") | M20: =IFERROR(VLOOKUP($K20,Mapping!$F:$H,3,0),"") | N20: =C20&G20 -> 1
A21: 6 | B21: Bestaat er een aanvraagprocedure voor een dosismeter? | C21: 3 | D21: Good Practice | J21: X1 | K21: =C21&J21&G21 -> 3X1 | L21: =IFERROR(VLOOKUP($K21,Mapping!F:H,2,0),"") | M21: =IFERROR(VLOOKUP($K21,Mapping!$F:$H,3,0),"") | N21: =C21&G21 -> 3
A22: 7 | B22: Bestaat er een procedure die beschrijft hoe de resultaten van de dosismeter moeten worden opgevolgd? | C22: 3 | D22: Good Practice | J22: X1 | K22: =C22&J22&G22 -> 3X1 | L22: =IFERROR(VLOOKUP($K22,Mapping!F:H,2,0),"") | M22: =IFERROR(VLOOKUP($K22,Mapping!$F:$H,3,0),"") | N22: =C22&G22 -> 3
A23: 8 | B23: Bestaat er een procedure die uitlegt welk stralingsbeschermingsmateriaal er moet worden gebruikt bij de bereiding van radiofarmaca? | C23: 1 | D23: KB 20 juli 2001 ARBIS | E23: Art 25 | J23: X1 | K23: =C23&J23&G23 -> 1X1 | L23: =IFERROR(VLOOKUP($K23,Mapping!F:H,2,0),"") | M23: =IFERROR(VLOOKUP($K23,Mapping!$F:$H,3,0),"") | N23: =C23&G23 -> 1
A24: 9 | B24: Is er een procedure indien de producten moeten worden vervoerd naar een andere zorginstelling? | C24: 1 | D24: KB 30 sept 2020 | E24: Bijlage III Bijlage 3 - 53 | J24: X1 | K24: =C24&J24&G24 -> 1X1 | L24: =IFERROR(VLOOKUP($K24,Mapping!F:H,2,0),"") | M24: =IFERROR(VLOOKUP($K24,Mapping!$F:$H,3,0),"") | N24: =C24&G24 -> 1
A25: 10 | B25: Voldoet deze procedure aan de lokale wetgeving? | C25: 1 | D25: KB 30 sept 2020 | E25: Bijlage III Bijlage 3 - 53 | J25: X1 | K25: =C25&J25&G25 -> 1X1 | L25: =IFERROR(VLOOKUP($K25,Mapping!F:H,2,0),"") | M25: =IFERROR(VLOOKUP($K25,Mapping!$F:$H,3,0),"") | N25: =C25&G25 -> 1
A26: 11 | B26: Is er een overeenkomst indien het transport gebeurt door een extern transportbedrijf? | C26: 1 | D26: KB 30 sept 2020 | E26: Bijlage III Bijlage 3 - 53 | J26: X1 | K26: =C26&J26&G26 -> 1X1 | L26: =IFERROR(VLOOKUP($K26,Mapping!F:H,2,0),"") | M26: =IFERROR(VLOOKUP($K26,Mapping!$F:$H,3,0),"") | N26: =C26&G26 -> 1
A27: 12 | B27: Is er voor elke bereiding van radiofarmaca een schriftelijke werkinstructie beschikbaar gevalideerd door de radiofarmaceut of ziekenhuisapotheker verantwoordelijk voor radiofarmaca? | C27: 1 | D27: KB 30 sept 2020 | E27: Bijlage III Bijlage 3 - 28 | J27: X1 | K27: =C27&J27&G27 -> 1X1 | L27: =IFERROR(VLOOKUP($K27,Mapping!F:H,2,0),"") | M27: =IFERROR(VLOOKUP($K27,Mapping!$F:$H,3,0),"") | N27: =C27&G27 -> 1
A28: 13 | B28: Is er een procedure en zijn er werkinstructies voor de kwaliteitscontroles die op een bereid radiofarmacon moeten uitgevoerd worden. | C28: 1 | D28: KB 30 sept 2020 | E28: Bijlage I A | J28: X1 | K28: =C28&J28&G28 -> 1X1 | L28: =IFERROR(VLOOKUP($K28,Mapping!F:H,2,0),"") | M28: =IFERROR(VLOOKUP($K28,Mapping!$F:$H,3,0),"") | N28: =C28&G28 -> 1
A29: III | B29: Personeel | C29: Progress :: | G29: =SUBTOTAL(3,G32:G51)/(SUBTOTAL(3,C32:C51)-3) -> 0 | L29: =SUBTOTAL(9,L32:L51) -> 0 | M29: =SUBTOTAL(9,M32:M51) -> 0
B30: AUDITVRAGEN
B31: Controleer altijd de documentatie en de toepassing op de werkvloer.
A32: 1 | B32: Wordt het personeel dat de steriele radiofarmaca aanmaakt opgeleid voor dit type werk? | C32: 1 | D32: KB 30 sept 2020 | E32: Bijlage III Bijlage 3 Sectie 1 | J32: X1 | K32: =C32&J32&G32 -> 1X1 | L32: =IFERROR(VLOOKUP($K32,Mapping!F:H,2,0),"") | M32: =IFERROR(VLOOKUP($K32,Mapping!$F:$H,3,0),"") | N32: =C32&G32 -> 1
A33: 2 | B33: Wordt het personeel regelmatig getest op steriel werken (media-fill test)? | C33: 1 | D33: KB 30 sept 2020 | E33: Bijlage III Bijlage 3 Sectie 1 | J33: X1 | K33: =C33&J33&G33 -> 1X1 | L33: =IFERROR(VLOOKUP($K33,Mapping!F:H,2,0),"") | M33: =IFERROR(VLOOKUP($K33,Mapping!$F:$H,3,0),"") | N33: =C33&G33 -> 1
A34: 3 | B34: Wordt het personeel opgeleid met gedetailleerde kennis van goed praktijken voor de bereiding en aseptische bewerkingen volgens de geldende PIC/S richtlijnen? | C34: 1 | D34: KB 30 sept 2020 | E34: Bijlage III Bijlage 3 Sectie 1 | J34: X1 | K34: =C34&J34&G34 -> 1X1 | L34: =IFERROR(VLOOKUP($K34,Mapping!F:H,2,0),"") | M34: =IFERROR(VLOOKUP($K34,Mapping!$F:$H,3,0),"") | N34: =C34&G34 -> 1
A35: 4 | B35: Wordt het personeel opgeleid met de algemene kennis van radiochemie? | C35: 1 | D35: KB 30 sept 2020 | E35: Bijlage III Bijlage 3 Sectie 1 | J35: X1 | K35: =C35&J35&G35 -> 1X1 | L35: =IFERROR(VLOOKUP($K35,Mapping!F:H,2,0),"") | M35: =IFERROR(VLOOKUP($K35,Mapping!$F:$H,3,0),"") | N35: =C35&G35 -> 1
A36: 5 | B36: Krijgt het personeel een jaarlijkse opleiding van minimum 1 uur in radioprotectie? | C36: 1 | D36: KB 20 juli 2001 ARBIS | E36: Art 25 | J36: X1 | K36: =C36&J36&G36 -> 1X1 | L36: =IFERROR(VLOOKUP($K36,Mapping!F:H,2,0),"") | M36: =IFERROR(VLOOKUP($K36,Mapping!$F:$H,3,0),"") | N36: =C36&G36 -> 1
A37: 6 | B37: Heeft het personeel een gedetailleerde kennis van de risico's van ioniserende straling? | C37: 1 | D37: KB 30 sept 2020 | E37: Bijlage III Bijlage 3 Sectie 1 | J37: X1 | K37: =C37&J37&G37 -> 1X1 | L37: =IFERROR(VLOOKUP($K37,Mapping!F:H,2,0),"") | M37: =IFERROR(VLOOKUP($K37,Mapping!$F:$H,3,0),"") | N37: =C37&G37 -> 1
A38: 7 | B38: Heeft het personeel dat individuele dosissen voor de patiënten bereidt een opleiding gevolgd conform Art 85 van het KB medische blootstelling van het Fanc? | C38: 1 | D38: KB 13 feb 2020 | E38: Art 85 | J38: X1 | K38: =C38&J38&G38 -> 1X1 | L38: =IFERROR(VLOOKUP($K38,Mapping!F:H,2,0),"") | M38: =IFERROR(VLOOKUP($K38,Mapping!$F:$H,3,0),"") | N38: =C38&G38 -> 1
A39: 8 | B39: Bestaat er een kledingprocedure (kleding, make-up, juwelen, enz.)? | C39: 1 | D39: KB 30 sept 2020 | E39: Bijlage III 2.4 | J39: X1 | K39: =C39&J39&G39 -> 1X1 | L39: =IFERROR(VLOOKUP($K39,Mapping!F:H,2,0),"") | M39: =IFERROR(VLOOKUP($K39,Mapping!$F:$H,3,0),"") | N39: =C39&G39 -> 1
A40: 9 | B40: Beschikt het personeel over aangepast materiaal voor de bereiding van radiofarmaca? | C40: 1 | D40: KB 30 sept 2020 | E40: Bijlage 1 B | J40: X1 | K40: =C40&J40&G40 -> 1X1 | L40: =IFERROR(VLOOKUP($K40,Mapping!F:H,2,0),"") | M40: =IFERROR(VLOOKUP($K40,Mapping!$F:$H,3,0),"") | N40: =C40&G40 -> 1
A41: 10 | B41: Bestaat er een procedure voor het correcte gebruik van de cleanrooms (kledij, mal, pal...)? | C41: 1 | D41: KB 30 sept 2020 | E41: Bijlage III 2.4 | J41: X1 | K41: =C41&J41&G41 -> 1X1 | L41: =IFERROR(VLOOKUP($K41,Mapping!F:H,2,0),"") | M41: =IFERROR(VLOOKUP($K41,Mapping!$F:$H,3,0),"") | N41: =C41&G41 -> 1
...

Sheet rapport
B1: MAEIA Radiofarmacie Rapport
A3: Date : | I3: Adapt these cells
A4: Ziekenhuis : | I4: Adapt these cells
A5: Hoofdapotheker : | I5: Adapt these cells
A6: Auditeur naam : | I6: Adapt these cells
C7: Max | D7: Score
A8: Total score | C8: ='proces radiofarmacie'!L3 -> 3 | D8: ='proces radiofarmacie'!M3 -> 3 | K8: Make sure total is correct | L8: Make sure total is correct
A9: ='proces radiofarmacie'!A7 -> I | B9: ='proces radiofarmacie'!B7 -> Kwaliteitsopvolging van het radiofarmacieproces | C9: ='proces radiofarmacie'!L7 -> 3 | D9: ='proces radiofarmacie'!M7 -> 3 | H9: Copy Paste visible cells from questionnaire sheet | I9: Copy Paste visible cells from questionnaire sheet | J9: Copy Paste visible cells from questionnaire sheet | K9: Copy Paste visible cells from questionnaire sheet | L9: Copy Paste visible cells from questionnaire sheet
A10: ='proces radiofarmacie'!A13 -> II | B10: ='proces radiofarmacie'!B13 -> Algemeen | C10: ='proces radiofarmacie'!L13 -> 0 | D10: ='proces radiofarmacie'!M13 -> 0 | H10: Copy Paste visible cells from questionnaire sheet | I10: Copy Paste visible cells from questionnaire sheet | J10: Copy Paste visible cells from questionnaire sheet | K10: Copy Paste visible cells from questionnaire sheet | L10: Copy Paste visible cells from questionnaire sheet
A11: ='proces radiofarmacie'!A29 -> III | B11: ='proces radiofarmacie'!B29 -> Personeel | C11: ='proces radiofarmacie'!L29 -> 0 | D11: ='proces radiofarmacie'!M29 -> 0 | H11: Copy Paste visible cells from questionnaire sheet | I11: Copy Paste visible cells from questionnaire sheet | J11: Copy Paste visible cells from questionnaire sheet | K11: Copy Paste visible cells from questionnaire sheet | L11: Copy Paste visible cells from questionnaire sheet
A12: ='proces radiofarmacie'!A52 -> IV | B12: ='proces radiofarmacie'!B52 -> Gebouwen en apparatuur | C12: ='proces radiofarmacie'!L52 -> 0 | D12: ='proces radiofarmacie'!M52 -> 0 | H12: Copy Paste visible cells from questionnaire sheet | I12: Copy Paste visible cells from questionnaire sheet | J12: Copy Paste visible cells from questionnaire sheet | K12: Copy Paste visible cells from questionnaire sheet | L12: Copy Paste visible cells from questionnaire sheet
A13: ='proces radiofarmacie'!A70 -> V | B13: ='proces radiofarmacie'!B70 -> Documentatie | C13: ='proces radiofarmacie'!L70 -> 0 | D13: ='proces radiofarmacie'!M70 -> 0 | H13: Copy Paste visible cells from questionnaire sheet | I13: Copy Paste visible cells from questionnaire sheet | J13: Copy Paste visible cells from questionnaire sheet | K13: Copy Paste visible cells from questionnaire sheet | L13: Copy Paste visible cells from questionnaire sheet
A14: ='proces radiofarmacie'!A83 -> VI | B14: ='proces radiofarmacie'!B83 -> Productie | C14: ='proces radiofarmacie'!L83 -> 0 | D14: ='proces radiofarmacie'!M83 -> 0 | H14: Copy Paste visible cells from questionnaire sheet | I14: Copy Paste visible cells from questionnaire sheet | J14: Copy Paste visible cells from questionnaire sheet | K14: Copy Paste visible cells from questionnaire sheet | L14: Copy Paste visible cells from questionnaire sheet
A15: ='proces radiofarmacie'!A86 -> a | B15: ='proces radiofarmacie'!B86 -> Algemeen | C15: ='proces radiofarmacie'!L86 -> 0 | D15: ='proces radiofarmacie'!M86 -> 0 | H15: Copy Paste visible cells from questionnaire sheet | I15: Copy Paste visible cells from questionnaire sheet | J15: Copy Paste visible cells from questionnaire sheet | K15: Copy Paste visible cells from questionnaire sheet | L15: Copy Paste visible cells from questionnaire sheet
A16: ='proces radiofarmacie'!A104 -> b | B16: ='proces radiofarmacie'!B104 -> Werkinstructies | C16: ='proces radiofarmacie'!L104 -> 0 | D16: ='proces radiofarmacie'!M104 -> 0 | H16: Copy Paste visible cells from questionnaire sheet | I16: Copy Paste visible cells from questionnaire sheet | J16: Copy Paste visible cells from questionnaire sheet | K16: Copy Paste visible cells from questionnaire sheet | L16: Copy Paste visible cells from questionnaire sheet
A17: ='proces radiofarmacie'!A114 -> c | B17: ='proces radiofarmacie'!B114 -> Bereidingsverslag | C17: ='proces radiofarmacie'!L114 -> 0 | D17: ='proces radiofarmacie'!M114 -> 0 | H17: Copy Paste visible cells from questionnaire sheet | I17: Copy Paste visible cells from questionnaire sheet | J17: Copy Paste visible cells from questionnaire sheet | K17: Copy Paste visible cells from questionnaire sheet | L17: Copy Paste visible cells from questionnaire sheet
A18: ='proces radiofarmacie'!A119 -> VII | B18: ='proces radiofarmacie'!B119 -> Voorschrift | C18: ='proces radiofarmacie'!L119 -> 0 | D18: ='proces radiofarmacie'!M119 -> 0 | H18: Copy Paste visible cells from questionnaire sheet | I18: Copy Paste visible cells from questionnaire sheet | J18: Copy Paste visible cells from questionnaire sheet | K18: Copy Paste visible cells from questionnaire sheet | L18: Copy Paste visible cells from questionnaire sheet
A19: ='proces radiofarmacie'!A129 -> VIII | B19: ='proces radiofarmacie'!B129 -> Kwaliteitscontrole | C19: ='proces radiofarmacie'!L129 -> 0 | D19: ='proces radiofarmacie'!M129 -> 0 | H19: Copy Paste visible cells from questionnaire sheet | I19: Copy Paste visible cells from questionnaire sheet | J19: Copy Paste visible cells from questionnaire sheet | K19: Copy Paste visible cells from questionnaire sheet | L19: Copy Paste visible cells from questionnaire sheet
A42: Handtekeningen
A44: Hoofdapotheker | I44: Change name & signature
A47: Auditeur naam : | I47: Change name & signature
B51: MAEIA Radiofarmacie Rapport
A78: Sterke punten
A79: 1
A80: 2
A81: 3
A82: 4
A83: 5
A84: 6
A85: Tekortkomingen niveau 1
A86: 1
A87: 2
A88: 3
A89: 4
A90: 5
A91: 6
A92: Verbeterpunten niveau 2
A93: 1
A94: 2
A95: 3
...

Sheet actiepunten auditee
A3: Actiepunt | B3: Nummer | C3: ..… | D3: Oorsprong :
D4: o Tekortkoming niveau 1
D5: o Verbeterpunt niveau 2
D6: o Verbeterpunt niveau 3
D7: o Observatie
A8: Geaudit proces | B8: Radiofarmacie
A9: Auditdatum | B9: …../…../….. | D9: Auditor | E9: ……………………………………………
A10: Auditee | B10: ………………………………………………………………………………..
A11: Omschrijving van de tekortkoming / verbeterpunt / observatie
A12: Voorgestelde maatregel door de auditee | B12: Oorzaak
B15: Actie
B21: Verantwoordelijke
B23: Termijn
A26: Opvolgrapport
A27: (cumulatief)
A44: Conclusie

Sheet Mapping
B4: MAPPING TABLE | G4: points
B5: Base points | C5: Niveau | D5: Extra gewicht factor | E5: Antwoord | F5: Code | G5: Total | H5: Score | M5: Somme | P5: Speedometer | R5: Pointer
A6: Ja Groep | B6: 1 | C6: 3 | D6: X3 | E6: Ja | F6: =C6&D6&E6 -> 3X3Ja | G6: 3 | H6: 3 | L6: Ja | M6: =COUNTIF('proces radiofarmacie'!$G:$G,Mapping!$L6) -> 2 | P6: Start | Q6: 0 | R6: Value | S6: =+ROUND(M11/M10,2)*100 -> 100
A7: Ja Groep | B7: 1 | C7: 3 | D7: X2 | E7: Ja | F7: =C7&D7&E7 -> 3X2Ja | G7: 2 | H7: 2 | L7: Neen | M7: =COUNTIF('proces radiofarmacie'!$G:$G,Mapping!$L7) -> 1 | P7: Initial | Q7: 60 | R7: Pointer | S7: 1
A8: Ja Groep | B8: 1 | C8: 3 | D8: X1 | E8: Ja | F8: =C8&D8&E8 -> 3X1Ja | G8: 1 | H8: 1 | L8: NVT | M8: =COUNTIF('proces radiofarmacie'!$G:$G,Mapping!$L8) -> 1 | P8: Middle | Q8: 30 | R8: end | S8: =200-S7-S6 -> 99
A9: Ja Groep | B9: 1 | C9: 3 | D9: X0,33 | E9: Ja | F9: =C9&D9&E9 -> 3X0,33Ja | G9: =1/3 -> 0.33333333 | H9: =1/3 -> 0.33333333 | L9: Somme | M9: =SUM(M6:M8) -> 4 | P9: End | Q9: 10
A10: Ja Groep | B10: 1 | C10: 3 | D10: X0,66 | E10: Ja | F10: =C10&D10&E10 -> 3X0,66Ja | G10: =2/3 -> 0.66666667 | H10: =2/3 -> 0.66666667 | L10: Total | M10: ='proces radiofarmacie'!$L$3 -> 3 | P10: Max | Q10: 100
A11: Ja Groep | B11: 1 | C11: 3 | D11: X1 | E11: Ja | F11: =C11&D11&E11 -> 3X1Ja | G11: 1 | H11: 1 | L11: Score | M11: ='proces radiofarmacie'!$M$3 -> 3
A12: Ja Groep | B12: 3 | C12: 2 | D12: X3 | E12: Ja | F12: =C12&D12&E12 -> 2X3Ja | G12: 9 | H12: 9 | S12: ="Total Score : "&S6&"%" -> Total Score : 100%
A13: Ja Groep | B13: 3 | C13: 2 | D13: X2 | E13: Ja | F13: =C13&D13&E13 -> 2X2Ja | G13: 6 | H13: 6
A14: Ja Groep | B14: 3 | C14: 2 | D14: X1 | E14: Ja | F14: =C14&D14&E14 -> 2X1Ja | G14: 3 | H14: 3 | L14: ROUGE | M14: 60
A15: Ja Groep | B15: 3 | C15: 2 | D15: X0,33 | E15: Ja | F15: =C15&D15&E15 -> 2X0,33Ja | G15: 1 | H15: 1 | L15: ORANGE | M15: 30
A16: Ja Groep | B16: 3 | C16: 2 | D16: X0,66 | E16: Ja | F16: =C16&D16&E16 -> 2X0,66Ja | G16: 2 | H16: 2 | L16: VERT | M16: 10
A17: Ja Groep | B17: 3 | C17: 2 | D17: X1 | E17: Ja | F17: =C17&D17&E17 -> 2X1Ja | G17: 3 | H17: 3 | L17: Invisible | M17: 100
A18: Ja Groep | B18: 6 | C18: 1 | D18: X3 | E18: Ja | F18: =C18&D18&E18 -> 1X3Ja | G18: 18 | H18: 18
A19: Ja Groep | B19: 6 | C19: 1 | D19: X2 | E19: Ja | F19: =C19&D19&E19 -> 1X2Ja | G19: 12 | H19: 12
A20: Ja Groep | B20: 6 | C20: 1 | D20: X1 | E20: Ja | F20: =C20&D20&E20 -> 1X1Ja | G20: 6 | H20: 6 | L20: Aiguille | M20: =M7/M9 -> 0.25
A21: Ja Groep | B21: 6 | C21: 1 | D21: X0,33 | E21: Ja | F21: =C21&D21&E21 -> 1X0,33Ja | G21: 2 | H21: 2 | L21: Largeur | M21: 1
A22: Ja Groep | B22: 6 | C22: 1 | D22: X0,66 | E22: Ja | F22: =C22&D22&E22 -> 1X0,66Ja | G22: 4 | H22: 4 | L22: Invisible | M22: =SUM(M14:M17)-(M21+M20) -> 198.75
A23: Ja Groep | B23: 6 | C23: 1 | D23: X1 | E23: Ja | F23: =C23&D23&E23 -> 1X1Ja | G23: 6 | H23: 6
A24: Neen groep | B24: 1 | C24: 3 | D24: X3 | E24: Neen | F24: =C24&D24&E24 -> 3X3Neen | G24: 3 | H24: 0 | L24: RIEN
A25: Neen groep | B25: 1 | C25: 3 | D25: X2 | E25: Neen | F25: =C25&D25&E25 -> 3X2Neen | G25: 2 | H25: 0 | L25: Aiguille | M25: =ROUND(M20,0)&"%" -> 0%
A26: Neen groep | B26: 1 | C26: 3 | D26: X1 | E26: Neen | F26: =C26&D26&E26 -> 3X1Neen | G26: 1 | H26: 0 | L26: RIEN
A27: Neen groep | B27: 1 | C27: 3 | D27: X0,33 | E27: Neen | F27: =C27&D27&E27 -> 3X0,33Neen | G27: =1/3 -> 0.33333333 | H27: 0
A28: Neen groep | B28: 1 | C28: 3 | D28: X0,66 | E28: Neen | F28: =C28&D28&E28 -> 3X0,66Neen | G28: =2/3 -> 0.66666667 | H28: 0
A29: Neen groep | B29: 1 | C29: 3 | D29: X1 | E29: Neen | F29: =C29&D29&E29 -> 3X1Neen | G29: 1 | H29: 0
A30: Neen groep | B30: 3 | C30: 2 | D30: X3 | E30: Neen | F30: =C30&D30&E30 -> 2X3Neen | G30: 9 | H30: 0
A31: Neen groep | B31: 3 | C31: 2 | D31: X2 | E31: Neen | F31: =C31&D31&E31 -> 2X2Neen | G31: 6 | H31: 0
A32: Neen groep | B32: 3 | C32: 2 | D32: X1 | E32: Neen | F32: =C32&D32&E32 -> 2X1Neen | G32: 3 | H32: 0
A33: Neen groep | B33: 3 | C33: 2 | D33: X0,33 | E33: Neen | F33: =C33&D33&E33 -> 2X0,33Neen | G33: 1 | H33: 0
A34: Neen groep | B34: 3 | C34: 2 | D34: X0,66 | E34: Neen | F34: =C34&D34&E34 -> 2X0,66Neen | G34: 2 | H34: 0
A35: Neen groep | B35: 3 | C35: 2 | D35: X1 | E35: Neen | F35: =C35&D35&E35 -> 2X1Neen | G35: 3 | H35: 0
A36: Neen groep | B36: 6 | C36: 1 | D36: X3 | E36: Neen | F36: =C36&D36&E36 -> 1X3Neen | G36: 18 | H36: 0
A37: Neen groep | B37: 6 | C37: 1 | D37: X2 | E37: Neen | F37: =C37&D37&E37 -> 1X2Neen | G37: 12 | H37: 0
A38: Neen groep | B38: 6 | C38: 1 | D38: X1 | E38: Neen | F38: =C38&D38&E38 -> 1X1Neen | G38: 6 | H38: 0
A39: Neen groep | B39: 6 | C39: 1 | D39: X0,33 | E39: Neen | F39: =C39&D39&E39 -> 1X0,33Neen | G39: 2 | H39: 0
A40: Neen groep | B40: 6 | C40: 1 | D40: X0,66 | E40: Neen | F40: =C40&D40&E40 -> 1X0,66Neen | G40: 4 | H40: 0
... A59: NVT groep | B59: 6 | C59: 1 | D59: X1 | E59: NVT | F59: =C59&D59&E59 -> 1X1NVT | G59: 0 | H59: 0
