Workbook

Sheet algemene inleiding

Sheet handleiding
A2: Hoe gebruiken we de kwaliteitstool MAEIA?

Sheet expertenteam
A1: MET DANK AAN HET EXPERTENTEAM
A2: John Leys
A3: Annemie Somers
A4: Sarah Mertens
A5: Nele vermeulen
A6: Laetitia Missiaen
A7: Mieke Mathijs
A8: Isabel Spriet
A9: Karolien Walgraeve
A10: Sofie Peeters
A11: Sandrina von Winckelmann
A12: Veerle Grootaert
... A14: Nathalie Gillard

Sheet inleiding ..... 
A1: INLEIDING MFC en ABG

Sheet inhoudstafel

Sheet proces MFC en ABG 
A2: VERSIE 20230701 | B2: MEDISCH FARMACEUTISCH COMITE en ANTIBIOTHERAPIEBELEIDSGROEP | C2: NIVEAU | D2: Referentie | E2: ter info: artikelnummer, §, pagina | G2: ANTWOORD | H2: OPMERKINGEN | J2: extra factor gewicht | L2: TOTAL | M2: SCORE
C3: 1 = WETGEVING (= 6 punten) | H3: OPMERKINGEN | L3: =SUBTOTAL(9,L7:L208) -> 3 | M3: =SUBTOTAL(9,M7:M208) -> 3
C4: 2 = RICHTLIJNEN, NORMEN, AANBEVELINGEN (= 3 punten) | G4: Ja
C5: 3 = GOOD PRACTICE (= 1 punt) | G5: Neen
G6: NVT | K6: Code | L6: Total | M6: Score
A7: I | B7: Kwaliteitsopvolging van het proces MFC en AB beleidsgroep | C7: Progress :: | G7: =SUBTOTAL(3,G10:G12)/SUBTOTAL(3,C10:C12) -> 0.33333333 | L7: =SUBTOTAL(9,L10:L12) -> 3 | M7: =SUBTOTAL(9,M10:M12) -> 3
B8: AUDITVRAGEN
B9: Controleer altijd de documentatie en de toepassing op de werkvloer.
A10: 1 | B10: Werden alle genomen acties op basis van de tekortkomingen van niveau 1 die bij de vorige audit werden vastgesteld adequaat opgevolgd en met met succes geïmplementeerd? | C10: 3 | D10: Good Practice | G10: Ja | J10: X3 | K10: =C10&J10&G10 -> 3X3Ja | L10: =IFERROR(VLOOKUP($K10,Mapping!$F:$H,2,0),"") -> 3 | M10: =IFERROR(VLOOKUP($K10,Mapping!$F:$H,3,0),"") -> 3 | N10: =C10&G10 -> 3Ja
A11: 2 | B11: Werden alle genomen acties op basis van de verbeterpunten van niveau 2 die bij de vorige audit werden vastgesteld adequaat opgevolgd en met met succes geïmplementeerd? | C11: 3 | D11: Good Practice | J11: X2 | K11: =C11&J11&G11 -> 3X2 | L11: =IFERROR(VLOOKUP($K11,Mapping!F:H,2,0),"") | M11: =IFERROR(VLOOKUP($K11,Mapping!$F:$H,3,0),"") | N11: =C11&G11 -> 3
A12: 3 | B12: Werden alle genomen acties op basis van de verbeterpunten van niveau 3 die bij de vorige audit werden vastgesteld adequaat opgevolgd en met met succes geïmplementeerd? | C12: 3 | D12: Good Practice | J12: X1 | K12: =C12&J12&G12 -> 3X1 | L12: =IFERROR(VLOOKUP($K12,Mapping!F:H,2,0),"") | M12: =IFERROR(VLOOKUP($K12,Mapping!$F:$H,3,0),"") | N12: =C12&G12 -> 3
A13: II | B13: Medisch Farmaceutisch Comité | C13: Progress :: | G13: =SUBTOTAL(3,G16:G91)/(SUBTOTAL(3,C16:C91)-4) -> 0 | L13: =SUBTOTAL(9,L16:L91) -> 0 | M13: =SUBTOTAL(9,M16:M91) -> 0
B14: AUDITVRAGEN
B15: Controleer altijd de documentatie en de toepassing op de werkvloer.
A16: a | B16: Algemeen | C16: Progress :: | G16: =SUBTOTAL(3,G17:G45)/SUBTOTAL(3,C17:C45) -> 0 | L16: =SUBTOTAL(9,L17:L45) -> 0 | M16: =SUBTOTAL(9,M17:M45) -> 0
A17: 1 | B17: Is er een Medisch-Farmaceutisch Comité (MFC)? | C17: 1 | D17: KB 4 maart 1991 | E17: Art 24 §1 | J17: X1 | K17: =C17&J17&G17 -> 1X1 | L17: =IFERROR(VLOOKUP($K17,Mapping!F:H,2,0),"") | M17: =IFERROR(VLOOKUP($K17,Mapping!$F:$H,3,0),"") | N17: =C17&G17 -> 1
A18: 2 | B18: Is de samenstelling conform de vigerende wetgeving? | C18: 1 | D18: KB 4 maart 1991 | E18: Art 24 §2 | J18: X1 | K18: =C18&J18&G18 -> 1X1 | L18: =IFERROR(VLOOKUP($K18,Mapping!F:H,2,0),"") | M18: =IFERROR(VLOOKUP($K18,Mapping!$F:$H,3,0),"") | N18: =C18&G18 -> 1
A19: 3 | B19: Zijn de taken van het MFC conform de vigerende wetgeving? | C19: 1 | D19: KB 4 maart 1991 | E19: Art 25 | J19: X1 | K19: =C19&J19&G19 -> 1X1 | L19: =IFERROR(VLOOKUP($K19,Mapping!F:H,2,0),"") | M19: =IFERROR(VLOOKUP($K19,Mapping!$F:$H,3,0),"") | N19: =C19&G19 -> 1
A20: 4 | B20: Is er in het MFC steeds minstens één (ziekenhuis)apotheker expert klinische farmacie aanwezig? | C20: 3 | D20: Good Practice | J20: X1 | K20: =C20&J20&G20 -> 3X1 | L20: =IFERROR(VLOOKUP($K20,Mapping!F:H,2,0),"") | M20: =IFERROR(VLOOKUP($K20,Mapping!$F:$H,3,0),"") | N20: =C20&G20 -> 3
A21: 5 | B21: Zijn er steeds verschillende klinische (ziekenhuis)apothekers aanwezig in het MFC die elk expert zijn in een verschillend verschillend domein? | C21: 3 | D21: Good Practice | J21: X1 | K21: =C21&J21&G21 -> 3X1
A22: 6 | B22: Beschikt het MFC over een procedure om geneesmiddelen voor te schrijven buiten het formularium? | C22: 2 | D22: Qualicor Europe 3.2, JCI: MMU.2 | J22: X1 | K22: =C22&J22&G22 -> 2X1 | L22: =IFERROR(VLOOKUP($K22,Mapping!F:H,2,0),"") | M22: =IFERROR(VLOOKUP($K22,Mapping!$F:$H,3,0),"") | N22: =C22&G22 -> 2
A23: 7 | B23: Beschikt het MFC over een procedure om tijdig medicatie die niet is opgenomen in het formularium te verstrekken? | C23: 3 | D23: Good Practice | J23: X1 | K23: =C23&J23&G23 -> 3X1 | L23: =IFERROR(VLOOKUP($K23,Mapping!F:H,2,0),"") | M23: =IFERROR(VLOOKUP($K23,Mapping!$F:$H,3,0),"") | N23: =C23&G23 -> 3
A24: 8 | B24: Beschikt het MFC over een procedure om geneesmiddelen op een restrictieve gebruik (bv. enkel voorschrijven op bepaalde diensten of enkel voorschrijven voor bepaalde indicaties,…) af te leveren en/of voor te schrijven? | C24: 3 | D24: Good Practice | J24: X1 | K24: =C24&J24&G24 -> 3X1 | L24: =IFERROR(VLOOKUP($K24,Mapping!F:H,2,0),"") | M24: =IFERROR(VLOOKUP($K24,Mapping!$F:$H,3,0),"") | N24: =C24&G24 -> 3
A25: 9 | B25: Beschikt het MFC over een procedure om de (ziekenhuis)apotheker toe te laten een interne substitutie of een therapeutisch alternatief te realiseren? | C25: 1 | D25: KB 30 sept 2020 | E25: Art 10 | J25: X1 | K25: =C25&J25&G25 -> 1X1 | L25: =IFERROR(VLOOKUP($K25,Mapping!F:H,2,0),"") | M25: =IFERROR(VLOOKUP($K25,Mapping!$F:$H,3,0),"") | N25: =C25&G25 -> 1
A26: 10 | B26: Wordt het substitutieproces elektronisch gestuurd? | C26: 3 | D26: Good Practice | J26: X1 | K26: =C26&J26&G26 -> 3X1 | L26: =IFERROR(VLOOKUP($K26,Mapping!F:H,2,0),"") | M26: =IFERROR(VLOOKUP($K26,Mapping!$F:$H,3,0),"") | N26: =C26&G26 -> 3
A27: 11 | B27: Houdt de substitutieprocedure rekening met de no-switchlijst van de overheid? | C27: 3 | D27: Good Practice | J27: X1 | K27: =C27&J27&G27 -> 3X1 | L27: =IFERROR(VLOOKUP($K27,Mapping!F:H,2,0),"") | M27: =IFERROR(VLOOKUP($K27,Mapping!$F:$H,3,0),"") | N27: =C27&G27 -> 3
A28: 12 | B28: Bestaat er een volledige en door het MFC goedgekeurde lijst van de geneesmiddelen en producten die de verpleegkundige onder bepaalde voorwaarden zelf mag bestellen voor een patiënt of zijn/haar afdeling? | C28: 3 | D28: Good Practice | J28: X1 | K28: =C28&J28&G28 -> 3X1 | L28: =IFERROR(VLOOKUP($K28,Mapping!F:H,2,0),"") | M28: =IFERROR(VLOOKUP($K28,Mapping!$F:$H,3,0),"") | N28: =C28&G28 -> 3
A29: 13 | B29: Beschilt het MFC over een procedure voor het gebruik van een standing order? | C29: 1 | D29: KB 30 sept 2020 | E29: Art 1.18° en Art 12 | J29: X1 | K29: =C29&J29&G29 -> 1X1 | L29: =IFERROR(VLOOKUP($K29,Mapping!F:H,2,0),"") | M29: =IFERROR(VLOOKUP($K29,Mapping!$F:$H,3,0),"") | N29: =C29&G29 -> 1
A30: 14 | B30: Is er een lijst beschikbaar van courante verzorgingsproducten waarvoor geen medische handtekening is vereist die door het MFC werd goedgekeurd? | C30: 3 | D30: Good Practice | J30: X1 | K30: =C30&J30&G30 -> 3X1 | L30: =IFERROR(VLOOKUP($K30,Mapping!F:H,2,0),"") | M30: =IFERROR(VLOOKUP($K30,Mapping!$F:$H,3,0),"") | N30: =C30&G30 -> 3
A31: 15 | B31: Beschikt het MFC over een procedure betreffende de geschiktheidscontrole van de voorschriften door de apotheek? | C31: 2 | D31: Qualicor Europe 15.0 - JCI MMU 5.1 | J31: X1 | K31: =C31&J31&G31 -> 2X1 | L31: =IFERROR(VLOOKUP($K31,Mapping!F:H,2,0),"") | M31: =IFERROR(VLOOKUP($K31,Mapping!$F:$H,3,0),"") | N31: =C31&G31 -> 2
A32: 16 | B32: Beschikt het MFC over een procedure betreffende de terugkoppeling naar de arts en/of verplegend personeel indien een voorschrift niet geschikt is? | C32: 3 | D32: Good Practice | J32: X1 | K32: =C32&J32&G32 -> 3X1 | L32: =IFERROR(VLOOKUP($K32,Mapping!F:H,2,0),"") | M32: =IFERROR(VLOOKUP($K32,Mapping!$F:$H,3,0),"") | N32: =C32&G32 -> 3
A33: 17 | B33: Zijn er voldoende wetenschappelijke bronnen en interne farmacotherapeutische richtlijnenter ter beschikking voor de zorgverstrekkers? | C33: 2 | D33: JCI MMU1.ME 6 | J33: X1 | K33: =C33&J33&G33 -> 2X1 | L33: =IFERROR(VLOOKUP($K33,Mapping!F:H,2,0),"") | M33: =IFERROR(VLOOKUP($K33,Mapping!$F:$H,3,0),"") | N33: =C33&G33 -> 2
A34: 18 | B34: Voorziet het MFC een gedocumenteerde en gecoördineerde aanpak voor het veilige beheer van hoog-risicomedicatie binnen de instelling? | C34: 2 | D34: Zorginspectie | J34: X1 | K34: =C34&J34&G34 -> 2X1 | L34: =IFERROR(VLOOKUP($K34,Mapping!F:H,2,0),"") | M34: =IFERROR(VLOOKUP($K34,Mapping!$F:$H,3,0),"") | N34: =C34&G34 -> 2
A35: 19 | B35: Beschikt het MFC over procedures om de beveiliging van verdovende middelen te controleren? | C35: 1 | D35: KB 30 sept 2020 | E35: Bijlage I. C | J35: X1 | K35: =C35&J35&G35 -> 1X1 | L35: =IFERROR(VLOOKUP($K35,Mapping!F:H,2,0),"") | M35: =IFERROR(VLOOKUP($K35,Mapping!$F:$H,3,0),"") | N35: =C35&G35 -> 1
A36: 20 | B36: Is er een subwerkgroep anti-tumoraal die jaarlijks rapporteert aan het MFC? | C36: 1 | D36: KB 21 maart 2003 | E36: Afdeling 5 Art 34 en 35 | J36: X1 | K36: =C36&J36&G36 -> 1X1 | L36: =IFERROR(VLOOKUP($K36,Mapping!F:H,2,0),"") | M36: =IFERROR(VLOOKUP($K36,Mapping!$F:$H,3,0),"") | N36: =C36&G36 -> 1
A37: 21 | B37: Is er een subwerkgroep perfusiebeleid die jaarlijks rapporteert aan het MFC? | C37: 3 | D37: Good Practice | J37: X1 | K37: =C37&J37&G37 -> 3X1 | L37: =IFERROR(VLOOKUP($K37,Mapping!F:H,2,0),"") | M37: =IFERROR(VLOOKUP($K37,Mapping!$F:$H,3,0),"") | N37: =C37&G37 -> 3
A38: 22 | B38: Is er een subwerkgroep stollingsproducten die jaarlijks rapporteert aan het MFC? | C38: 3 | D38: Good Practice | J38: X1 | K38: =C38&J38&G38 -> 3X1 | L38: =IFERROR(VLOOKUP($K38,Mapping!F:H,2,0),"") | M38: =IFERROR(VLOOKUP($K38,Mapping!$F:$H,3,0),"") | N38: =C38&G38 -> 3
A39: 23 | B39: Is er een subwerkgroep nutritie die jaarlijks rapporteert aan het MFC? | C39: 1 | D39: BFM financiering (onderdeel B4) | J39: X1 | K39: =C39&J39&G39 -> 1X1 | L39: =IFERROR(VLOOKUP($K39,Mapping!F:H,2,0),"") | M39: =IFERROR(VLOOKUP($K39,Mapping!$F:$H,3,0),"") | N39: =C39&G39 -> 1
A40: 24 | B40: Is er een subwerkgroep pijn die jaarlijks rapporteert aan het MFC? | C40: 1 | D40: BFM financiering (onderdeel B4) | J40: X1 | K40: =C40&J40&G40 -> 1X1 | L40: =IFERROR(VLOOKUP($K40,Mapping!F:H,2,0),"") | M40: =IFERROR(VLOOKUP($K40,Mapping!$F:$H,3,0),"") | N40: =C40&G40 -> 1
A41: 25 | B41: Zijn er werkgroepen die jaarlijks rapporteren aan het MFC over Clinical Decision Support (CDS), Elektronisch Voorschrift (EVS), of andere technisch administratieve opdrachten? | C41: 3 | D41: Good Practice | J41: X1 | K41: =C41&J41&G41 -> 3X1 | L41: =IFERROR(VLOOKUP($K41,Mapping!F:H,2,0),"") | M41: =IFERROR(VLOOKUP($K41,Mapping!$F:$H,3,0),"") | N41: =C41&G41 -> 3
...

Sheet rapport
B1: MAEIA MFC en ABG Rapport
A3: Date : | I3: Adapt these cells
A4: Ziekenhuis : | I4: Adapt these cells
A5: Hoofdapotheker : | I5: Adapt these cells
A6: Auditeur naam : | I6: Adapt these cells
C7: Max | D7: Score
A8: Total score | C8: ='proces MFC en ABG '!L3 -> 3 | D8: ='proces MFC en ABG '!M3 -> 3 | K8: Make sure total is correct | L8: Make sure total is correct
A9: ='proces MFC en ABG '!A7 -> I | B9: ='proces MFC en ABG '!B7 -> Kwaliteitsopvolging van het proces MFC en AB beleidsgroep | C9: ='proces MFC en ABG '!L13 -> 0 | D9: ='proces MFC en ABG '!M7 -> 3 | H9: Copy Paste visible cells from questionnaire sheet | I9: Copy Paste visible cells from questionnaire sheet | J9: Copy Paste visible cells from questionnaire sheet | K9: Copy Paste visible cells from questionnaire sheet | L9: Copy Paste visible cells from questionnaire sheet
A10: ='proces MFC en ABG '!A13 -> II | B10: ='proces MFC en ABG '!B13 -> Medisch Farmaceutisch Comité | C10: ='proces MFC en ABG '!L13 -> 0 | D10: ='proces MFC en ABG '!M13 -> 0 | H10: Copy Paste visible cells from questionnaire sheet | I10: Copy Paste visible cells from questionnaire sheet | J10: Copy Paste visible cells from questionnaire sheet | K10: Copy Paste visible cells from questionnaire sheet | L10: Copy Paste visible cells from questionnaire sheet
A11: ='proces MFC en ABG '!A16 -> a | B11: ='proces MFC en ABG '!B16 -> Algemeen | C11: ='proces MFC en ABG '!L16 -> 0 | D11: ='proces MFC en ABG '!M16 -> 0 | H11: Copy Paste visible cells from questionnaire sheet | I11: Copy Paste visible cells from questionnaire sheet | J11: Copy Paste visible cells from questionnaire sheet | K11: Copy Paste visible cells from questionnaire sheet | L11: Copy Paste visible cells from questionnaire sheet
A12: ='proces MFC en ABG '!A46 -> b | B12: ='proces MFC en ABG '!B46 -> Therapeutisch Formularium | C12: ='proces MFC en ABG '!L46 -> 0 | D12: ='proces MFC en ABG '!M46 -> 0 | H12: Copy Paste visible cells from questionnaire sheet | I12: Copy Paste visible cells from questionnaire sheet | J12: Copy Paste visible cells from questionnaire sheet | K12: Copy Paste visible cells from questionnaire sheet | L12: Copy Paste visible cells from questionnaire sheet
A13: ='proces MFC en ABG '!A66 -> c | B13: ='proces MFC en ABG '!B66 -> Analyse verbruik geneesmiddelen | C13: ='proces MFC en ABG '!L66 -> 0 | D13: ='proces MFC en ABG '!M66 -> 0 | H13: Copy Paste visible cells from questionnaire sheet | I13: Copy Paste visible cells from questionnaire sheet | J13: Copy Paste visible cells from questionnaire sheet | K13: Copy Paste visible cells from questionnaire sheet | L13: Copy Paste visible cells from questionnaire sheet
A14: ='proces MFC en ABG '!A82 -> d | B14: ='proces MFC en ABG '!B82 -> Richtlijnen | C14: ='proces MFC en ABG '!L82 -> 0 | D14: ='proces MFC en ABG '!M82 -> 0
A15: ='proces MFC en ABG '!A92 -> III | B15: ='proces MFC en ABG '!B92 -> Antibiotherapiebeleidsgroep | C15: ='proces MFC en ABG '!L92 -> 0 | D15: ='proces MFC en ABG '!M92 -> 0 | H15: Copy Paste visible cells from questionnaire sheet | I15: Copy Paste visible cells from questionnaire sheet | J15: Copy Paste visible cells from questionnaire sheet | K15: Copy Paste visible cells from questionnaire sheet | L15: Copy Paste visible cells from questionnaire sheet
A38: Handtekeningen
A40: Hoofdapotheker | I40: Change name & signature
A43: Auditeur naam : | I43: Change name & signature
B47: MAEIA MFC en ABG Rapport
A74: Sterke punten
A75: 1
A76: 2
A77: 3
A78: 4
A79: 5
A80: 6
A81: Tekortkomingen niveau 1
A82: 1
A83: 2
A84: 3
A85: 4
A86: 5
A87: 6
A88: Verbeterpunten niveau 2
A89: 1
A90: 2
A91: 3
A92: 4
A93: 5
A94: 6
A95: Verbeterpunten niveau 3
...

Sheet actiepunten auditee
A3: Actiepunt | B3: Nummer | C3: ..… | D3: Oorsprong :
D4: o Tekortkoming niveau 1
D5: o Verbeterpunt niveau 2
D6: o Verbeterpunt niveau 3
D7: o Observatie
A8: Geaudit proces | B8: ………..
A9: Auditdatum | B9: …../…../….. | D9: Auditor | E9: ……………………………………………
A10: Auditee | B10: ………………………………………………………………………………..
A11: Omschrijving van de tekortkoming / verbeterpunt / observatie
A12: Voorgestelde maatregel door de auditee | B12: Oorzaak
B15: Actie
B21: Verantwoordelijke
B23: Termijn
A26: Opvolgrapport
A27: (cumulatief)
A44: Conclusie

Sheet Mapping
B4: MAPPING TABLE | G4: points
B5: Base points | C5: Niveau | D5: Extra gewicht factor | E5: Antwoord | F5: Code | G5: Total | H5: Score | M5: Somme | P5: Speedometer | R5: Pointer
A6: Ja Groep | B6: 1 | C6: 3 | D6: X3 | E6: Ja | F6: =C6&D6&E6 -> 3X3Ja | G6: 3 | H6: 3 | L6: Ja | M6: =COUNTIF('proces MFC en ABG '!$G:$G,Mapping!$L6) -> 2 | P6: Start | Q6: 0 | R6: Value | S6: =+ROUND(M11/M10,2)*100 -> 100
A7: Ja Groep | B7: 1 | C7: 3 | D7: X2 | E7: Ja | F7: =C7&D7&E7 -> 3X2Ja | G7: 2 | H7: 2 | L7: Neen | M7: =COUNTIF('proces MFC en ABG '!$G:$G,Mapping!$L7) -> 1 | P7: Initial | Q7: 60 | R7: Pointer | S7: 1
A8: Ja Groep | B8: 1 | C8: 3 | D8: X1 | E8: Ja | F8: =C8&D8&E8 -> 3X1Ja | G8: 1 | H8: 1 | L8: NVT | M8: =COUNTIF('proces MFC en ABG '!$G:$G,Mapping!$L8) -> 1 | P8: Middle | Q8: 30 | R8: end | S8: =200-S7-S6 -> 99
A9: Ja Groep | B9: 1 | C9: 3 | D9: X0,33 | E9: Ja | F9: =C9&D9&E9 -> 3X0,33Ja | G9: =1/3 -> 0.33333333 | H9: =1/3 -> 0.33333333 | L9: Somme | M9: =SUM(M6:M8) -> 4 | P9: End | Q9: 10
A10: Ja Groep | B10: 1 | C10: 3 | D10: X0,66 | E10: Ja | F10: =C10&D10&E10 -> 3X0,66Ja | G10: =2/3 -> 0.66666667 | H10: =2/3 -> 0.66666667 | L10: Total | M10: ='proces MFC en ABG '!$L$3 -> 3 | P10: Max | Q10: 100
A11: Ja Groep | B11: 1 | C11: 3 | D11: X1 | E11: Ja | F11: =C11&D11&E11 -> 3X1Ja | G11: 1 | H11: 1 | L11: Score | M11: ='proces MFC en ABG '!$M$3 -> 3
A12: Ja Groep | B12: 3 | C12: 2 | D12: X3 | E12: Ja | F12: =C12&D12&E12 -> 2X3Ja | G12: 9 | H12: 9 | S12: ="Total Score : "&S6&"%" -> Total Score : 100%
A13: Ja Groep | B13: 3 | C13: 2 | D13: X2 | E13: Ja | F13: =C13&D13&E13 -> 2X2Ja | G13: 6 | H13: 6
A14: Ja Groep | B14: 3 | C14: 2 | D14: X1 | E14: Ja | F14: =C14&D14&E14 -> 2X1Ja | G14: 3 | H14: 3 | L14: ROUGE | M14: 60
A15: Ja Groep | B15: 3 | C15: 2 | D15: X0,33 | E15: Ja | F15: =C15&D15&E15 -> 2X0,33Ja | G15: 1 | H15: 1 | L15: ORANGE | M15: 30
A16: Ja Groep | B16: 3 | C16: 2 | D16: X0,66 | E16: Ja | F16: =C16&D16&E16 -> 2X0,66Ja | G16: 2 | H16: 2 | L16: VERT | M16: 10
A17: Ja Groep | B17: 3 | C17: 2 | D17: X1 | E17: Ja | F17: =C17&D17&E17 -> 2X1Ja | G17: 3 | H17: 3 | L17: Invisible | M17: 100
A18: Ja Groep | B18: 6 | C18: 1 | D18: X3 | E18: Ja | F18: =C18&D18&E18 -> 1X3Ja | G18: 18 | H18: 18
A19: Ja Groep | B19: 6 | C19: 1 | D19: X2 | E19: Ja | F19: =C19&D19&E19 -> 1X2Ja | G19: 12 | H19: 12
A20: Ja Groep | B20: 6 | C20: 1 | D20: X1 | E20: Ja | F20: =C20&D20&E20 -> 1X1Ja | G20: 6 | H20: 6 | L20: Aiguille | M20: =M7/M9 -> 0.25
A21: Ja Groep | B21: 6 | C21: 1 | D21: X0,33 | E21: Ja | F21: =C21&D21&E21 -> 1X0,33Ja | G21: 2 | H21: 2 | L21: Largeur | M21: 1
A22: Ja Groep | B22: 6 | C22: 1 | D22: X0,66 | E22: Ja | F22: =C22&D22&E22 -> 1X0,66Ja | G22: 4 | H22: 4 | L22: Invisible | M22: =SUM(M14:M17)-(M21+M20) -> 198.75
A23: Ja Groep | B23: 6 | C23: 1 | D23: X1 | E23: Ja | F23: =C23&D23&E23 -> 1X1Ja | G23: 6 | H23: 6
A24: Neen groep | B24: 1 | C24: 3 | D24: X3 | E24: Neen | F24: =C24&D24&E24 -> 3X3Neen | G24: 3 | H24: 0 | L24: RIEN
A25: Neen groep | B25: 1 | C25: 3 | D25: X2 | E25: Neen | F25: =C25&D25&E25 -> 3X2Neen | G25: 2 | H25: 0 | L25: Aiguille | M25: =ROUND(M20,0)&"%" -> 0%
A26: Neen groep | B26: 1 | C26: 3 | D26: X1 | E26: Neen | F26: =C26&D26&E26 -> 3X1Neen | G26: 1 | H26: 0 | L26: RIEN
A27: Neen groep | B27: 1 | C27: 3 | D27: X0,33 | E27: Neen | F27: =C27&D27&E27 -> 3X0,33Neen | G27: =1/3 -> 0.33333333 | H27: 0
A28: Neen groep | B28: 1 | C28: 3 | D28: X0,66 | E28: Neen | F28: =C28&D28&E28 -> 3X0,66Neen | G28: =2/3 -> 0.66666667 | H28: 0
A29: Neen groep | B29: 1 | C29: 3 | D29: X1 | E29: Neen | F29: =C29&D29&E29 -> 3X1Neen | G29: 1 | H29: 0
A30: Neen groep | B30: 3 | C30: 2 | D30: X3 | E30: Neen | F30: =C30&D30&E30 -> 2X3Neen | G30: 9 | H30: 0
A31: Neen groep | B31: 3 | C31: 2 | D31: X2 | E31: Neen | F31: =C31&D31&E31 -> 2X2Neen | G31: 6 | H31: 0
A32: Neen groep | B32: 3 | C32: 2 | D32: X1 | E32: Neen | F32: =C32&D32&E32 -> 2X1Neen | G32: 3 | H32: 0
A33: Neen groep | B33: 3 | C33: 2 | D33: X0,33 | E33: Neen | F33: =C33&D33&E33 -> 2X0,33Neen | G33: 1 | H33: 0
A34: Neen groep | B34: 3 | C34: 2 | D34: X0,66 | E34: Neen | F34: =C34&D34&E34 -> 2X0,66Neen | G34: 2 | H34: 0
A35: Neen groep | B35: 3 | C35: 2 | D35: X1 | E35: Neen | F35: =C35&D35&E35 -> 2X1Neen | G35: 3 | H35: 0
A36: Neen groep | B36: 6 | C36: 1 | D36: X3 | E36: Neen | F36: =C36&D36&E36 -> 1X3Neen | G36: 18 | H36: 0
A37: Neen groep | B37: 6 | C37: 1 | D37: X2 | E37: Neen | F37: =C37&D37&E37 -> 1X2Neen | G37: 12 | H37: 0
A38: Neen groep | B38: 6 | C38: 1 | D38: X1 | E38: Neen | F38: =C38&D38&E38 -> 1X1Neen | G38: 6 | H38: 0
A39: Neen groep | B39: 6 | C39: 1 | D39: X0,33 | E39: Neen | F39: =C39&D39&E39 -> 1X0,33Neen | G39: 2 | H39: 0
A40: Neen groep | B40: 6 | C40: 1 | D40: X0,66 | E40: Neen | F40: =C40&D40&E40 -> 1X0,66Neen | G40: 4 | H40: 0
... A59: NVT groep | B59: 6 | C59: 1 | D59: X1 | E59: NVT | F59: =C59&D59&E59 -> 1X1NVT | G59: 0 | H59: 0
