Workbook

Sheet algemene inleiding

Sheet handleiding
A2: Hoe gebruiken we de kwaliteitstool MAEIA?

Sheet expertenteam
A1: MET DANK AAN HET EXPERTENTEAM
A2: John Leys
A3: Annemie Somers
A4: Sarah Mertens
A5: Nele vermeulen
A6: Laetitia Missiaen
A7: Mieke Mathijs
A8: Isabel Spriet
A9: Karolien Walgraeve
A10: Sofie Peeters
A11: Sandrina von Winckelmann
A12: Veerle Grootaert
... A14: Nathalie Gillard

Sheet inleiding ..... 
A1: INLEIDING MFC en ABG

Sheet inhoudstafel

Sheet proces MFC en ABG 
A2: VERSIE 20230701 | B2: MEDISCH FARMACEUTISCH COMITE en ANTIBIOTHERAPIEBELEIDSGROEP | C2: NIVEAU | D2: Referentie | E2: ter info: artikelnummer, §, pagina | G2: ANTWOORD | H2: OPMERKINGEN | J2: extra factor gewicht | L2: TOTAL | M2: SCORE
C3: 1 = WETGEVING (= 6 punten) | H3: OPMERKINGEN | L3: =SUBTOTAL(9,L7:L208) -> 3 | M3: =SUBTOTAL(9,M7:M208) -> 3
C4: 2 = RICHTLIJNEN, NORMEN, AANBEVELINGEN (= 3 punten) | G4: Ja
C5: 3 = GOOD PRACTICE (= 1 punt) | G5: Neen
G6: NVT | K6: Code | L6: Total | M6: Score
A7: I | B7: Kwaliteitsopvolging van het proces MFC en AB beleidsgroep | C7: Progress :: | G7: =SUBTOTAL(3,G10:G12)/SUBTOTAL(3,C10:C12) -> 0.33333333 | L7: =SUBTOTAL(9,L10:L12) -> 3 | M7: =SUBTOTAL(9,M10:M12) -> 3
B8: AUDITVRAGEN
B9: Controleer altijd de documentatie en de toepassing op de werkvloer.
A10: 1 | B10: Werden alle genomen acties op basis van de tekortkomingen van niveau 1 die bij de vorige audit werden vastgesteld adequaat opgevolgd en met met succes geïmplementeerd? | C10: 3 | D10: Good Practice | G10: Ja | J10: X3 | K10: =C10&J10&G10 -> 3X3Ja | L10: =IFERROR(VLOOKUP($K10,Mapping!$F:$H,2,0),"") -> 3 | M10: =IFERROR(VLOOKUP($K10,Mapping!$F:$H,3,0),"") -> 3 | N10: =C10&G10 -> 3Ja
A11: 2 | B11: Werden alle genomen acties op basis van de verbeterpunten van niveau 2 die bij de vorige audit werden vastgesteld adequaat opgevolgd en met met succes geïmplementeerd? | C11: 3 | D11: Good Practice | J11: X2 | K11: =C11&J11&G11 -> 3X2 | L11: =IFERROR(VLOOKUP($K11,Mapping!F:H,2,0),"") | M11: =IFERROR(VLOOKUP($K11,Mapping!$F:$H,3,0),"") | N11: =C11&G11 -> 3
A12: 3 | B12: Werden alle genomen acties op basis van de verbeterpunten van niveau 3 die bij de vorige audit werden vastgesteld adequaat opgevolgd en met met succes geïmplementeerd? | C12: 3 | D12: Good Practice | J12: X1 | K12: =C12&J12&G12 -> 3X1 | L12: =IFERROR(VLOOKUP($K12,Mapping!F:H,2,0),"") | M12: =IFERROR(VLOOKUP($K12,Mapping!$F:$H,3,0),"") | N12: =C12&G12 -> 3
A13: II | B13: Medisch Farmaceutisch Comité | C13: Progress :: | G13: =SUBTOTAL(3,G16:G91)/(SUBTOTAL(3,C16:C91)-4) -> 0 | L13: =SUBTOTAL(9,L16:L91) -> 0 | M13: =SUBTOTAL(9,M16:M91) -> 0
B14: AUDITVRAGEN
B15: Controleer altijd de documentatie en de toepassing op de werkvloer.
A16: a | B16: Algemeen | C16: Progress :: | G16: =SUBTOTAL(3,G17:G45)/SUBTOTAL(3,C17:C45) -> 0 | L16: =SUBTOTAL(9,L17:L45) -> 0 | M16: =SUBTOTAL(9,M17:M45) -> 0
A17: 1 | B17: Is er een Medisch-Farmaceutisch Comité (MFC)? | C17: 1 | D17: KB 4 maart 1991 | E17: Art 24 §1 | J17: X1 | K17: =C17&J17&G17 -> 1X1 | L17: =IFERROR(VLOOKUP($K17,Mapping!F:H,2,0),"") | M17: =IFERROR(VLOOKUP($K17,Mapping!$F:$H,3,0),"") | N17: =C17&G17 -> 1
A18: 2 | B18: Is de samenstelling conform de vigerende wetgeving? | C18: 1 | D18: KB 4 maart 1991 | E18: Art 24 §2 | J18: X1 | K18: =C18&J18&G18 -> 1X1 | L18: =IFERROR(VLOOKUP($K18,Mapping!F:H,2,0),"") | M18: =IFERROR(VLOOKUP($K18,Mapping!$F:$H,3,0),"") | N18: =C18&G18 -> 1
A19: 3 | B19: Zijn de taken van het MFC conform de vigerende wetgeving? | C19: 1 | D19: KB 4 maart 1991 | E19: Art 25 | J19: X1 | K19: =C19&J19&G19 -> 1X1 | L19: =IFERROR(VLOOKUP($K19,Mapping!F:H,2,0),"") | M19: =IFERROR(VLOOKUP($K19,Mapping!$F:$H,3,0),"") | N19: =C19&G19 -> 1
A20: 4 | B20: Is er in het MFC steeds minstens één (ziekenhuis)apotheker expert klinische farmacie aanwezig? | C20: 3 | D20: Good Practice | J20: X1 | K20: =C20&J20&G20 -> 3X1 | L20: =IFERROR(VLOOKUP($K20,Mapping!F:H,2,0),"") | M20: =IFERROR(VLOOKUP($K20,Mapping!$F:$H,3,0),"") | N20: =C20&G20 -> 3
A21: 5 | B21: Zijn er steeds verschillende klinische (ziekenhuis)apothekers aanwezig in het MFC die elk expert zijn in een verschillend verschillend domein? | C21: 3 | D21: Good Practice | J21: X1 | K21: =C21&J21&G21 -> 3X1
A22: 6 | B22: Beschikt het MFC over een procedure om geneesmiddelen voor te schrijven buiten het formularium? | C22: 2 | D22: Qualicor Europe 3.2, JCI: MMU.2 | J22: X1 | K22: =C22&J22&G22 -> 2X1 | L22: =IFERROR(VLOOKUP($K22,Mapping!F:H,2,0),"") | M22: =IFERROR(VLOOKUP($K22,Mapping!$F:$H,3,0),"") | N22: =C22&G22 -> 2
A23: 7 | B23: Beschikt het MFC over een procedure om tijdig medicatie die niet is opgenomen in het formularium te verstrekken? | C23: 3 | D23: Good Practice | J23: X1 | K23: =C23&J23&G23 -> 3X1 | L23: =IFERROR(VLOOKUP($K23,Mapping!F:H,2,0),"") | M23: =IFERROR(VLOOKUP($K23,Mapping!$F:$H,3,0),"") | N23: =C23&G23 -> 3
A24: 8 | B24: Beschikt het MFC over een procedure om geneesmiddelen op een restrictieve gebruik (bv. enkel voorschrijven op bepaalde diensten of enkel voorschrijven voor bepaalde indicaties,…) af te leveren en/of voor te schrijven? | C24: 3 | D24: Good Practice | J24: X1 | K24: =C24&J24&G24 -> 3X1 | L24: =IFERROR(VLOOKUP($K24,Mapping!F:H,2,0),"") | M24: =IFERROR(VLOOKUP($K24,Mapping!$F:$H,3,0),"") | N24: =C24&G24 -> 3
A25: 9 | B25: Beschikt het MFC over een procedure om de (ziekenhuis)apotheker toe te laten een interne substitutie of een therapeutisch alternatief te realiseren? | C25: 1 | D25: KB 30 sept 2020 | E25: Art 10 | J25: X1 | K25: =C25&J25&G25 -> 1X1 | L25: =IFERROR(VLOOKUP($K25,Mapping!F:H,2,0),"") | M25: =IFERROR(VLOOKUP($K25,Mapping!$F:$H,3,0),"") | N25: =C25&G25 -> 1
A26: 10 | B26: Wordt het substitutieproces elektronisch gestuurd? | C26: 3 | D26: Good Practice | J26: X1 | K26: =C26&J26&G26 -> 3X1 | L26: =IFERROR(VLOOKUP($K26,Mapping!F:H,2,0),"") | M26: =IFERROR(VLOOKUP($K26,Mapping!$F:$H,3,0),"") | N26: =C26&G26 -> 3
A27: 11 | B27: Houdt de substitutieprocedure rekening met de no-switchlijst van de overheid? | C27: 3 | D27: Good Practice | J27: X1 | K27: =C27&J27&G27 -> 3X1 | L27: =IFERROR(VLOOKUP($K27,Mapping!F:H,2,0),"") | M27: =IFERROR(VLOOKUP($K27,Mapping!$F:$H,3,0),"") | N27: =C27&G27 -> 3
A28: 12 | B28: Bestaat er een volledige en door het MFC goedgekeurde lijst van de geneesmiddelen en producten die de verpleegkundige onder bepaalde voorwaarden zelf mag bestellen voor een patiënt of zijn/haar afdeling? | C28: 3 | D28: Good Practice | J28: X1 | K28: =C28&J28&G28 -> 3X1 | L28: =IFERROR(VLOOKUP($K28,Mapping!F:H,2,0),"") | M28: =IFERROR(VLOOKUP($K28,Mapping!$F:$H,3,0),"") | N28: =C28&G28 -> 3
A29: 13 | B29: Beschilt het MFC over een procedure voor het gebruik van een standing order? | C29: 1 | D29: KB 30 sept 2020 | E29: Art 1.18° en Art 12 | J29: X1 | K29: =C29&J29&G29 -> 1X1 | L29: =IFERROR(VLOOKUP($K29,Mapping!F:H,2,0),"") | M29: =IFERROR(VLOOKUP($K29,Mapping!$F:$H,3,0),"") | N29: =C29&G29 -> 1
A30: 14 | B30: Is er een lijst beschikbaar van courante verzorgingsproducten waarvoor geen medische handtekening is vereist die door het MFC werd goedgekeurd? | C30: 3 | D30: Good Practice | J30: X1 | K30: =C30&J30&G30 -> 3X1 | L30: =IFERROR(VLOOKUP($K30,Mapping!F:H,2,0),"") | M30: =IFERROR(VLOOKUP($K30,Mapping!$F:$H,3,0),"") | N30: =C30&G30 -> 3
A31: 15 | B31: Beschikt het MFC over een procedure betreffende de geschiktheidscontrole van de voorschriften door de apotheek? | C31: 2 | D31: Qualicor Europe 15.0 - JCI MMU 5.1 | J31: X1 | K31: =C31&J31&G31 -> 2X1 | L31: =IFERROR(VLOOKUP($K31,Mapping!F:H,2,0),"") | M31: =IFERROR(VLOOKUP($K31,Mapping!$F:$H,3,0),"") | N31: =C31&G31 -> 2
A32: 16 | B32: Beschikt het MFC over een procedure betreffende de terugkoppeling naar de arts en/of verplegend personeel indien een voorschrift niet geschikt is? | C32: 3 | D32: Good Practice | J32: X1 | K32: =C32&J32&G32 -> 3X1 | L32: =IFERROR(VLOOKUP($K32,Mapping!F:H,2,0),"") | M32: =IFERROR(VLOOKUP($K32,Mapping!$F:$H,3,0),"") | N32: =C32&G32 -> 3
A33: 17 | B33: Zijn er voldoende wetenschappelijke bronnen en interne farmacotherapeutische richtlijnenter ter beschikking voor de zorgverstrekkers? | C33: 2 | D33: JCI MMU1.ME 6 | J33: X1 | K33: =C33&J33&G33 -> 2X1 | L33: =IFERROR(VLOOKUP($K33,Mapping!F:H,2,0),"") | M33: =IFERROR(VLOOKUP($K33,Mapping!$F:$H,3,0),"") | N33: =C33&G33 -> 2
A34: 18 | B34: Voorziet het MFC een gedocumenteerde en gecoördineerde aanpak voor het veilige beheer van hoog-risicomedicatie binnen de instelling? | C34: 2 | D34: Zorginspectie | J34: X1 | K34: =C34&J34&G34 -> 2X1 | L34: =IFERROR(VLOOKUP($K34,Mapping!F:H,2,0),"") | M34: =IFERROR(VLOOKUP($K34,Mapping!$F:$H,3,0),"") | N34: =C34&G34 -> 2
A35: 19 | B35: Beschikt het MFC over procedures om de beveiliging van verdovende middelen te controleren? | C35: 1 | D35: KB 30 sept 2020 | E35: Bijlage I. C | J35: X1 | K35: =C35&J35&G35 -> 1X1 | L35: =IFERROR(VLOOKUP($K35,Mapping!F:H,2,0),"") | M35: =IFERROR(VLOOKUP($K35,Mapping!$F:$H,3,0),"") | N35: =C35&G35 -> 1
A36: 20 | B36: Is er een subwerkgroep anti-tumoraal die jaarlijks rapporteert aan het MFC? | C36: 1 | D36: KB 21 maart 2003 | E36: Afdeling 5 Art 34 en 35 | J36: X1 | K36: =C36&J36&G36 -> 1X1 | L36: =IFERROR(VLOOKUP($K36,Mapping!F:H,2,0),"") | M36: =IFERROR(VLOOKUP($K36,Mapping!$F:$H,3,0),"") | N36: =C36&G36 -> 1
A37: 21 | B37: Is er een subwerkgroep perfusiebeleid die jaarlijks rapporteert aan het MFC? | C37: 3 | D37: Good Practice | J37: X1 | K37: =C37&J37&G37 -> 3X1 | L37: =IFERROR(VLOOKUP($K37,Mapping!F:H,2,0),"") | M37: =IFERROR(VLOOKUP($K37,Mapping!$F:$H,3,0),"") | N37: =C37&G37 -> 3
A38: 22 | B38: Is er een subwerkgroep stollingsproducten die jaarlijks rapporteert aan het MFC? | C38: 3 | D38: Good Practice | J38: X1 | K38: =C38&J38&G38 -> 3X1 | L38: =IFERROR(VLOOKUP($K38,Mapping!F:H,2,0),"") | M38: =IFERROR(VLOOKUP($K38,Mapping!$F:$H,3,0),"") | N38: =C38&G38 -> 3
A39: 23 | B39: Is er een subwerkgroep nutritie die jaarlijks rapporteert aan het MFC? | C39: 1 | D39: BFM financiering (onderdeel B4) | J39: X1 | K39: =C39&J39&G39 -> 1X1 | L39: =IFERROR(VLOOKUP($K39,Mapping!F:H,2,0),"") | M39: =IFERROR(VLOOKUP($K39,Mapping!$F:$H,3,0),"") | N39: =C39&G39 -> 1
A40: 24 | B40: Is er een subwerkgroep pijn die jaarlijks rapporteert aan het MFC? | C40: 1 | D40: BFM financiering (onderdeel B4) | J40: X1 | K40: =C40&J40&G40 -> 1X1 | L40: =IFERROR(VLOOKUP($K40,Mapping!F:H,2,0),"") | M40: =IFERROR(VLOOKUP($K40,Mapping!$F:$H,3,0),"") | N40: =C40&G40 -> 1
A41: 25 | B41: Zijn er werkgroepen die jaarlijks rapporteren aan het MFC over Clinical Decision Support (CDS), Elektronisch Voorschrift (EVS), of andere technisch administratieve opdrachten? | C41: 3 | D41: Good Practice | J41: X1 | K41: =C41&J41&G41 -> 3X1 | L41: =IFERROR(VLOOKUP($K41,Mapping!F:H,2,0),"") | M41: =IFERROR(VLOOKUP($K41,Mapping!$F:$H,3,0),"") | N41: =C41&G41 -> 3
A42: 26 | B42: Is er een regelmatige rapportering van de farmacovigilantie op het MFC? | C42: 2 | D42: JCI | J42: X1 | K42: =C42&J42&G42 -> 2X1 | L42: =IFERROR(VLOOKUP($K42,Mapping!F:H,2,0),"") | M42: =IFERROR(VLOOKUP($K42,Mapping!$F:$H,3,0),"") | N42: =C42&G42 -> 2
A43: 27 | B43: Is er een regelmatige rapportering van de medicatie gerelateerde incidenten op het MFC? | C43: 2 | D43: JCI | J43: X1 | K43: =C43&J43&G43 -> 2X1 | L43: =IFERROR(VLOOKUP($K43,Mapping!F:H,2,0),"") | M43: =IFERROR(VLOOKUP($K43,Mapping!$F:$H,3,0),"") | N43: =C43&G43 -> 2
A44: 28 | B44: Is er een vast agendapunt tijdens het MFC betreffende de rapportering van de medicatieincidenten? | C44: 2 | D44: JCI | J44: X1 | K44: =C44&J44&G44 -> 2X1 | L44: =IFERROR(VLOOKUP($K44,Mapping!F:H,2,0),"") | M44: =IFERROR(VLOOKUP($K44,Mapping!$F:$H,3,0),"") | N44: =C44&G44 -> 2
A45: 29 | B45: Is het MFC betrokken bij de flow betreffende het escaleren van een medicatieincident? | C45: 3 | D45: Good Practice | J45: X1 | K45: =C45&J45&G45 -> 3X1 | L45: =IFERROR(VLOOKUP($K45,Mapping!F:H,2,0),"") | M45: =IFERROR(VLOOKUP($K45,Mapping!$F:$H,3,0),"") | N45: =C45&G45 -> 3
A46: b | B46: Therapeutisch Formularium | C46: Progress :: | G46: =SUBTOTAL(3,G47:G65)/SUBTOTAL(3,C47:C65) -> 0 | L46: =SUBTOTAL(9,L47:L65) -> 0 | M46: =SUBTOTAL(9,M47:M65) -> 0
A47: 1 | B47: Is het therapeutisch ziekenhuisformularium op elk ogenblik eenvoudig raadpleegbaar voor alle zorgverstrekkers? | C47: 2 | D47: JCI | J47: X1 | K47: =C47&J47&G47 -> 2X1 | L47: =IFERROR(VLOOKUP($K47,Mapping!F:H,2,0),"") | M47: =IFERROR(VLOOKUP($K47,Mapping!$F:$H,3,0),"") | N47: =C47&G47 -> 2
B48: Is het therapeutisch formularium elktronisch beschikbaar voor alle zorgverstrekkers? | C48: 3 | D48: Good Practice | L48: =IFERROR(VLOOKUP($K48,Mapping!F:H,2,0),"") | M48: =IFERROR(VLOOKUP($K48,Mapping!$F:$H,3,0),"") | N48: =C48&G48 -> 3
A49: 2 | B49: Worden de stabiele bloedderivaten opgenomen in het therapeutisch ziekenhuisformularium? | C49: 1 | D49: KB 4 maart 1991 | E49: Art 25 | J49: X1 | K49: =C49&J49&G49 -> 1X1 | L49: =IFERROR(VLOOKUP($K49,Mapping!F:H,2,0),"") | M49: =IFERROR(VLOOKUP($K49,Mapping!$F:$H,3,0),"") | N49: =C49&G49 -> 1
A50: 3 | B50: Valt het beheer van de stabiele bloedderivaten onder de eindverantwoordelijkheid van de apotheek? | C50: 1 | D50: KB 4 maart 1991 | E50: Art 25 | J50: X1 | K50: =C50&J50&G50 -> 1X1 | L50: =IFERROR(VLOOKUP($K50,Mapping!F:H,2,0),"") | M50: =IFERROR(VLOOKUP($K50,Mapping!$F:$H,3,0),"") | N50: =C50&G50 -> 1
A51: 4 | B51: Worden de radiofarmaca (indien geregistreerd als geneesmiddel) opgenomen in het therapeutisch ziekenhuisformularium? | C51: 1 | D51: KB 4 maart 1991 | E51: Art 25 | J51: X1 | K51: =C51&J51&G51 -> 1X1 | L51: =IFERROR(VLOOKUP($K51,Mapping!F:H,2,0),"") | M51: =IFERROR(VLOOKUP($K51,Mapping!$F:$H,3,0),"") | N51: =C51&G51 -> 1
A52: 5 | B52: Evalueert en actualiseert het MFC het formularium regelmatig? | C52: 2 | D52: JCI | J52: X1 | K52: =C52&J52&G52 -> 2X1 | L52: =IFERROR(VLOOKUP($K52,Mapping!F:H,2,0),"") | M52: =IFERROR(VLOOKUP($K52,Mapping!$F:$H,3,0),"") | N52: =C52&G52 -> 2
A53: 6 | B53: Wordt er telkens een evaluatieperiode voorzien voor elke nieuw opgenomen geneesmiddel op het formularium? | C53: 3 | D53: Good Practice | J53: X1 | K53: =C53&J53&G53 -> 3X1 | L53: =IFERROR(VLOOKUP($K53,Mapping!F:H,2,0),"") | M53: =IFERROR(VLOOKUP($K53,Mapping!$F:$H,3,0),"") | N53: =C53&G53 -> 3
A54: 7 | B54: Is er een gestandardiseerd document voor een formularium aanvraag? | C54: 3 | D54: Good Practice | J54: X1 | K54: =C54&J54&G54 -> 3X1 | L54: =IFERROR(VLOOKUP($K54,Mapping!F:H,2,0),"") | M54: =IFERROR(VLOOKUP($K54,Mapping!$F:$H,3,0),"") | N54: =C54&G54 -> 3
A55: 8 | B55: Is er een akkoord nodig van het medisch diensthoofd om de formulariumaanvraag ontvankelijk te verklaren? | C55: 3 | D55: Good Practice | J55: X1 | K55: =C55&J55&G55 -> 3X1 | L55: =IFERROR(VLOOKUP($K55,Mapping!F:H,2,0),"") | M55: =IFERROR(VLOOKUP($K55,Mapping!$F:$H,3,0),"") | N55: =C55&G55 -> 3
A56: 9 | B56: Is er een procedure voor indiening van een nieuwe aanvraag (tijdstip van indiening, wie kan indienen, welke gegevens, ….)? | C56: 3 | D56: Good Practice | J56: X1 | K56: =C56&J56&G56 -> 3X1 | L56: =IFERROR(VLOOKUP($K56,Mapping!F:H,2,0),"") | M56: =IFERROR(VLOOKUP($K56,Mapping!$F:$H,3,0),"") | N56: =C56&G56 -> 3
A57: 10 | B57: Wordt de aanvrager van een nieuw formulariumproduct uitgenodigd in het MFC om de aanvraag te motiveren? | C57: 3 | D57: Good Practice | J57: X1 | K57: =C57&J57&G57 -> 3X1 | L57: =IFERROR(VLOOKUP($K57,Mapping!F:H,2,0),"") | M57: =IFERROR(VLOOKUP($K57,Mapping!$F:$H,3,0),"") | N57: =C57&G57 -> 3
A58: 11 | B58: Is er een procedure voor dringende aanvragen? | C58: 3 | D58: Good Practice | J58: X1 | K58: =C58&J58&G58 -> 3X1 | L58: =IFERROR(VLOOKUP($K58,Mapping!F:H,2,0),"") | M58: =IFERROR(VLOOKUP($K58,Mapping!$F:$H,3,0),"") | N58: =C58&G58 -> 3
A59: 13 | B59: Wordt er zo nodig advies ingewonnen van subwerkgroepen (experten) alvorens een definitief besluit door het MFC wordt genomen? | C59: 3 | D59: Good Practice | J59: X1 | K59: =C59&J59&G59 -> 3X1 | L59: =IFERROR(VLOOKUP($K59,Mapping!F:H,2,0),"") | M59: =IFERROR(VLOOKUP($K59,Mapping!$F:$H,3,0),"") | N59: =C59&G59 -> 3
A60: 14 | B60: Stelt het MFC beslissingscriteria op voor het toevoegen, beperken en verwijderen van medicatie uit het formularium? | C60: 3 | D60: Good Practice | J60: X1 | K60: =C60&J60&G60 -> 3X1 | L60: =IFERROR(VLOOKUP($K60,Mapping!F:H,2,0),"") | M60: =IFERROR(VLOOKUP($K60,Mapping!$F:$H,3,0),"") | N60: =C60&G60 -> 3
A61: 15 | B61: Wordt elke beslissing van het MFC op een gemotiveerde manier aan de aanvrager meegedeeld? | C61: 3 | D61: Good Practice | J61: X1 | K61: =C61&J61&G61 -> 3X1 | L61: =IFERROR(VLOOKUP($K61,Mapping!F:H,2,0),"") | M61: =IFERROR(VLOOKUP($K61,Mapping!$F:$H,3,0),"") | N61: =C61&G61 -> 3
A62: 16 | B62: Vergadert het MFC op regelmatige basis? | C62: 3 | D62: Good Practice | J62: X1 | K62: =C62&J62&G62 -> 3X1 | L62: =IFERROR(VLOOKUP($K62,Mapping!F:H,2,0),"") | M62: =IFERROR(VLOOKUP($K62,Mapping!$F:$H,3,0),"") | N62: =C62&G62 -> 3
A63: 17 | B63: Is er een systematische manier van werken? (agenda, agenda vooraf verspreiden, verspreiding verslag, …) | C63: 3 | D63: Good Practice | J63: X1 | K63: =C63&J63&G63 -> 3X1 | L63: =IFERROR(VLOOKUP($K63,Mapping!F:H,2,0),"") | M63: =IFERROR(VLOOKUP($K63,Mapping!$F:$H,3,0),"") | N63: =C63&G63 -> 3
... A65: 2 | B65: Zijn de beslissingen van het MFC gemakkelijk toegankelijk voor alle zorgverstrekkers? | C65: 3 | D65: Good Practice | J65: X1 | K65: =C65&J65&G65 -> 3X1 | L65: =IFERROR(VLOOKUP($K65,Mapping!F:H,2,0),"") | M65: =IFERROR(VLOOKUP($K65,Mapping!$F:$H,3,0),"") | N65: =C65&G65 -> 3
A66: c | B66: Analyse verbruik geneesmiddelen | C66: Progress :: | G66: =SUBTOTAL(3,G67:G81)/SUBTOTAL(3,C67:C81) -> 0 | L66: =SUBTOTAL(9,L67:L81) -> 0 | M66: =SUBTOTAL(9,M67:M81) -> 0
A67: 1 | B67: Analyseert het MFC het geneesmiddelverbruik in het ziekenhuis jaarlijks per geneesmiddelenklasse? | C67: 1 | D67: KB 20 augustus 2000 | E67: Art 2. 3° | J67: X1 | K67: =C67&J67&G67 -> 1X1 | L67: =IFERROR(VLOOKUP($K67,Mapping!F:H,2,0),"") | M67: =IFERROR(VLOOKUP($K67,Mapping!$F:$H,3,0),"") | N67: =C67&G67 -> 1
A68: 2 | B68: Analyseert het MFC het geneesmiddelverbruik in het ziekenhuis jaarlijks per dienst? | C68: 1 | D68: KB 20 augustus 2000 | E68: Art 2. 3° | J68: X1 | K68: =C68&J68&G68 -> 1X1 | L68: =IFERROR(VLOOKUP($K68,Mapping!F:H,2,0),"") | M68: =IFERROR(VLOOKUP($K68,Mapping!$F:$H,3,0),"") | N68: =C68&G68 -> 1
A69: 3 | B69: Analyseert het MFC het geneesmiddelverbruik in het ziekenhuis jaarlijks per arts? | C69: 1 | D69: KB 20 augustus 2000 | E69: Art 2. 3° | J69: X1 | K69: =C69&J69&G69 -> 1X1 | L69: =IFERROR(VLOOKUP($K69,Mapping!F:H,2,0),"") | M69: =IFERROR(VLOOKUP($K69,Mapping!$F:$H,3,0),"") | N69: =C69&G69 -> 1
A70: 4 | B70: Worden de gegevens over het geneesmiddelenverbruik geanalyseerd naargelang van de pathologieën (MDC - APRDRG)? | C70: 3 | D70: Good Practice | E70: Art 2. 3° | J70: X1 | K70: =C70&J70&G70 -> 3X1 | L70: =IFERROR(VLOOKUP($K70,Mapping!F:H,2,0),"") | M70: =IFERROR(VLOOKUP($K70,Mapping!$F:$H,3,0),"") | N70: =C70&G70 -> 3
A71: 5 | B71: Worden de resultaten van deze analyse meegedeeld aan de voorschrijvende artsen? | C71: 1 | D71: KB 20 augustus 2000 | E71: Art 2. 3° | J71: X1 | K71: =C71&J71&G71 -> 1X1 | L71: =IFERROR(VLOOKUP($K71,Mapping!F:H,2,0),"") | M71: =IFERROR(VLOOKUP($K71,Mapping!$F:$H,3,0),"") | N71: =C71&G71 -> 1
A72: 6 | B72: Worden de resultaten van deze analyse meegedeeld aan de beheerder, de directeur, de voorzitter van de Medische Raad en het Comité voor Ziekenhuishygiëne? | C72: 1 | D72: KB 20 augustus 2000 | E72: Art 2. 3° | J72: X1 | K72: =C72&J72&G72 -> 1X1 | L72: =IFERROR(VLOOKUP($K72,Mapping!F:H,2,0),"") | M72: =IFERROR(VLOOKUP($K72,Mapping!$F:$H,3,0),"") | N72: =C72&G72 -> 1
A73: 7 | B73: Wordt er een jaarraport over het geneesmiddelenverbruik opgesteld door het MFC? | C73: 1 | D73: KB 20 augustus 2000 | E73: Art 2 . 5° | J73: X1 | K73: =C73&J73&G73 -> 1X1 | L73: =IFERROR(VLOOKUP($K73,Mapping!F:H,2,0),"") | M73: =IFERROR(VLOOKUP($K73,Mapping!$F:$H,3,0),"") | N73: =C73&G73 -> 1
A74: 8 | B74: Wordt het jaarrapport verspreid onder het medisch personeel? | C74: 1 | D74: KB 20 augustus 2000 | E74: Art 2 . 7° | J74: X1 | K74: =C74&J74&G74 -> 1X1 | L74: =IFERROR(VLOOKUP($K74,Mapping!F:H,2,0),"") | M74: =IFERROR(VLOOKUP($K74,Mapping!$F:$H,3,0),"") | N74: =C74&G74 -> 1
A75: 9 | B75: Bevat het jaarraport de analayse van de afwijkingen ten opzichte van vergelijkende verbruikspatronen en nationale of internationale referenties? | C75: 1 | D75: KB 20 augustus 2000 | E75: Art 2 . 5° | J75: X1 | K75: =C75&J75&G75 -> 1X1 | L75: =IFERROR(VLOOKUP($K75,Mapping!F:H,2,0),"") | M75: =IFERROR(VLOOKUP($K75,Mapping!$F:$H,3,0),"") | N75: =C75&G75 -> 1
A76: 10 | B76: Worden de gegevens over het geneesmiddelenverbruik vergeleken met de nationale gemiddelden die aan elke APR-DRG worden toegewezen? | C76: 1 | D76: KB 20 augustus 2000 | E76: Art 2 . 5° | J76: X1 | K76: =C76&J76&G76 -> 1X1 | L76: =IFERROR(VLOOKUP($K76,Mapping!F:H,2,0),"") | M76: =IFERROR(VLOOKUP($K76,Mapping!$F:$H,3,0),"") | N76: =C76&G76 -> 1
A77: 11 | B77: Worden er maatregelen (acties) ondernomen op basis van de resultaten van de verbruiksanalyses ? | C77: 1 | D77: KB 20 augustus 2000 | E77: Art 2 . 4° | J77: X1 | K77: =C77&J77&G77 -> 1X1 | L77: =IFERROR(VLOOKUP($K77,Mapping!F:H,2,0),"") | M77: =IFERROR(VLOOKUP($K77,Mapping!$F:$H,3,0),"") | N77: =C77&G77 -> 1
A78: 12 | B78: Voorziet het MFC procedures om een veilig en rationeel geneesmiddelengebruik te bevorderen (gebruik afkortingen, standaardisatie schema's, tekorten van geneesmiddelen, samenstelling spoedkasten, stalen…)? | C78: 1 | D78: KB 20 augustus 2000 | E78: Art 2 . 2° | J78: X1 | K78: =C78&J78&G78 -> 1X1 | L78: =IFERROR(VLOOKUP($K78,Mapping!F:H,2,0),"") | M78: =IFERROR(VLOOKUP($K78,Mapping!$F:$H,3,0),"") | N78: =C78&G78 -> 1
A79: 13 | B79: Organiseert het MFC intramurale werkgroepen, binnen het ziekenhuis en tussen ziekenhuizen, om positieve ervaringen rond het geneesmiddelenverbruik te verspreiden? | C79: 1 | D79: KB 20 augustus 2000 | E79: Art 2 . 10° | J79: X1 | K79: =C79&J79&G79 -> 1X1 | L79: =IFERROR(VLOOKUP($K79,Mapping!F:H,2,0),"") | M79: =IFERROR(VLOOKUP($K79,Mapping!$F:$H,3,0),"") | N79: =C79&G79 -> 1
A80: 14 | B80: Voorziet het MFC een afstemming van de strategieën van het MFC en van het comité voor ziekenhuishygiëne met betrekking tot het voorschrijven van antibiotica? | C80: 1 | D80: KB 20 augustus 2000 | E80: Art 2 . 11° | J80: X1 | K80: =C80&J80&G80 -> 1X1 | N80: =C80&G80 -> 1
A81: 15 | B81: Wordt naar aanleiding van het jaarraport multidisciplinair overleg gepleegd met de experten van elke therapeutische klasse, indien nodig? | C81: 3 | D81: Good Practice | J81: X1 | K81: =C81&J81&G81 -> 3X1 | L81: =IFERROR(VLOOKUP($K81,Mapping!F:H,2,0),"") | M81: =IFERROR(VLOOKUP($K81,Mapping!$F:$H,3,0),"") | N81: =C81&G81 -> 3
A82: d | B82: Richtlijnen | C82: Progress :: | G82: =SUBTOTAL(3,G83:G91)/SUBTOTAL(3,C13:C91) -> 0 | L82: =SUBTOTAL(9,L83:L91) -> 0 | M82: =SUBTOTAL(9,M83:M91) -> 0
A83: 2 | B83: Beschikt het MFC over richtlijnen of procedures voor het gebruik van experimentele medicatie, onderzoeksmedicatie en medicatie voor off-label gebruik? | C83: 2 | D83: JCI | J83: X1 | K83: =C83&J83&G83 -> 2X1 | L83: =IFERROR(VLOOKUP($K83,Mapping!F:H,2,0),"") | M83: =IFERROR(VLOOKUP($K83,Mapping!$F:$H,3,0),"") | N83: =C83&G83 -> 2
A84: 3 | B84: Zijn de klinische richtlijnen bij voorkeur gebaseerd op evidence-based medicine (EBM)? | C84: 3 | D84: Good Practice | J84: X1 | K84: =C84&J84&G84 -> 3X1 | L84: =IFERROR(VLOOKUP($K84,Mapping!F:H,2,0),"") | M84: =IFERROR(VLOOKUP($K84,Mapping!$F:$H,3,0),"") | N84: =C84&G84 -> 3
A85: 2 | B85: Worden de klinische richtlijnen door een multidisciplinaire groep, via een gestructureerd en transparant proces, ontwikkeld op basis van een bij voorkeur systematische literatuur review of EBM met vermelding van graad van evidentie? | C85: 3 | D85: Good Practice | J85: X1 | K85: =C85&J85&G85 -> 3X1 | L85: =IFERROR(VLOOKUP($K85,Mapping!F:H,2,0),"") | M85: =IFERROR(VLOOKUP($K85,Mapping!$F:$H,3,0),"") | N85: =C85&G85 -> 3
A86: 2 | B86: Wordt elke klinische richtlijn goedgekeurd door het MFC en regelmatig herzien? | C86: 3 | D86: Good Practice | J86: X1 | K86: =C86&J86&G86 -> 3X1 | L86: =IFERROR(VLOOKUP($K86,Mapping!F:H,2,0),"") | M86: =IFERROR(VLOOKUP($K86,Mapping!$F:$H,3,0),"") | N86: =C86&G86 -> 3
A87: 3 | B87: Is er een gestructureerde manier (procedure) voor de implementatie van nieuwe richtlijnen? | C87: 3 | D87: Good Practice | J87: X1 | K87: =C87&J87&G87 -> 3X1 | L87: =IFERROR(VLOOKUP($K87,Mapping!F:H,2,0),"") | M87: =IFERROR(VLOOKUP($K87,Mapping!$F:$H,3,0),"") | N87: =C87&G87 -> 3
A88: 2 | B88: Speelt de klinische (ziekenhuis)apotheker een rol bij het implementeren van een klinische richtlijn? | C88: 3 | D88: Good Practice | J88: X1 | K88: =C88&J88&G88 -> 3X1 | L88: =IFERROR(VLOOKUP($K88,Mapping!F:H,2,0),"") | M88: =IFERROR(VLOOKUP($K88,Mapping!$F:$H,3,0),"") | N88: =C88&G88 -> 3
A89: 2 | B89: Is er een opleiding over de richtlijnen voor nieuwe stafleden? | C89: 3 | D89: Good Practice | J89: X1 | K89: =C89&J89&G89 -> 3X1 | L89: =IFERROR(VLOOKUP($K89,Mapping!F:H,2,0),"") | M89: =IFERROR(VLOOKUP($K89,Mapping!$F:$H,3,0),"") | N89: =C89&G89 -> 3
A90: 3 | B90: Is er een controle of de richtlijnen gekend zijn door de voorschrijvende artsen? | C90: 3 | D90: Good Practice | J90: X1 | K90: =C90&J90&G90 -> 3X1 | L90: =IFERROR(VLOOKUP($K90,Mapping!F:H,2,0),"") | M90: =IFERROR(VLOOKUP($K90,Mapping!$F:$H,3,0),"") | N90: =C90&G90 -> 3
A91: 2 | B91: Is er een controle of de richtlijnen toegepast worden door de voorschrijvende artsen? | C91: 3 | D91: Good Practice | J91: X1 | K91: =C91&J91&G91 -> 3X1 | L91: =IFERROR(VLOOKUP($K91,Mapping!F:H,2,0),"") | M91: =IFERROR(VLOOKUP($K91,Mapping!$F:$H,3,0),"") | N91: =C91&G91 -> 3
A92: III | B92: Antibiotherapiebeleidsgroep | C92: Progress :: | G92: =SUBTOTAL(3,G95:G122)/(SUBTOTAL(3,C95:C122)-0) -> 0 | L92: =SUBTOTAL(9,L95:L122) -> 0 | M92: =SUBTOTAL(9,M95:M122) -> 0
B93: AUDITVRAGEN
B94: Controleer altijd de documentatie en de toepassing op de werkvloer.
A95: 1 | B95: Is er een antibiotherapiebeleidsgroep (ABG) in het ziekenhuis? | C95: 1 | D95: KB 12 febr 2008 | E95: Art 25bis | J95: X1 | K95: =C95&J95&G95 -> 1X1 | L95: =IFERROR(VLOOKUP($K95,Mapping!F:H,2,0),"") | M95: =IFERROR(VLOOKUP($K95,Mapping!$F:$H,3,0),"") | N95: =C95&G95 -> 1
A96: 2 | B96: Is de ziekenhuisapotheker lid van de ABG? | C96: 1 | D96: KB 12 febr 2008 | E96: Art 25bis | J96: X1 | K96: =C96&J96&G96 -> 1X1 | L96: =IFERROR(VLOOKUP($K96,Mapping!F:H,2,0),"") | M96: =IFERROR(VLOOKUP($K96,Mapping!$F:$H,3,0),"") | N96: =C96&G96 -> 1
A97: 3 | B97: Vergadert de ABG op regelmatige basis? | C97: 3 | D97: Good Practice | J97: X1 | K97: =C97&J97&G97 -> 3X1 | L97: =IFERROR(VLOOKUP($K97,Mapping!F:H,2,0),"") | M97: =IFERROR(VLOOKUP($K97,Mapping!$F:$H,3,0),"") | N97: =C97&G97 -> 3
A98: 4 | B98: Is er een systematische manier van werken? (agenda, agenda vooraf verspreiden, verspreiding verslag, …) | C98: 3 | D98: Good Practice | J98: X1 | K98: =C98&J98&G98 -> 3X1 | L98: =IFERROR(VLOOKUP($K98,Mapping!F:H,2,0),"") | M98: =IFERROR(VLOOKUP($K98,Mapping!$F:$H,3,0),"") | N98: =C98&G98 -> 3
A99: 5 | B99: Kunnen de volledige verslagen van de ABG worden geraadpleegd worden uitsluitend door de leden van het MFC? | C99: 3 | D99: Good Practice | J99: X1 | K99: =C99&J99&G99 -> 3X1 | L99: =IFERROR(VLOOKUP($K99,Mapping!F:H,2,0),"") | M99: =IFERROR(VLOOKUP($K99,Mapping!$F:$H,3,0),"") | N99: =C99&G99 -> 3
A100: 6 | B100: Zijn de beslissingen van de ABG gemakkelijk toegankelijk voor alle zorgverstrekkers? | C100: 3 | D100: Good Practice | J100: X1 | K100: =C100&J100&G100 -> 3X1 | L100: =IFERROR(VLOOKUP($K100,Mapping!F:H,2,0),"") | M100: =IFERROR(VLOOKUP($K100,Mapping!$F:$H,3,0),"") | N100: =C100&G100 -> 3
A101: 7 | B101: Is er een systematische rapportering naar het MFC? | C101: 3 | D101: Good Practice | J101: X1 | K101: =C101&J101&G101 -> 3X1 | L101: =IFERROR(VLOOKUP($K101,Mapping!F:H,2,0),"") | M101: =IFERROR(VLOOKUP($K101,Mapping!$F:$H,3,0),"") | N101: =C101&G101 -> 3
A102: 8 | B102: Stelt de ABG het therapeutisch ziekenhuisformularium met betrekking tot de anti-infectieuze geneesmiddelen op? | C102: 1 | D102: KB 12 feb 2008 | E102: Art 25ter 1° | J102: X1 | K102: =C102&J102&G102 -> 1X1 | L102: =IFERROR(VLOOKUP($K102,Mapping!F:H,2,0),"") | M102: =IFERROR(VLOOKUP($K102,Mapping!$F:$H,3,0),"") | N102: =C102&G102 -> 1
...

Sheet rapport
B1: MAEIA MFC en ABG Rapport
A3: Date : | I3: Adapt these cells
A4: Ziekenhuis : | I4: Adapt these cells
A5: Hoofdapotheker : | I5: Adapt these cells
A6: Auditeur naam : | I6: Adapt these cells
C7: Max | D7: Score
A8: Total score | C8: ='proces MFC en ABG '!L3 -> 3 | D8: ='proces MFC en ABG '!M3 -> 3 | K8: Make sure total is correct | L8: Make sure total is correct
A9: ='proces MFC en ABG '!A7 -> I | B9: ='proces MFC en ABG '!B7 -> Kwaliteitsopvolging van het proces MFC en AB beleidsgroep | C9: ='proces MFC en ABG '!L13 -> 0 | D9: ='proces MFC en ABG '!M7 -> 3 | H9: Copy Paste visible cells from questionnaire sheet | I9: Copy Paste visible cells from questionnaire sheet | J9: Copy Paste visible cells from questionnaire sheet | K9: Copy Paste visible cells from questionnaire sheet | L9: Copy Paste visible cells from questionnaire sheet
A10: ='proces MFC en ABG '!A13 -> II | B10: ='proces MFC en ABG '!B13 -> Medisch Farmaceutisch Comité | C10: ='proces MFC en ABG '!L13 -> 0 | D10: ='proces MFC en ABG '!M13 -> 0 | H10: Copy Paste visible cells from questionnaire sheet | I10: Copy Paste visible cells from questionnaire sheet | J10: Copy Paste visible cells from questionnaire sheet | K10: Copy Paste visible cells from questionnaire sheet | L10: Copy Paste visible cells from questionnaire sheet
A11: ='proces MFC en ABG '!A16 -> a | B11: ='proces MFC en ABG '!B16 -> Algemeen | C11: ='proces MFC en ABG '!L16 -> 0 | D11: ='proces MFC en ABG '!M16 -> 0 | H11: Copy Paste visible cells from questionnaire sheet | I11: Copy Paste visible cells from questionnaire sheet | J11: Copy Paste visible cells from questionnaire sheet | K11: Copy Paste visible cells from questionnaire sheet | L11: Copy Paste visible cells from questionnaire sheet
A12: ='proces MFC en ABG '!A46 -> b | B12: ='proces MFC en ABG '!B46 -> Therapeutisch Formularium | C12: ='proces MFC en ABG '!L46 -> 0 | D12: ='proces MFC en ABG '!M46 -> 0 | H12: Copy Paste visible cells from questionnaire sheet | I12: Copy Paste visible cells from questionnaire sheet | J12: Copy Paste visible cells from questionnaire sheet | K12: Copy Paste visible cells from questionnaire sheet | L12: Copy Paste visible cells from questionnaire sheet
A13: ='proces MFC en ABG '!A66 -> c | B13: ='proces MFC en ABG '!B66 -> Analyse verbruik geneesmiddelen | C13: ='proces MFC en ABG '!L66 -> 0 | D13: ='proces MFC en ABG '!M66 -> 0 | H13: Copy Paste visible cells from questionnaire sheet | I13: Copy Paste visible cells from questionnaire sheet | J13: Copy Paste visible cells from questionnaire sheet | K13: Copy Paste visible cells from questionnaire sheet | L13: Copy Paste visible cells from questionnaire sheet
A14: ='proces MFC en ABG '!A82 -> d | B14: ='proces MFC en ABG '!B82 -> Richtlijnen | C14: ='proces MFC en ABG '!L82 -> 0 | D14: ='proces MFC en ABG '!M82 -> 0
A15: ='proces MFC en ABG '!A92 -> III | B15: ='proces MFC en ABG '!B92 -> Antibiotherapiebeleidsgroep | C15: ='proces MFC en ABG '!L92 -> 0 | D15: ='proces MFC en ABG '!M92 -> 0 | H15: Copy Paste visible cells from questionnaire sheet | I15: Copy Paste visible cells from questionnaire sheet | J15: Copy Paste visible cells from questionnaire sheet | K15: Copy Paste visible cells from questionnaire sheet | L15: Copy Paste visible cells from questionnaire sheet
A38: Handtekeningen
A40: Hoofdapotheker | I40: Change name & signature
A43: Auditeur naam : | I43: Change name & signature
B47: MAEIA MFC en ABG Rapport
A74: Sterke punten
A75: 1
A76: 2
A77: 3
A78: 4
A79: 5
A80: 6
A81: Tekortkomingen niveau 1
A82: 1
A83: 2
A84: 3
A85: 4
A86: 5
A87: 6
A88: Verbeterpunten niveau 2
A89: 1
A90: 2
A91: 3
A92: 4
A93: 5
A94: 6
A95: Verbeterpunten niveau 3
A96: 1
A97: 2
A98: 3
A99: 4
A100: 5
A101: 6
A102: Observaties
A103: 1
A104: 2
A105: 3
A106: 4
A107: 5
A108: 6

Sheet actiepunten auditee
A3: Actiepunt | B3: Nummer | C3: ..… | D3: Oorsprong :
D4: o Tekortkoming niveau 1
D5: o Verbeterpunt niveau 2
D6: o Verbeterpunt niveau 3
D7: o Observatie
A8: Geaudit proces | B8: ………..
A9: Auditdatum | B9: …../…../….. | D9: Auditor | E9: ……………………………………………
A10: Auditee | B10: ………………………………………………………………………………..
A11: Omschrijving van de tekortkoming / verbeterpunt / observatie
A12: Voorgestelde maatregel door de auditee | B12: Oorzaak
B15: Actie
B21: Verantwoordelijke
B23: Termijn
A26: Opvolgrapport
A27: (cumulatief)
A44: Conclusie

Sheet Mapping
B4: MAPPING TABLE | G4: points
B5: Base points | C5: Niveau | D5: Extra gewicht factor | E5: Antwoord | F5: Code | G5: Total | H5: Score | M5: Somme | P5: Speedometer | R5: Pointer
A6: Ja Groep | B6: 1 | C6: 3 | D6: X3 | E6: Ja | F6: =C6&D6&E6 -> 3X3Ja | G6: 3 | H6: 3 | L6: Ja | M6: =COUNTIF('proces MFC en ABG '!$G:$G,Mapping!$L6) -> 2 | P6: Start | Q6: 0 | R6: Value | S6: =+ROUND(M11/M10,2)*100 -> 100
A7: Ja Groep | B7: 1 | C7: 3 | D7: X2 | E7: Ja | F7: =C7&D7&E7 -> 3X2Ja | G7: 2 | H7: 2 | L7: Neen | M7: =COUNTIF('proces MFC en ABG '!$G:$G,Mapping!$L7) -> 1 | P7: Initial | Q7: 60 | R7: Pointer | S7: 1
A8: Ja Groep | B8: 1 | C8: 3 | D8: X1 | E8: Ja | F8: =C8&D8&E8 -> 3X1Ja | G8: 1 | H8: 1 | L8: NVT | M8: =COUNTIF('proces MFC en ABG '!$G:$G,Mapping!$L8) -> 1 | P8: Middle | Q8: 30 | R8: end | S8: =200-S7-S6 -> 99
A9: Ja Groep | B9: 1 | C9: 3 | D9: X0,33 | E9: Ja | F9: =C9&D9&E9 -> 3X0,33Ja | G9: =1/3 -> 0.33333333 | H9: =1/3 -> 0.33333333 | L9: Somme | M9: =SUM(M6:M8) -> 4 | P9: End | Q9: 10
A10: Ja Groep | B10: 1 | C10: 3 | D10: X0,66 | E10: Ja | F10: =C10&D10&E10 -> 3X0,66Ja | G10: =2/3 -> 0.66666667 | H10: =2/3 -> 0.66666667 | L10: Total | M10: ='proces MFC en ABG '!$L$3 -> 3 | P10: Max | Q10: 100
A11: Ja Groep | B11: 1 | C11: 3 | D11: X1 | E11: Ja | F11: =C11&D11&E11 -> 3X1Ja | G11: 1 | H11: 1 | L11: Score | M11: ='proces MFC en ABG '!$M$3 -> 3
A12: Ja Groep | B12: 3 | C12: 2 | D12: X3 | E12: Ja | F12: =C12&D12&E12 -> 2X3Ja | G12: 9 | H12: 9 | S12: ="Total Score : "&S6&"%" -> Total Score : 100%
A13: Ja Groep | B13: 3 | C13: 2 | D13: X2 | E13: Ja | F13: =C13&D13&E13 -> 2X2Ja | G13: 6 | H13: 6
A14: Ja Groep | B14: 3 | C14: 2 | D14: X1 | E14: Ja | F14: =C14&D14&E14 -> 2X1Ja | G14: 3 | H14: 3 | L14: ROUGE | M14: 60
A15: Ja Groep | B15: 3 | C15: 2 | D15: X0,33 | E15: Ja | F15: =C15&D15&E15 -> 2X0,33Ja | G15: 1 | H15: 1 | L15: ORANGE | M15: 30
A16: Ja Groep | B16: 3 | C16: 2 | D16: X0,66 | E16: Ja | F16: =C16&D16&E16 -> 2X0,66Ja | G16: 2 | H16: 2 | L16: VERT | M16: 10
A17: Ja Groep | B17: 3 | C17: 2 | D17: X1 | E17: Ja | F17: =C17&D17&E17 -> 2X1Ja | G17: 3 | H17: 3 | L17: Invisible | M17: 100
A18: Ja Groep | B18: 6 | C18: 1 | D18: X3 | E18: Ja | F18: =C18&D18&E18 -> 1X3Ja | G18: 18 | H18: 18
A19: Ja Groep | B19: 6 | C19: 1 | D19: X2 | E19: Ja | F19: =C19&D19&E19 -> 1X2Ja | G19: 12 | H19: 12
A20: Ja Groep | B20: 6 | C20: 1 | D20: X1 | E20: Ja | F20: =C20&D20&E20 -> 1X1Ja | G20: 6 | H20: 6 | L20: Aiguille | M20: =M7/M9 -> 0.25
A21: Ja Groep | B21: 6 | C21: 1 | D21: X0,33 | E21: Ja | F21: =C21&D21&E21 -> 1X0,33Ja | G21: 2 | H21: 2 | L21: Largeur | M21: 1
A22: Ja Groep | B22: 6 | C22: 1 | D22: X0,66 | E22: Ja | F22: =C22&D22&E22 -> 1X0,66Ja | G22: 4 | H22: 4 | L22: Invisible | M22: =SUM(M14:M17)-(M21+M20) -> 198.75
A23: Ja Groep | B23: 6 | C23: 1 | D23: X1 | E23: Ja | F23: =C23&D23&E23 -> 1X1Ja | G23: 6 | H23: 6
A24: Neen groep | B24: 1 | C24: 3 | D24: X3 | E24: Neen | F24: =C24&D24&E24 -> 3X3Neen | G24: 3 | H24: 0 | L24: RIEN
A25: Neen groep | B25: 1 | C25: 3 | D25: X2 | E25: Neen | F25: =C25&D25&E25 -> 3X2Neen | G25: 2 | H25: 0 | L25: Aiguille | M25: =ROUND(M20,0)&"%" -> 0%
A26: Neen groep | B26: 1 | C26: 3 | D26: X1 | E26: Neen | F26: =C26&D26&E26 -> 3X1Neen | G26: 1 | H26: 0 | L26: RIEN
A27: Neen groep | B27: 1 | C27: 3 | D27: X0,33 | E27: Neen | F27: =C27&D27&E27 -> 3X0,33Neen | G27: =1/3 -> 0.33333333 | H27: 0
A28: Neen groep | B28: 1 | C28: 3 | D28: X0,66 | E28: Neen | F28: =C28&D28&E28 -> 3X0,66Neen | G28: =2/3 -> 0.66666667 | H28: 0
A29: Neen groep | B29: 1 | C29: 3 | D29: X1 | E29: Neen | F29: =C29&D29&E29 -> 3X1Neen | G29: 1 | H29: 0
A30: Neen groep | B30: 3 | C30: 2 | D30: X3 | E30: Neen | F30: =C30&D30&E30 -> 2X3Neen | G30: 9 | H30: 0
A31: Neen groep | B31: 3 | C31: 2 | D31: X2 | E31: Neen | F31: =C31&D31&E31 -> 2X2Neen | G31: 6 | H31: 0
A32: Neen groep | B32: 3 | C32: 2 | D32: X1 | E32: Neen | F32: =C32&D32&E32 -> 2X1Neen | G32: 3 | H32: 0
A33: Neen groep | B33: 3 | C33: 2 | D33: X0,33 | E33: Neen | F33: =C33&D33&E33 -> 2X0,33Neen | G33: 1 | H33: 0
A34: Neen groep | B34: 3 | C34: 2 | D34: X0,66 | E34: Neen | F34: =C34&D34&E34 -> 2X0,66Neen | G34: 2 | H34: 0
A35: Neen groep | B35: 3 | C35: 2 | D35: X1 | E35: Neen | F35: =C35&D35&E35 -> 2X1Neen | G35: 3 | H35: 0
A36: Neen groep | B36: 6 | C36: 1 | D36: X3 | E36: Neen | F36: =C36&D36&E36 -> 1X3Neen | G36: 18 | H36: 0
A37: Neen groep | B37: 6 | C37: 1 | D37: X2 | E37: Neen | F37: =C37&D37&E37 -> 1X2Neen | G37: 12 | H37: 0
A38: Neen groep | B38: 6 | C38: 1 | D38: X1 | E38: Neen | F38: =C38&D38&E38 -> 1X1Neen | G38: 6 | H38: 0
A39: Neen groep | B39: 6 | C39: 1 | D39: X0,33 | E39: Neen | F39: =C39&D39&E39 -> 1X0,33Neen | G39: 2 | H39: 0
A40: Neen groep | B40: 6 | C40: 1 | D40: X0,66 | E40: Neen | F40: =C40&D40&E40 -> 1X0,66Neen | G40: 4 | H40: 0
... A59: NVT groep | B59: 6 | C59: 1 | D59: X1 | E59: NVT | F59: =C59&D59&E59 -> 1X1NVT | G59: 0 | H59: 0
