Workbook

Sheet algemene inleiding

Sheet handleiding
A2: Hoe gebruiken we de kwaliteitstool MAEIA?

Sheet expertenteam
A1: MET DANK AAN HET EXPERTENTEAM
A2: Annelies Vranckx
A3: Valerie Bastiaens
A4: Anneleen Spriet
A5: Berdien Van Damme
A6: Evelien Haegeman
A7: Kathleen Wens
A8: Daphné Filliers
A9: Kathleen Dillen
A10: Griet Wyers
A11: Astrid Vandorpe
A12: Severine Halleux

Sheet inleiding ..... 
A1: INLEIDING KLINISCHE STUDIES

Sheet inhoudstafel

Sheet proces ...... 
A2: VERSIE 20240122 | B2: KLINISCHE STUDIES | C2: NIVEAU | D2: Referentie | E2: ter info: artikelnummer, §, pagina | G2: ANTWOORD | H2: OPMERKINGEN | J2: extra factor gewicht | L2: TOTAL | M2: SCORE
C3: 1 = WETGEVING (= 6 punten) | H3: OPMERKINGEN | L3: =SUBTOTAL(9,L7:L245) -> 3 | M3: =SUBTOTAL(9,M7:M245) -> 3
C4: 2 = RICHTLIJNEN, NORMEN, AANBEVELINGEN (= 3 punten) | G4: Ja
C5: 3 = GOOD PRACTICE (= 1 punt) | G5: Neen
G6: NVT | K6: Code | L6: Total | M6: Score
A7: I | B7: Kwaliteitsopvolging van het proces van klinische studies | C7: Progress :: | G7: =SUBTOTAL(3,G10:G12)/SUBTOTAL(3,C10:C12) -> 0.33333333 | L7: =SUBTOTAL(9,L10:L12) -> 3 | M7: =SUBTOTAL(9,M10:M12) -> 3
B8: AUDITVRAGEN
B9: Controleer altijd de documentatie en de toepassing op de werkvloer.
A10: 1 | B10: Werden alle genomen acties op basis van de tekortkomingen van niveau 1 die bij de vorige audit werden vastgesteld adequaat opgevolgd en met met succes geïmplementeerd? | C10: 3 | D10: Good Practice | G10: Ja | J10: X3 | K10: =C10&J10&G10 -> 3X3Ja | L10: =IFERROR(VLOOKUP($K10,Mapping!$F:$H,2,0),"") -> 3 | M10: =IFERROR(VLOOKUP($K10,Mapping!$F:$H,3,0),"") -> 3 | N10: =C10&G10 -> 3Ja
A11: 2 | B11: Werden alle genomen acties op basis van de verbeterpunten van niveau 2 die bij de vorige audit werden vastgesteld adequaat opgevolgd en met met succes geïmplementeerd? | C11: 3 | D11: Good Practice | J11: X2 | K11: =C11&J11&G11 -> 3X2 | L11: =IFERROR(VLOOKUP($K11,Mapping!F:H,2,0),"") | M11: =IFERROR(VLOOKUP($K11,Mapping!$F:$H,3,0),"") | N11: =C11&G11 -> 3
A12: 3 | B12: Werden alle genomen acties op basis van de verbeterpunten van niveau 3 die bij de vorige audit werden vastgesteld adequaat opgevolgd en met met succes geïmplementeerd? | C12: 3 | D12: Good Practice | J12: X1 | K12: =C12&J12&G12 -> 3X1 | L12: =IFERROR(VLOOKUP($K12,Mapping!F:H,2,0),"") | M12: =IFERROR(VLOOKUP($K12,Mapping!$F:$H,3,0),"") | N12: =C12&G12 -> 3
A13: II | B13: Algemeen | C13: Progress :: | G13: =SUBTOTAL(3,G16:G68)/(SUBTOTAL(3,C16:C68)-3) -> 0 | L13: =SUBTOTAL(9,L16:L68) -> 0 | M13: =SUBTOTAL(9,M16:M68) -> 0
B14: AUDITVRAGEN
B15: Controleer altijd de documentatie en de toepassing op de werkvloer.
A16: a | B16: Algemeen beheer | C16: Progress :: | G16: =SUBTOTAL(3,G17:G25)/SUBTOTAL(3,C17:C25) -> 0 | L16: =SUBTOTAL(9,L17:L25) -> 0 | M16: =SUBTOTAL(9,M17:M25) -> 0
A17: 1 | B17: Is er een overkoepelend orgaan in het ziekenhuis (vb CTC = clinical trial center) dat ziekenhuisbreed het verloop van de klinische studies opvolgt? | C17: 3 | D17: Good Practice | J17: X1 | K17: =C17&J17&G17 -> 3X1 | L17: =IFERROR(VLOOKUP($K17,Mapping!F:H,2,0),"") | M17: =IFERROR(VLOOKUP($K17,Mapping!$F:$H,3,0),"") | N17: =C17&G17 -> 3
A18: 2 | B18: Is er in het ziekenhuis een algemeen kwaliteitshandboek aanwezig voor alle klinische studies in het ziekenhuis? | C18: 3 | D18: Good Practice | J18: X1 | K18: =C18&J18&G18 -> 3X1 | L18: =IFERROR(VLOOKUP($K18,Mapping!F:H,2,0),"") | M18: =IFERROR(VLOOKUP($K18,Mapping!$F:$H,3,0),"") | N18: =C18&G18 -> 3
A19: 3 | B19: Is er een apotheker lid van het Ethische Comité (EC)? | C19: 1 | D19: KB 4 april 2014 | E19: Art 4 | J19: X1 | K19: =C19&J19&G19 -> 1X1 | L19: =IFERROR(VLOOKUP($K19,Mapping!F:H,2,0),"") | M19: =IFERROR(VLOOKUP($K19,Mapping!$F:$H,3,0),"") | N19: =C19&G19 -> 1
A20: 4 | B20: Bestaat er een algemene procedure voor de veilige vernietiging van de studiemedicatie in het ziekenhuis? | C20: 3 | D20: Good Practice | J20: X1 | K20: =C20&J20&G20 -> 3X1 | L20: =IFERROR(VLOOKUP($K20,Mapping!F:H,2,0),"") | M20: =IFERROR(VLOOKUP($K20,Mapping!$F:$H,3,0),"") | N20: =C20&G20 -> 3
A21: 5 | B21: Bestaat er een procedure over de toegediende studiemedicatie tijdens een klinische studie? | C21: 3 | D21: Good Practice | J21: X1 | K21: =C21&J21&G21 -> 3X1 | L21: =IFERROR(VLOOKUP($K21,Mapping!F:H,2,0),"") | M21: =IFERROR(VLOOKUP($K21,Mapping!$F:$H,3,0),"") | N21: =C21&G21 -> 3
A22: 6 | B22: Bestaat er een procedure voor de controle van de vervaldata van de studiemedicatie? | C22: 1 | D22: KB 30 sept 2020 | E22: Bijlage I C.c | J22: X1 | K22: =C22&J22&G22 -> 1X1 | L22: =IFERROR(VLOOKUP($K22,Mapping!F:H,2,0),"") | M22: =IFERROR(VLOOKUP($K22,Mapping!$F:$H,3,0),"") | N22: =C22&G22 -> 1
A23: 7 | B23: Bestaat er een procedure voor de controle op de bewaartemperaturen van de studiemedicatie? | C23: 1 | D23: KB 30 sept 2020 | E23: Bijlage I B | J23: X1 | K23: =C23&J23&G23 -> 1X1 | L23: =IFERROR(VLOOKUP($K23,Mapping!F:H,2,0),"") | M23: =IFERROR(VLOOKUP($K23,Mapping!$F:$H,3,0),"") | N23: =C23&G23 -> 1
A24: 8 | B24: Bestaat er een procedure inzake netheid, hygiëne, ontsmetting en ventilatie van de specifieke lokalen voor de klinische studies? | C24: 1 | D24: KB 30 sept 2020 | E24: Bijlage I B | J24: X1 | K24: =C24&J24&G24 -> 1X1 | L24: =IFERROR(VLOOKUP($K24,Mapping!F:H,2,0),"") | M24: =IFERROR(VLOOKUP($K24,Mapping!$F:$H,3,0),"") | N24: =C24&G24 -> 1
A25: 9 | B25: Worden de aangekondigde audits die door de farmaceutische bedrijven worden georganiseerd voorbereid door de apotheek? | C25: 3 | D25: Good Practice | J25: X1 | K25: =C25&J25&G25 -> 3X1 | L25: =IFERROR(VLOOKUP($K25,Mapping!F:H,2,0),"") | M25: =IFERROR(VLOOKUP($K25,Mapping!$F:$H,3,0),"") | N25: =C25&G25 -> 3
A26: b | B26: Infrastructuur | C26: Progress :: | G26: =SUBTOTAL(3,G27:G56)/SUBTOTAL(3,C27:C56) -> 0 | L26: =SUBTOTAL(9,L27:L56) -> 0 | M26: =SUBTOTAL(9,M27:M56) -> 0
A27: 1 | B27: Bestaat er een gescheiden ruimte voor de opslag van de studiemedicatie van de klinische studies ? (kast, lokaal, bureau, enz.)? | C27: 3 | D27: Good Practice | J27: X1 | K27: =C27&J27&G27 -> 3X1 | L27: =IFERROR(VLOOKUP($K27,Mapping!F:H,2,0),"") | M27: =IFERROR(VLOOKUP($K27,Mapping!$F:$H,3,0),"") | N27: =C27&G27 -> 3
A28: 2 | B28: Is de medicatieruimte van de klinische studies afsluitbaar? (kast, lokaal, bureau, enz.)? | C28: 3 | D28: Good Practice | J28: X1 | K28: =C28&J28&G28 -> 3X1 | L28: =IFERROR(VLOOKUP($K28,Mapping!F:H,2,0),"") | M28: =IFERROR(VLOOKUP($K28,Mapping!$F:$H,3,0),"") | N28: =C28&G28 -> 3
A29: 3 | B29: Bestaat er een gescheiden ruimte voor de dossiers van de klinische studies ? (kast, lokaal, bureau, enz.)? | C29: 3 | D29: Good Practice | J29: X1 | K29: =C29&J29&G29 -> 3X1 | L29: =IFERROR(VLOOKUP($K29,Mapping!F:H,2,0),"") | M29: =IFERROR(VLOOKUP($K29,Mapping!$F:$H,3,0),"") | N29: =C29&G29 -> 3
A30: 4 | B30: Is de ruimte van de dossiers voor de klinische studies afsluitbaar? (kast, lokaal, bureau, enz.)? | C30: 3 | D30: Good Practice | J30: X1 | K30: =C30&J30&G30 -> 3X1 | L30: =IFERROR(VLOOKUP($K30,Mapping!F:H,2,0),"") | M30: =IFERROR(VLOOKUP($K30,Mapping!$F:$H,3,0),"") | N30: =C30&G30 -> 3
A31: 5 | B31: Hebben externe bezoekers die betrokken zijn bij de klinische studies enkel toegang onder begeleiding tot deze ruimte ? | C31: 1 | D31: KB 30 sept 2020 | E31: Bijlage I B | J31: X1 | K31: =C31&J31&G31 -> 1X1 | L31: =IFERROR(VLOOKUP($K31,Mapping!F:H,2,0),"") | M31: =IFERROR(VLOOKUP($K31,Mapping!$F:$H,3,0),"") | N31: =C31&G31 -> 1
A32: 6 | B32: Bestaat er een specifieke procedure rond inbraakpreventie voor de ruimten van de klinische studies? | C32: 3 | D32: Good Practice | J32: X1 | K32: =C32&J32&G32 -> 3X1 | L32: =IFERROR(VLOOKUP($K32,Mapping!F:H,2,0),"") | M32: =IFERROR(VLOOKUP($K32,Mapping!$F:$H,3,0),"") | N32: =C32&G32 -> 3
A33: 7 | B33: Is de ruimte van de studiemedicatie extra beveiligd tegen inbraak, diefstal, ea. ? | C33: 3 | D33: Good Practice | J33: X1 | K33: =C33&J33&G33 -> 3X1 | L33: =IFERROR(VLOOKUP($K33,Mapping!F:H,2,0),"") | M33: =IFERROR(VLOOKUP($K33,Mapping!$F:$H,3,0),"") | N33: =C33&G33 -> 3
A34: 8 | B34: Is de ruimte van de dossier opslag van de studiemedicatie extra beveiligd tegen inbraak, diefstal, ea. ? | C34: 3 | D34: Good Practice | J34: X1 | K34: =C34&J34&G34 -> 3X1 | L34: =IFERROR(VLOOKUP($K34,Mapping!F:H,2,0),"") | M34: =IFERROR(VLOOKUP($K34,Mapping!$F:$H,3,0),"") | N34: =C34&G34 -> 3
A35: 9 | B35: Is de toegang tot de ruimte van de studiemedicatie gecontroleeerd ? | C35: 3 | D35: Good Practice | J35: X1 | K35: =C35&J35&G35 -> 3X1 | L35: =IFERROR(VLOOKUP($K35,Mapping!F:H,2,0),"") | M35: =IFERROR(VLOOKUP($K35,Mapping!$F:$H,3,0),"") | N35: =C35&G35 -> 3
A36: 10 | B36: Is de toegang tot de ruimte van de dossier opslag van de studiemedicatie gecontroleeerd ? | C36: 3 | D36: Good Practice | J36: X1 | K36: =C36&J36&G36 -> 3X1 | L36: =IFERROR(VLOOKUP($K36,Mapping!F:H,2,0),"") | M36: =IFERROR(VLOOKUP($K36,Mapping!$F:$H,3,0),"") | N36: =C36&G36 -> 3
A37: 11 | B37: Is de toegang beperkt tot de medewerkers die betrokken zijn bij de studies ? | C37: 3 | D37: Good Practice | J37: X1 | K37: =C37&J37&G37 -> 3X1 | L37: =IFERROR(VLOOKUP($K37,Mapping!F:H,2,0),"") | M37: =IFERROR(VLOOKUP($K37,Mapping!$F:$H,3,0),"") | N37: =C37&G37 -> 3
A38: 12 | B38: Bestaat er een specifieke procedure voor de studiemedicatie rond temperatuursopvolging en excursies? | C38: 3 | D38: Good Practice | J38: X1 | K38: =C38&J38&G38 -> 3X1 | L38: =IFERROR(VLOOKUP($K38,Mapping!F:H,2,0),"") | M38: =IFERROR(VLOOKUP($K38,Mapping!$F:$H,3,0),"") | N38: =C38&G38 -> 3
A39: 13 | B39: Garandeert de ruimte van de studiemedicatie adequate bewaaromstandigheden wat betreft de temperatuur? | C39: 1 | D39: KB 30 sept 2020 | E39: Bijlage I B | J39: X1 | K39: =C39&J39&G39 -> 1X1 | L39: =IFERROR(VLOOKUP($K39,Mapping!F:H,2,0),"") | M39: =IFERROR(VLOOKUP($K39,Mapping!$F:$H,3,0),"") | N39: =C39&G39 -> 1
A40: 14 | B40: Wordt de temperatuur in de ruimte van de studiemedicatie op een continue wijze gemeten? | C40: 3 | D40: Good Practice | J40: X1 | K40: =C40&J40&G40 -> 3X1 | L40: =IFERROR(VLOOKUP($K40,Mapping!F:H,2,0),"") | M40: =IFERROR(VLOOKUP($K40,Mapping!$F:$H,3,0),"") | N40: =C40&G40 -> 3
A41: 15 | B41: Als de temperatuur niet continu gemeten wordt is er dan voor elke stockageplaats van de studiemedicatie een minimum/maximum digitale thermometer voorzien? | C41: 3 | D41: Good Practice | J41: X1 | K41: =C41&J41&G41 -> 3X1 | L41: =IFERROR(VLOOKUP($K41,Mapping!F:H,2,0),"") | M41: =IFERROR(VLOOKUP($K41,Mapping!$F:$H,3,0),"") | N41: =C41&G41 -> 3
...

Sheet rapport
B1: MAEIA Rapport Klinische Studies
A3: Date : | I3: Adapt these cells
A4: Ziekenhuis : | I4: Adapt these cells
A5: Hoofdapotheker : | I5: Adapt these cells
A6: Auditeur naam : | I6: Adapt these cells
C7: Max | D7: Score
A8: Total score | C8: ='proces ...... '!L3 -> 3 | D8: ='proces ...... '!M3 -> 3 | K8: Make sure total is correct | L8: Make sure total is correct
A9: ='proces ...... '!A7 -> I | B9: ='proces ...... '!B7 -> Kwaliteitsopvolging van het proces van klinische studies | C9: ='proces ...... '!L7 -> 3 | D9: ='proces ...... '!M7 -> 3 | H9: Copy Paste visible cells from questionnaire sheet | I9: Copy Paste visible cells from questionnaire sheet | J9: Copy Paste visible cells from questionnaire sheet | K9: Copy Paste visible cells from questionnaire sheet | L9: Copy Paste visible cells from questionnaire sheet
A10: ='proces ...... '!A13 -> II | B10: ='proces ...... '!B13 -> Algemeen | C10: ='proces ...... '!L13 -> 0 | D10: ='proces ...... '!M13 -> 0 | H10: Copy Paste visible cells from questionnaire sheet | I10: Copy Paste visible cells from questionnaire sheet | J10: Copy Paste visible cells from questionnaire sheet | K10: Copy Paste visible cells from questionnaire sheet | L10: Copy Paste visible cells from questionnaire sheet
A11: ='proces ...... '!A16 -> a | B11: ='proces ...... '!B16 -> Algemeen beheer | C11: ='proces ...... '!L16 -> 0 | D11: ='proces ...... '!M16 -> 0 | H11: Copy Paste visible cells from questionnaire sheet | I11: Copy Paste visible cells from questionnaire sheet | J11: Copy Paste visible cells from questionnaire sheet | K11: Copy Paste visible cells from questionnaire sheet | L11: Copy Paste visible cells from questionnaire sheet
A12: ='proces ...... '!A26 -> b | B12: ='proces ...... '!B26 -> Infrastructuur | C12: ='proces ...... '!L26 -> 0 | D12: ='proces ...... '!M26 -> 0 | H12: Copy Paste visible cells from questionnaire sheet | I12: Copy Paste visible cells from questionnaire sheet | J12: Copy Paste visible cells from questionnaire sheet | K12: Copy Paste visible cells from questionnaire sheet | L12: Copy Paste visible cells from questionnaire sheet
A13: ='proces ...... '!A57 -> c | B13: ='proces ...... '!B57 -> Personeel | C13: ='proces ...... '!L57 -> 0 | D13: ='proces ...... '!M57 -> 0 | H13: Copy Paste visible cells from questionnaire sheet | I13: Copy Paste visible cells from questionnaire sheet | J13: Copy Paste visible cells from questionnaire sheet | K13: Copy Paste visible cells from questionnaire sheet | L13: Copy Paste visible cells from questionnaire sheet
A14: ='proces ...... '!A69 -> III | B14: ='proces ...... '!B69 -> Opstarten studie | C14: ='proces ...... '!L69 -> 0 | D14: ='proces ...... '!M69 -> 0 | H14: Copy Paste visible cells from questionnaire sheet | I14: Copy Paste visible cells from questionnaire sheet | J14: Copy Paste visible cells from questionnaire sheet | K14: Copy Paste visible cells from questionnaire sheet | L14: Copy Paste visible cells from questionnaire sheet
A15: ='proces ...... '!A72 -> a | B15: ='proces ...... '!B72 -> Financieel contract | C15: ='proces ...... '!L72 -> 0 | D15: ='proces ...... '!M72 -> 0 | H15: Copy Paste visible cells from questionnaire sheet | I15: Copy Paste visible cells from questionnaire sheet | J15: Copy Paste visible cells from questionnaire sheet | K15: Copy Paste visible cells from questionnaire sheet | L15: Copy Paste visible cells from questionnaire sheet
A16: ='proces ...... '!A80 -> b | B16: ='proces ...... '!B80 -> Site Initiatie Visite (SIV) | C16: ='proces ...... '!L80 -> 0 | D16: ='proces ...... '!M80 -> 0 | H16: Copy Paste visible cells from questionnaire sheet | I16: Copy Paste visible cells from questionnaire sheet | J16: Copy Paste visible cells from questionnaire sheet | K16: Copy Paste visible cells from questionnaire sheet | L16: Copy Paste visible cells from questionnaire sheet
A17: ='proces ...... '!A86 -> c | B17: ='proces ...... '!B86 -> Voorbereiding studie | C17: ='proces ...... '!L86 -> 0 | D17: ='proces ...... '!M86 -> 0 | H17: Copy Paste visible cells from questionnaire sheet | I17: Copy Paste visible cells from questionnaire sheet | J17: Copy Paste visible cells from questionnaire sheet | K17: Copy Paste visible cells from questionnaire sheet | L17: Copy Paste visible cells from questionnaire sheet
A18: ='proces ...... '!A98 -> IV | B18: ='proces ...... '!B98 -> Verloop van de studie | C18: ='proces ...... '!L98 -> 0 | D18: ='proces ...... '!M98 -> 0 | H18: Copy Paste visible cells from questionnaire sheet | I18: Copy Paste visible cells from questionnaire sheet | J18: Copy Paste visible cells from questionnaire sheet | K18: Copy Paste visible cells from questionnaire sheet | L18: Copy Paste visible cells from questionnaire sheet
A19: ='proces ...... '!A101 -> a | B19: ='proces ...... '!B101 -> Ontvangst studiemedicatie | C19: ='proces ...... '!L101 -> 0 | D19: ='proces ...... '!M101 -> 0 | H19: Copy Paste visible cells from questionnaire sheet | I19: Copy Paste visible cells from questionnaire sheet | J19: Copy Paste visible cells from questionnaire sheet | K19: Copy Paste visible cells from questionnaire sheet | L19: Copy Paste visible cells from questionnaire sheet
A20: ='proces ...... '!A108 -> b | B20: ='proces ...... '!B108 -> Aflevering studiemedicatie | C20: ='proces ...... '!L108 -> 0 | D20: ='proces ...... '!M108 -> 0
A21: ='proces ...... '!A118 -> c | B21: ='proces ...... '!B118 -> Bereiding studiemedicatie | C21: ='proces ...... '!L118 -> 0 | D21: ='proces ...... '!M118 -> 0
A22: ='proces ...... '!A124 -> d | B22: ='proces ...... '!B124 -> Opvolging klinische studie | C22: ='proces ...... '!L124 -> 0 | D22: ='proces ...... '!M124 -> 0
A23: ='proces ...... '!A133 -> V | B23: ='proces ...... '!B133 -> Afsluiten klinische studie | C23: ='proces ...... '!L133 -> 0 | D23: ='proces ...... '!M133 -> 0 | H23: Copy Paste visible cells from questionnaire sheet | I23: Copy Paste visible cells from questionnaire sheet | J23: Copy Paste visible cells from questionnaire sheet | K23: Copy Paste visible cells from questionnaire sheet | L23: Copy Paste visible cells from questionnaire sheet
A24: ='proces ...... '!A136 -> a | B24: ='proces ...... '!B136 -> Close-out visite | C24: ='proces ...... '!L136 -> 0 | D24: ='proces ...... '!M136 -> 0 | H24: Copy Paste visible cells from questionnaire sheet | I24: Copy Paste visible cells from questionnaire sheet | J24: Copy Paste visible cells from questionnaire sheet | K24: Copy Paste visible cells from questionnaire sheet | L24: Copy Paste visible cells from questionnaire sheet
A25: ='proces ...... '!A139 -> b | B25: ='proces ...... '!B139 -> Finale factuur | C25: ='proces ...... '!L139 -> 0 | D25: ='proces ...... '!M139 -> 0 | H25: Copy Paste visible cells from questionnaire sheet | I25: Copy Paste visible cells from questionnaire sheet | J25: Copy Paste visible cells from questionnaire sheet | K25: Copy Paste visible cells from questionnaire sheet | L25: Copy Paste visible cells from questionnaire sheet
A26: ='proces ...... '!A142 -> c | B26: ='proces ...... '!B142 -> Archivering | C26: ='proces ...... '!L142 -> 0 | D26: ='proces ...... '!M142 -> 0 | H26: Copy Paste visible cells from questionnaire sheet | I26: Copy Paste visible cells from questionnaire sheet | J26: Copy Paste visible cells from questionnaire sheet | K26: Copy Paste visible cells from questionnaire sheet | L26: Copy Paste visible cells from questionnaire sheet
A27: ='proces ...... '!A148 -> VI | B27: ='proces ...... '!B148 -> Compassionate Use (CU) | C27: ='proces ...... '!L148 -> 0 | D27: ='proces ...... '!M148 -> 0 | H27: Copy Paste visible cells from questionnaire sheet | I27: Copy Paste visible cells from questionnaire sheet | J27: Copy Paste visible cells from questionnaire sheet | K27: Copy Paste visible cells from questionnaire sheet | L27: Copy Paste visible cells from questionnaire sheet
A50: Handtekeningen
A52: Hoofdapotheker | I52: Change name & signature
A55: Auditeur naam : | I55: Change name & signature
B59: MAEIA Rapport Klinische Studies
A86: Sterke punten
A87: 1
A88: 2
A89: 3
A90: 4
A91: 5
A92: 6
A93: Tekortkomingen niveau 1
A94: 1
A95: 2
...

Sheet actiepunten auditee
A3: Actiepunt | B3: Nummer | C3: ..… | D3: Oorsprong :
D4: o Tekortkoming niveau 1
D5: o Verbeterpunt niveau 2
D6: o Verbeterpunt niveau 3
D7: o Observatie
A8: Geaudit proces | B8: Klinische Studies
A9: Auditdatum | B9: …../…../….. | D9: Auditor | E9: ……………………………………………
A10: Auditee | B10: ………………………………………………………………………………..
A11: Omschrijving van de tekortkoming / verbeterpunt / observatie
A12: Voorgestelde maatregel door de auditee | B12: Oorzaak
B15: Actie
B21: Verantwoordelijke
B23: Termijn
A26: Opvolgrapport
A27: (cumulatief)
A44: Conclusie

Sheet Mapping
B4: MAPPING TABLE | G4: points
B5: Base points | C5: Niveau | D5: Extra gewicht factor | E5: Antwoord | F5: Code | G5: Total | H5: Score | M5: Somme | P5: Speedometer | R5: Pointer
A6: Ja Groep | B6: 1 | C6: 3 | D6: X3 | E6: Ja | F6: =C6&D6&E6 -> 3X3Ja | G6: 3 | H6: 3 | L6: Ja | M6: =COUNTIF('proces ...... '!$G:$G,Mapping!$L6) -> 2 | P6: Start | Q6: 0 | R6: Value | S6: =+ROUND(M11/M10,2)*100 -> 100
A7: Ja Groep | B7: 1 | C7: 3 | D7: X2 | E7: Ja | F7: =C7&D7&E7 -> 3X2Ja | G7: 2 | H7: 2 | L7: Neen | M7: =COUNTIF('proces ...... '!$G:$G,Mapping!$L7) -> 1 | P7: Initial | Q7: 60 | R7: Pointer | S7: 1
A8: Ja Groep | B8: 1 | C8: 3 | D8: X1 | E8: Ja | F8: =C8&D8&E8 -> 3X1Ja | G8: 1 | H8: 1 | L8: NVT | M8: =COUNTIF('proces ...... '!$G:$G,Mapping!$L8) -> 1 | P8: Middle | Q8: 30 | R8: end | S8: =200-S7-S6 -> 99
A9: Ja Groep | B9: 1 | C9: 3 | D9: X0,33 | E9: Ja | F9: =C9&D9&E9 -> 3X0,33Ja | G9: =1/3 -> 0.33333333 | H9: =1/3 -> 0.33333333 | L9: Somme | M9: =SUM(M6:M8) -> 4 | P9: End | Q9: 10
A10: Ja Groep | B10: 1 | C10: 3 | D10: X0,66 | E10: Ja | F10: =C10&D10&E10 -> 3X0,66Ja | G10: =2/3 -> 0.66666667 | H10: =2/3 -> 0.66666667 | L10: Total | M10: ='proces ...... '!$L$3 -> 3 | P10: Max | Q10: 100
A11: Ja Groep | B11: 1 | C11: 3 | D11: X1 | E11: Ja | F11: =C11&D11&E11 -> 3X1Ja | G11: 1 | H11: 1 | L11: Score | M11: ='proces ...... '!$M$3 -> 3
A12: Ja Groep | B12: 3 | C12: 2 | D12: X3 | E12: Ja | F12: =C12&D12&E12 -> 2X3Ja | G12: 9 | H12: 9 | S12: ="Total Score : "&S6&"%" -> Total Score : 100%
A13: Ja Groep | B13: 3 | C13: 2 | D13: X2 | E13: Ja | F13: =C13&D13&E13 -> 2X2Ja | G13: 6 | H13: 6
A14: Ja Groep | B14: 3 | C14: 2 | D14: X1 | E14: Ja | F14: =C14&D14&E14 -> 2X1Ja | G14: 3 | H14: 3 | L14: ROUGE | M14: 60
A15: Ja Groep | B15: 3 | C15: 2 | D15: X0,33 | E15: Ja | F15: =C15&D15&E15 -> 2X0,33Ja | G15: 1 | H15: 1 | L15: ORANGE | M15: 30
A16: Ja Groep | B16: 3 | C16: 2 | D16: X0,66 | E16: Ja | F16: =C16&D16&E16 -> 2X0,66Ja | G16: 2 | H16: 2 | L16: VERT | M16: 10
A17: Ja Groep | B17: 3 | C17: 2 | D17: X1 | E17: Ja | F17: =C17&D17&E17 -> 2X1Ja | G17: 3 | H17: 3 | L17: Invisible | M17: 100
A18: Ja Groep | B18: 6 | C18: 1 | D18: X3 | E18: Ja | F18: =C18&D18&E18 -> 1X3Ja | G18: 18 | H18: 18
A19: Ja Groep | B19: 6 | C19: 1 | D19: X2 | E19: Ja | F19: =C19&D19&E19 -> 1X2Ja | G19: 12 | H19: 12
A20: Ja Groep | B20: 6 | C20: 1 | D20: X1 | E20: Ja | F20: =C20&D20&E20 -> 1X1Ja | G20: 6 | H20: 6 | L20: Aiguille | M20: =M7/M9 -> 0.25
A21: Ja Groep | B21: 6 | C21: 1 | D21: X0,33 | E21: Ja | F21: =C21&D21&E21 -> 1X0,33Ja | G21: 2 | H21: 2 | L21: Largeur | M21: 1
A22: Ja Groep | B22: 6 | C22: 1 | D22: X0,66 | E22: Ja | F22: =C22&D22&E22 -> 1X0,66Ja | G22: 4 | H22: 4 | L22: Invisible | M22: =SUM(M14:M17)-(M21+M20) -> 198.75
A23: Ja Groep | B23: 6 | C23: 1 | D23: X1 | E23: Ja | F23: =C23&D23&E23 -> 1X1Ja | G23: 6 | H23: 6
A24: Neen groep | B24: 1 | C24: 3 | D24: X3 | E24: Neen | F24: =C24&D24&E24 -> 3X3Neen | G24: 3 | H24: 0 | L24: RIEN
A25: Neen groep | B25: 1 | C25: 3 | D25: X2 | E25: Neen | F25: =C25&D25&E25 -> 3X2Neen | G25: 2 | H25: 0 | L25: Aiguille | M25: =ROUND(M20,0)&"%" -> 0%
A26: Neen groep | B26: 1 | C26: 3 | D26: X1 | E26: Neen | F26: =C26&D26&E26 -> 3X1Neen | G26: 1 | H26: 0 | L26: RIEN
A27: Neen groep | B27: 1 | C27: 3 | D27: X0,33 | E27: Neen | F27: =C27&D27&E27 -> 3X0,33Neen | G27: =1/3 -> 0.33333333 | H27: 0
A28: Neen groep | B28: 1 | C28: 3 | D28: X0,66 | E28: Neen | F28: =C28&D28&E28 -> 3X0,66Neen | G28: =2/3 -> 0.66666667 | H28: 0
A29: Neen groep | B29: 1 | C29: 3 | D29: X1 | E29: Neen | F29: =C29&D29&E29 -> 3X1Neen | G29: 1 | H29: 0
A30: Neen groep | B30: 3 | C30: 2 | D30: X3 | E30: Neen | F30: =C30&D30&E30 -> 2X3Neen | G30: 9 | H30: 0
A31: Neen groep | B31: 3 | C31: 2 | D31: X2 | E31: Neen | F31: =C31&D31&E31 -> 2X2Neen | G31: 6 | H31: 0
A32: Neen groep | B32: 3 | C32: 2 | D32: X1 | E32: Neen | F32: =C32&D32&E32 -> 2X1Neen | G32: 3 | H32: 0
A33: Neen groep | B33: 3 | C33: 2 | D33: X0,33 | E33: Neen | F33: =C33&D33&E33 -> 2X0,33Neen | G33: 1 | H33: 0
A34: Neen groep | B34: 3 | C34: 2 | D34: X0,66 | E34: Neen | F34: =C34&D34&E34 -> 2X0,66Neen | G34: 2 | H34: 0
A35: Neen groep | B35: 3 | C35: 2 | D35: X1 | E35: Neen | F35: =C35&D35&E35 -> 2X1Neen | G35: 3 | H35: 0
A36: Neen groep | B36: 6 | C36: 1 | D36: X3 | E36: Neen | F36: =C36&D36&E36 -> 1X3Neen | G36: 18 | H36: 0
A37: Neen groep | B37: 6 | C37: 1 | D37: X2 | E37: Neen | F37: =C37&D37&E37 -> 1X2Neen | G37: 12 | H37: 0
A38: Neen groep | B38: 6 | C38: 1 | D38: X1 | E38: Neen | F38: =C38&D38&E38 -> 1X1Neen | G38: 6 | H38: 0
A39: Neen groep | B39: 6 | C39: 1 | D39: X0,33 | E39: Neen | F39: =C39&D39&E39 -> 1X0,33Neen | G39: 2 | H39: 0
A40: Neen groep | B40: 6 | C40: 1 | D40: X0,66 | E40: Neen | F40: =C40&D40&E40 -> 1X0,66Neen | G40: 4 | H40: 0
... A59: NVT groep | B59: 6 | C59: 1 | D59: X1 | E59: NVT | F59: =C59&D59&E59 -> 1X1NVT | G59: 0 | H59: 0
