Workbook

Sheet algemene inleiding

Sheet handleiding
A2: Hoe gebruiken we de kwaliteitstool MAEIA?

Sheet expertenteam
A1: MET DANK AAN HET EXPERTENTEAM
A2: John Leys
A3: Annemie Somers
A4: Sarah Mertens
A5: Nele vermeulen
A6: Laetitia Missiaen
A7: Mieke Matthys
A8: Isabel Spriet
A9: Karolien Walgraeve
A10: Sofie Peeters
A11: Sandrina von Winckelmann
A12: Veerle Grootaert
... A14: Nathalie Gillard

Sheet inleiding ..... 
A1: INLEIDING KLINISCHE FARMACIE

Sheet inhoudstafel

Sheet proces klinische farmacie 
A2: VERSIE 20230701 | B2: KLINISCHE FARMACIE | C2: NIVEAU | D2: Referentie | E2: ter info: artikelnummer, §, pagina | G2: ANTWOORD | H2: OPMERKINGEN | J2: extra factor gewicht | L2: TOTAL | M2: SCORE
C3: 1 = WETGEVING (= 6 punten) | H3: OPMERKINGEN | L3: =SUBTOTAL(9,L7:L303) -> 3 | M3: =SUBTOTAL(9,M7:M303) -> 3
C4: 2 = RICHTLIJNEN, NORMEN, AANBEVELINGEN (= 3 punten) | G4: Ja
C5: 3 = GOOD PRACTICE (= 1 punt) | G5: Neen
G6: NVT | K6: Code | L6: Total | M6: Score
A7: I | B7: Kwaliteitsopvolging van het proces klinische farmacie | C7: Progress :: | G7: =SUBTOTAL(3,G10:G12)/SUBTOTAL(3,C10:C12) -> 0.33333333 | L7: =SUBTOTAL(9,L10:L12) -> 3 | M7: =SUBTOTAL(9,M10:M12) -> 3
B8: AUDITVRAGEN
B9: Controleer altijd de documentatie en de toepassing op de werkvloer.
A10: 1 | B10: Werden alle genomen acties op basis van de tekortkomingen van niveau 1 die bij de vorige audit werden vastgesteld adequaat opgevolgd en met met succes geïmplementeerd? | C10: 3 | D10: Good Practice | G10: Ja | J10: X3 | K10: =C10&J10&G10 -> 3X3Ja | L10: =IFERROR(VLOOKUP($K10,Mapping!$F:$H,2,0),"") -> 3 | M10: =IFERROR(VLOOKUP($K10,Mapping!$F:$H,3,0),"") -> 3 | N10: =C10&G10 -> 3Ja
A11: 2 | B11: Werden alle genomen acties op basis van de verbeterpunten van niveau 2 die bij de vorige audit werden vastgesteld adequaat opgevolgd en met met succes geïmplementeerd? | C11: 3 | D11: Good Practice | J11: X2 | K11: =C11&J11&G11 -> 3X2 | L11: =IFERROR(VLOOKUP($K11,Mapping!F:H,2,0),"") | M11: =IFERROR(VLOOKUP($K11,Mapping!$F:$H,3,0),"") | N11: =C11&G11 -> 3
A12: 3 | B12: Werden alle genomen acties op basis van de verbeterpunten van niveau 3 die bij de vorige audit werden vastgesteld adequaat opgevolgd en met met succes geïmplementeerd? | C12: 3 | D12: Good Practice | J12: X1 | K12: =C12&J12&G12 -> 3X1 | L12: =IFERROR(VLOOKUP($K12,Mapping!F:H,2,0),"") | M12: =IFERROR(VLOOKUP($K12,Mapping!$F:$H,3,0),"") | N12: =C12&G12 -> 3
A13: II | B13: Centrale klinische activiteiten rond medicatiebeleid en medicatieveiligheid (patiëntoverschrijdend - beleidsmatig) | C13: Progress :: | G13: =SUBTOTAL(3,G16:G83)/(SUBTOTAL(3,C16:C83)-3) -> 0 | L13: =SUBTOTAL(9,L16:L83) -> 0 | M13: =SUBTOTAL(9,M16:M83) -> 0
B14: AUDITVRAGEN
B15: Controleer altijd de documentatie en de toepassing op de werkvloer.
A16: a | B16: Algemeen | C16: Progress :: | G16: =SUBTOTAL(3,G17:G45)/SUBTOTAL(3,C17:C45) -> 0 | L16: =SUBTOTAL(9,L17:L45) -> 0 | M16: =SUBTOTAL(9,M17:M45) -> 0
A17: 1 | B17: Is er een beleidsplan rond de klinische farmacie in de ziekenhuisapotheek? | C17: 3 | D17: Good Practice | J17: X1 | K17: =C17&J17&G17 -> 3X1 | L17: =IFERROR(VLOOKUP($K17,Mapping!F:H,2,0),"") | M17: =IFERROR(VLOOKUP($K17,Mapping!$F:$H,3,0),"") | N17: =C17&G17 -> 3
A18: 2 | B18: Wordt dit beleidsplan minstens 1 per jaar toegelicht aan het MFC? | C18: 3 | D18: Good Practice | J18: X1 | K18: =C18&J18&G18 -> 3X1 | L18: =IFERROR(VLOOKUP($K18,Mapping!F:H,2,0),"") | M18: =IFERROR(VLOOKUP($K18,Mapping!$F:$H,3,0),"") | N18: =C18&G18 -> 3
A19: 3 | B19: Zijn er procedures beschikbaar met betrekking tot de verschillende activiteiten van de klinische farmacie in de ziekenhuisapotheek? | C19: 3 | D19: Good Practice | J19: X1 | K19: =C19&J19&G19 -> 3X1 | L19: =IFERROR(VLOOKUP($K19,Mapping!F:H,2,0),"") | M19: =IFERROR(VLOOKUP($K19,Mapping!$F:$H,3,0),"") | N19: =C19&G19 -> 3
A20: 4 | B20: Zijn er interne richtlijnen die de activiteiten van de klinische farmacie ondersteunen? | C20: 3 | D20: Good Practice | J20: X1 | K20: =C20&J20&G20 -> 3X1 | L20: =IFERROR(VLOOKUP($K20,Mapping!F:H,2,0),"") | M20: =IFERROR(VLOOKUP($K20,Mapping!$F:$H,3,0),"") | N20: =C20&G20 -> 3
A21: 5 | B21: Is de permanentie van de taken van de klinische farmacie opgenomen in het takenpakket van de (ziekenhuis)apothekers? | C21: 3 | D21: Good Practice | J21: X1 | K21: =C21&J21&G21 -> 3X1 | L21: =IFERROR(VLOOKUP($K21,Mapping!F:H,2,0),"") | M21: =IFERROR(VLOOKUP($K21,Mapping!$F:$H,3,0),"") | N21: =C21&G21 -> 3
A22: 6 | B22: Zijn er procedures aanwezig die de coördinatie en continuïteit van de farmaceutische zorg ondersteunen? | C22: 2 | D22: JCI | J22: X1 | K22: =C22&J22&G22 -> 2X1 | L22: =IFERROR(VLOOKUP($K22,Mapping!F:H,2,0),"") | M22: =IFERROR(VLOOKUP($K22,Mapping!$F:$H,3,0),"") | N22: =C22&G22 -> 2
A23: 7 | B23: Heeft de klinische (ziekenhuis)apotheker toegang tot het volledige patiëntendossier? | C23: 1 | D23: KB 30 sept 2020 | E23: Art 10 | J23: X1 | K23: =C23&J23&G23 -> 1X1 | L23: =IFERROR(VLOOKUP($K23,Mapping!F:H,2,0),"") | M23: =IFERROR(VLOOKUP($K23,Mapping!$F:$H,3,0),"") | N23: =C23&G23 -> 1
A24: 8 | B24: Wordt er jaarlijks een activiteitenverslag opgesteld door de (ziekenhuis)apotheker verantwoordelijk voor de klinische farmacie? | C24: 3 | D24: Good Practice | J24: X1 | K24: =C24&J24&G24 -> 3X1 | L24: =IFERROR(VLOOKUP($K24,Mapping!F:H,2,0),"") | M24: =IFERROR(VLOOKUP($K24,Mapping!$F:$H,3,0),"") | N24: =C24&G24 -> 3
A25: 9 | B25: Wordt dit activiteitenverslag opgesteld door de (ziekenhuis)apotheker verantwoordelijk voor de klinische farmacie toegelicht aan het MFC? | C25: 3 | D25: Good Practice | J25: X1 | K25: =C25&J25&G25 -> 3X1 | L25: =IFERROR(VLOOKUP($K25,Mapping!F:H,2,0),"") | M25: =IFERROR(VLOOKUP($K25,Mapping!$F:$H,3,0),"") | N25: =C25&G25 -> 3
A26: 10 | B26: Is er een jaarlijkse evaluatie op de afdelingen rond de werking van de klinische farmacie? | C26: 3 | D26: Good Practice | J26: X1 | K26: =C26&J26&G26 -> 3X1 | L26: =IFERROR(VLOOKUP($K26,Mapping!F:H,2,0),"") | M26: =IFERROR(VLOOKUP($K26,Mapping!$F:$H,3,0),"") | N26: =C26&G26 -> 3
A27: 11 | B27: Wordt de tevredenheid met betrekking tot klinische activiteiten van de (ziekenhuis)apotheker op regelmatige basis gemeten bij de patiënten? | C27: 1 | D27: KB 30 sept 2020 | E27: Bijlage I.C.L | J27: X1 | K27: =C27&J27&G27 -> 1X1 | L27: =IFERROR(VLOOKUP($K27,Mapping!F:H,2,0),"") | M27: =IFERROR(VLOOKUP($K27,Mapping!$F:$H,3,0),"") | N27: =C27&G27 -> 1
A28: 12 | B28: Wordt de tevredenheid met betrekking tot klinische activiteiten van de (ziekenhuis)apotheker op regelmatige basis gemeten bij de verpleegkundigen? | C28: 3 | D28: Good Practice | J28: X1 | K28: =C28&J28&G28 -> 3X1 | L28: =IFERROR(VLOOKUP($K28,Mapping!F:H,2,0),"") | M28: =IFERROR(VLOOKUP($K28,Mapping!$F:$H,3,0),"") | N28: =C28&G28 -> 3
A29: 13 | B29: Wordt de tevredenheid met betrekking tot klinische activiteiten van de (ziekenhuis)apotheker op regelmatige basis gemeten bij de artsen? | C29: 3 | D29: Good Practice | J29: X1 | K29: =C29&J29&G29 -> 3X1 | L29: =IFERROR(VLOOKUP($K29,Mapping!F:H,2,0),"") | M29: =IFERROR(VLOOKUP($K29,Mapping!$F:$H,3,0),"") | N29: =C29&G29 -> 3
A30: 14 | B30: Worden de resultaten van de tevredenheid besproken op de afdelingen waar de meting plaats heeft gevonden? | C30: 3 | D30: Good Practice | J30: X1 | K30: =C30&J30&G30 -> 3X1 | L30: =IFERROR(VLOOKUP($K30,Mapping!F:H,2,0),"") | M30: =IFERROR(VLOOKUP($K30,Mapping!$F:$H,3,0),"") | N30: =C30&G30 -> 3
A31: 15 | B31: Worden de resultaten van de tevredenheid geanalyseerd door de (ziekenhuis)apotheker verantwoordelijk voor de klinische farmacie? | C31: 3 | D31: Good Practice | J31: X1 | K31: =C31&J31&G31 -> 3X1 | L31: =IFERROR(VLOOKUP($K31,Mapping!F:H,2,0),"") | M31: =IFERROR(VLOOKUP($K31,Mapping!$F:$H,3,0),"") | N31: =C31&G31 -> 3
A32: 16 | B32: Worden er eventueel verbeteringsmaatregelen voorzien na deze analyse? | C32: 3 | D32: Good Practice | J32: X1 | K32: =C32&J32&G32 -> 3X1 | L32: =IFERROR(VLOOKUP($K32,Mapping!F:H,2,0),"") | M32: =IFERROR(VLOOKUP($K32,Mapping!$F:$H,3,0),"") | N32: =C32&G32 -> 3
A33: 17 | B33: Worden alle activiteiten en adviezen van de klinische (ziekenhuis)apotheker elektronisch genoteerd in het farmaceutisch patiëntendossier? | C33: 1 | D33: KB 30 sept 2020 | E33: Art 30 §2 | J33: X1 | K33: =C33&J33&G33 -> 1X1 | L33: =IFERROR(VLOOKUP($K33,Mapping!F:H,2,0),"") | M33: =IFERROR(VLOOKUP($K33,Mapping!$F:$H,3,0),"") | N33: =C33&G33 -> 1
A34: 18 | B34: Bevat het farmaceutisch patiëntendossier de wettelijke gegevens ( toedieningsschema, anamnese thuismedicatie, toegediende geneesmiddelen, bijwerkingen en adviezen aan behandelende arts en huisapotheker)? | C34: 1 | D34: KB 30 sept 2020 | E34: Art 30 §2 | J34: X1 | K34: =C34&J34&G34 -> 1X1 | L34: =IFERROR(VLOOKUP($K34,Mapping!F:H,2,0),"") | M34: =IFERROR(VLOOKUP($K34,Mapping!$F:$H,3,0),"") | N34: =C34&G34 -> 1
A35: 19 | B35: Zijn de adviezen van de klinische (ziekenhuis)apotheker toegankelijk voor alle zorgverstrekkers? | C35: 3 | D35: Good Practice | J35: X1 | K35: =C35&J35&G35 -> 3X1 | L35: =IFERROR(VLOOKUP($K35,Mapping!F:H,2,0),"") | M35: =IFERROR(VLOOKUP($K35,Mapping!$F:$H,3,0),"") | N35: =C35&G35 -> 3
A36: 20 | B36: Kan de (ziekenhuis)apotheker verantwoordelijk voor de klinische farmacie rapporten trekken uit het elktronisch systeem van de farmaceutische activiteiten? | C36: 3 | D36: Good Practice | J36: X1 | K36: =C36&J36&G36 -> 3X1 | L36: =IFERROR(VLOOKUP($K36,Mapping!F:H,2,0),"") | M36: =IFERROR(VLOOKUP($K36,Mapping!$F:$H,3,0),"") | N36: =C36&G36 -> 3
A37: 21 | B37: Wordt de huisapotheker geregistreerd in het farmaceutisch patiëntendossier? | C37: 3 | D37: Good Practice | J37: X1 | K37: =C37&J37&G37 -> 3X1 | L37: =IFERROR(VLOOKUP($K37,Mapping!F:H,2,0),"") | M37: =IFERROR(VLOOKUP($K37,Mapping!$F:$H,3,0),"") | N37: =C37&G37 -> 3
A38: 22 | B38: Wordt de huisarts geregistreerd in het farmaceutisch patiëntendossier? | C38: 3 | D38: Good Practice | J38: X1 | K38: =C38&J38&G38 -> 3X1 | L38: =IFERROR(VLOOKUP($K38,Mapping!F:H,2,0),"") | M38: =IFERROR(VLOOKUP($K38,Mapping!$F:$H,3,0),"") | N38: =C38&G38 -> 3
A39: 23 | B39: Is er een beleid indien de patiënt zelf zijn thuismedicatie mag innemen (bv in het kader van patiënteducatie)? | C39: 3 | D39: Good Practice | J39: X1 | K39: =C39&J39&G39 -> 3X1 | L39: =IFERROR(VLOOKUP($K39,Mapping!F:H,2,0),"") | M39: =IFERROR(VLOOKUP($K39,Mapping!$F:$H,3,0),"") | N39: =C39&G39 -> 3
A40: 24 | B40: Neemt de klinische (ziekenhuis)apotheker deel aan multidisciplinair overleg of is hij actief op de afdelingen? | C40: 1 | D40: KB 4 maart 1991 | E40: Art 9 | J40: X1 | K40: =C40&J40&G40 -> 1X1 | L40: =IFERROR(VLOOKUP($K40,Mapping!F:H,2,0),"") | M40: =IFERROR(VLOOKUP($K40,Mapping!$F:$H,3,0),"") | N40: =C40&G40 -> 1
A41: 25 | B41: Neemt de klinische (ziekenhuis)apotheker deel aan het opstellen van de medicatieprotocols en guidelines van de afdelingen? | C41: 1 | D41: KB 4 maart 1991 | E41: Art 9 | J41: X1 | K41: =C41&J41&G41 -> 1X1 | L41: =IFERROR(VLOOKUP($K41,Mapping!F:H,2,0),"") | M41: =IFERROR(VLOOKUP($K41,Mapping!$F:$H,3,0),"") | N41: =C41&G41 -> 1
A42: 26 | B42: Is er een procedure die het substitutierecht van de (ziekenhuis)apotheker beschrijft? | C42: 1 | D42: KB 30 sept 2020 | E42: Art 10 | J42: X1 | K42: =C42&J42&G42 -> 1X1 | L42: =IFERROR(VLOOKUP($K42,Mapping!F:H,2,0),"") | M42: =IFERROR(VLOOKUP($K42,Mapping!$F:$H,3,0),"") | N42: =C42&G42 -> 1
A43: 27 | B43: Is er een beleid rond de substitutie van de thuismedicatie bij opname? | C43: 2 | D43: zie referentie 33 | J43: X1 | K43: =C43&J43&G43 -> 2X1 | L43: =IFERROR(VLOOKUP($K43,Mapping!F:H,2,0),"") | M43: =IFERROR(VLOOKUP($K43,Mapping!$F:$H,3,0),"") | N43: =C43&G43 -> 2
A44: 28 | B44: Is deze procedure gevalideerd door het Medisch Farmaceutisch Comité? | C44: 1 | D44: KB 30 sept 2020 | E44: Art 10 | J44: X1 | K44: =C44&J44&G44 -> 1X1 | L44: =IFERROR(VLOOKUP($K44,Mapping!F:H,2,0),"") | M44: =IFERROR(VLOOKUP($K44,Mapping!$F:$H,3,0),"") | N44: =C44&G44 -> 1
A45: 29 | B45: Is er een geneesmiddelen informatiepunt georganiseerd binnen de ziekenhuisapotheek voor klinische vragen van de zorgverstrekkers? | C45: 3 | D45: Good Practice | J45: X1 | K45: =C45&J45&G45 -> 3X1 | L45: =IFERROR(VLOOKUP($K45,Mapping!F:H,2,0),"") | M45: =IFERROR(VLOOKUP($K45,Mapping!$F:$H,3,0),"") | N45: =C45&G45 -> 3
A46: b | B46: Voorschrijfondersteuning (Clinical Decision Support) | C46: Progress :: | G46: =SUBTOTAL(3,G47:G81)/SUBTOTAL(3,C47:C81) -> 0 | L46: =SUBTOTAL(9,L47:L81) -> 0 | M46: =SUBTOTAL(9,M47:M81) -> 0
A47: 1 | B47: Is er een voorschrijfondersteuning (Clinical decision support) aanwezig voor de artsen? | C47: 3 | D47: Good Practice | J47: X1 | K47: =C47&J47&G47 -> 3X1 | L47: =IFERROR(VLOOKUP($K47,Mapping!$F:$H,2,0),"") | M47: =IFERROR(VLOOKUP($K47,Mapping!$F:$H,3,0),"") | N47: =C47&G47 -> 3
A48: 2 | B48: Wordt de klinische (ziekenhuis)apotheker betrokken bij de ontwikkelingen van de voorschrijfondersteuning? | C48: 3 | D48: Good Practice | J48: X1 | K48: =C48&J48&G48 -> 3X1 | L48: =IFERROR(VLOOKUP($K48,Mapping!$F:$H,2,0),"") | M48: =IFERROR(VLOOKUP($K48,Mapping!$F:$H,3,0),"") | N48: =C48&G48 -> 3
A49: 3 | B49: Kan het waarschuwingsniveau worden ingesteld voor elke voorschrijfhulp (passieve informatie, niet-blokkerende waarschuwing, blokkerende waarschuwing, met of zonder motivatie tot overrulen )? | C49: 3 | D49: Good Practice | J49: X1 | K49: =C49&J49&G49 -> 3X1 | L49: =IFERROR(VLOOKUP($K49,Mapping!$F:$H,2,0),"") | M49: =IFERROR(VLOOKUP($K49,Mapping!$F:$H,3,0),"") | N49: =C49&G49 -> 3
A50: 4 | B50: Is er een actieve opvolging door een klinische (ziekenhuis)apotheker als de arts de voorschrijfondersteuning negeerd? | C50: 3 | D50: Good Practice | J50: X1 | K50: =C50&J50&G50 -> 3X1 | L50: =IFERROR(VLOOKUP($K50,Mapping!$F:$H,2,0),"") | N50: =C50&G50 -> 3
A51: 5 | B51: Is er een rapportering van het aantal keren dat de voorschrijfondersteuning wordt genegeerd? | C51: 3 | D51: Good Practice | J51: X1 | K51: =C51&J51&G51 -> 3X1 | L51: =IFERROR(VLOOKUP($K51,Mapping!$F:$H,2,0),"") | N51: =C51&G51 -> 3
A52: 6 | B52: Worden er op basis van de rapportering maatregelen getroffen om de voorschrijfondersteuning te optimaliseren? | C52: 3 | D52: Good Practice | J52: X1 | K52: =C52&J52&G52 -> 3X1 | L52: =IFERROR(VLOOKUP($K52,Mapping!$F:$H,2,0),"") | N52: =C52&G52 -> 3
A53: 7 | B53: Zijn de waarschuwingen vergezeld van voorstellen om het voorschrift aan te passen? | C53: 3 | D53: Good Practice | J53: X1 | K53: =C53&J53&G53 -> 3X1 | L53: =IFERROR(VLOOKUP($K53,Mapping!$F:$H,2,0),"") | N53: =C53&G53 -> 3
A54: 8 | B54: Is er informatie beschikbaar over de kosten en terugbetaling van de geneesmiddelen tijdens het voorschrijven? | C54: 3 | D54: Good Practice | J54: X1 | K54: =C54&J54&G54 -> 3X1 | L54: =IFERROR(VLOOKUP($K54,Mapping!$F:$H,2,0),"") | N54: =C54&G54 -> 3
A55: 9 | B55: Is er informatie beschikbaar over het gebruik van geneesmiddelen bij zwangerschap tijdens het voorschrijven? | C55: 3 | D55: Good Practice | J55: X1 | K55: =C55&J55&G55 -> 3X1 | L55: =IFERROR(VLOOKUP($K55,Mapping!$F:$H,2,0),"") | N55: =C55&G55 -> 3
A56: 10 | B56: Is er informatie beschikbaar over het gebruik van geneesmiddelen bij borstvoeding tijdens het voorschrijven? | C56: 3 | D56: Good Practice | J56: X1 | K56: =C56&J56&G56 -> 3X1 | L56: =IFERROR(VLOOKUP($K56,Mapping!$F:$H,2,0),"") | N56: =C56&G56 -> 3
A57: 11 | B57: Is er informatie beschikbaar tijdens het voorschrijven voor specifieke populaties (pediatrie, geriatrie)? | C57: 3 | D57: Good Practice | J57: X1 | K57: =C57&J57&G57 -> 3X1 | L57: =IFERROR(VLOOKUP($K57,Mapping!$F:$H,2,0),"") | N57: =C57&G57 -> 3
A58: 12 | B58: Is er informatie beschikbaar over een specifiek genotype van een patiënt tijdens het voorschrijven? | C58: 3 | D58: Good Practice | J58: X1 | K58: =C58&J58&G58 -> 3X1 | L58: =IFERROR(VLOOKUP($K58,Mapping!$F:$H,2,0),"") | N58: =C58&G58 -> 3
A59: 13 | B59: Is er informatie beschikbaar over de plasmadosering of worden adviezen verstrekt ivm doseringen of plasmaspiegelbepalingen in geval van therapeutic drug monitoring (TDM) tijdens het voorschrijven? | C59: 3 | D59: Good Practice | J59: X1 | K59: =C59&J59&G59 -> 3X1 | L59: =IFERROR(VLOOKUP($K59,Mapping!$F:$H,2,0),"") | N59: =C59&G59 -> 3
A60: 14 | B60: Is er informatie beschikbaar van de biologische parameters (gewicht, grootte, BMI…) van de patiënt tijdens het voorschrijven voor de aanpassingen van de dosissen? | C60: 3 | D60: Good Practice | J60: X1 | K60: =C60&J60&G60 -> 3X1 | L60: =IFERROR(VLOOKUP($K60,Mapping!$F:$H,2,0),"") | N60: =C60&G60 -> 3
A61: 15 | B61: Is er informatie beschikbaar van de laboanalyses tijdens het voorschrijven voor de aanpassing van de dosissen (INR, creatinine, leverparameters, nierparameters…)? | C61: 3 | D61: Good Practice | J61: X1 | K61: =C61&J61&G61 -> 3X1 | L61: =IFERROR(VLOOKUP($K61,Mapping!$F:$H,2,0),"") | N61: =C61&G61 -> 3
... A81: 35 | B81: Vraagt het systeem een motivatie aan de arts als hij buiten formularium voorschrijft? | C81: 3 | D81: Good Practice | J81: X1 | K81: =C81&J81&G81 -> 3X1 | L81: =IFERROR(VLOOKUP($K81,Mapping!$F:$H,2,0),"") | N81: =C81&G81 -> 3
A82: c | B82: Medische Farmaceutisch Comité en Antibiotherapiebeleidsgroep | C82: Progress ::
B83: Zie auditvragen apart hoofdstuk
A84: III | B84: Klinische Farmacie direct in relatie met de patiënt (back-office en front-office) | C84: Progress :: | G84: =SUBTOTAL(3,G87:G182)/(SUBTOTAL(3,C87:C182)-6) -> 0 | L84: =SUBTOTAL(9,L87:L182) -> 0 | M84: =SUBTOTAL(9,M87:M182) -> 0
B85: AUDITVRAGEN
B86: Controleer altijd de documentatie en de toepassing op de werkvloer.
A87: a | B87: Farmaceutische anamnese | C87: Progress :: | G87: =SUBTOTAL(3,G88:G102)/SUBTOTAL(3,C88:C102) -> 0 | L87: =SUBTOTAL(9,L88:L102) -> 0 | M87: =SUBTOTAL(9,M88:M102) -> 0
A88: 1 | B88: Bestaat er een procedure van het proces voor farmaceutische anamnese? | C88: 1 | D88: Wet 22 april 2019: Art 19 + KB 30 sept 2020 Bijlage I A + zie ref 12 | J88: X1 | K88: =C88&J88&G88 -> 1X1 | L88: =IFERROR(VLOOKUP($K88,Mapping!F:H,2,0),"") | M88: =IFERROR(VLOOKUP($K88,Mapping!$F:$H,3,0),"") | N88: =C88&G88 -> 1
A89: 2 | B89: Is de ziekenhuispotheek betrokken bij het proces van de farmaceutische anamnese? | C89: 3 | D89: Good Practice | J89: X1 | K89: =C89&J89&G89 -> 3X1 | L89: =IFERROR(VLOOKUP($K89,Mapping!F:H,2,0),"") | M89: =IFERROR(VLOOKUP($K89,Mapping!$F:$H,3,0),"") | N89: =C89&G89 -> 3
A90: 3 | B90: Hebben de zorgverleners toegang tot de e-healthdiensten met betrekking tot medicatie? | C90: 2 | D90: zie referentie 18, 29, 31 | J90: X1 | K90: =C90&J90&G90 -> 2X1 | L90: =IFERROR(VLOOKUP($K90,Mapping!F:H,2,0),"") | M90: =IFERROR(VLOOKUP($K90,Mapping!$F:$H,3,0),"") | N90: =C90&G90 -> 2
A91: 4 | B91: Worden de zorgverleners die farmaceutische anamneses uitvoeren hiervoor opgeleid? | C91: 2 | D91: zie referentie 14, 21 | J91: X1 | K91: =C91&J91&G91 -> 2X1 | L91: =IFERROR(VLOOKUP($K91,Mapping!F:H,2,0),"") | M91: =IFERROR(VLOOKUP($K91,Mapping!$F:$H,3,0),"") | N91: =C91&G91 -> 2
A92: 5 | B92: Wordt de farmaceutische anamnese tijdig uitgevoerd na opname (binnen de 24 uur)? | C92: 2 | D92: zie referentie 14, 20, 22
A93: 6 | B93: Wordt de uitvoering van de farmaceutische anamnese geregistreerd in een farmaceutisch patiëntendossier? | C93: 1 | D93: KB 30 sept 2020 | E93: Art 30
A94: 7 | B94: Is er een procedure om de farmaceutische anamnese bij geplande opnames op voorhand uit te voeren? (bv. pre-operatief consult, telefonisch) | C94: 2 | D94: zie referentie 16 | J94: X1 | K94: =C94&J94&G94 -> 2X1 | L94: =IFERROR(VLOOKUP($K94,Mapping!F:H,2,0),"") | M94: =IFERROR(VLOOKUP($K94,Mapping!$F:$H,3,0),"") | N94: =C94&G94 -> 2
A95: 8 | B95: Wordt de anamnese steeds uitgevoerd aan de hand van een gestructureerde vragenlijst? | C95: 2 | D95: zie referentie 14, 21 | J95: X1 | K95: =C95&J95&G95 -> 2X1 | L95: =IFERROR(VLOOKUP($K95,Mapping!F:H,2,0),"") | M95: =IFERROR(VLOOKUP($K95,Mapping!$F:$H,3,0),"") | N95: =C95&G95 -> 2
A96: 9 | B96: Worden er minstens 2 informatiebronnen gebruikt voor de farmaceutische anamnese (vb. patiënt, mantelzorger, huisarts, huisapotheker, e-health, woon-zorgcentrum,…)? | C96: 2 | D96: zie referentie 1, 20, 28 | J96: X1 | K96: =C96&J96&G96 -> 2X1 | L96: =IFERROR(VLOOKUP($K96,Mapping!F:H,2,0),"") | M96: =IFERROR(VLOOKUP($K96,Mapping!$F:$H,3,0),"") | N96: =C96&G96 -> 2
A97: 10 | B97: Heeft het ziekenhuis een transmuraal medicatiebeleid, bij voorkeur in samenspraak met de eerstelijn? | C97: 1 | D97: Wet van 22 april 2019 (Art 19) + zie referentie 20, 29 | J97: X1 | K97: =C97&J97&G97 -> 1X1 | L97: =IFERROR(VLOOKUP($K97,Mapping!F:H,2,0),"") | M97: =IFERROR(VLOOKUP($K97,Mapping!$F:$H,3,0),"") | N97: =C97&G97 -> 1
A98: 11 | B98: Wordt de thuismedicatie elektronisch gestructureerd geregistreerd? | C98: 2 | D98: zie referentie 29, 30 | J98: X1 | K98: =C98&J98&G98 -> 2X1 | L98: =IFERROR(VLOOKUP($K98,Mapping!F:H,2,0),"") | M98: =IFERROR(VLOOKUP($K98,Mapping!$F:$H,3,0),"") | N98: =C98&G98 -> 2
A99: 12 | B99: Gebeurt de elektronische registratie van de thuismedicatie op één plaats in het gedeeld dossier? (bv. tabblad thuismedicatie) | C99: 1 | D99: Wet van 22 april 2019 + zie referentie 1, 16, 25, 28, 29 | J99: X1 | K99: =C99&J99&G99 -> 1X1 | L99: =IFERROR(VLOOKUP($K99,Mapping!F:H,2,0),"") | M99: =IFERROR(VLOOKUP($K99,Mapping!$F:$H,3,0),"") | N99: =C99&G99 -> 1
A100: 13 | B100: Hebben de betrokken zorgverleners toegang tot de relevante delen van het medisch dossier? | C100: 2 | D100: zie referentie 31, 32 | J100: X1 | K100: =C100&J100&G100 -> 2X1 | L100: =IFERROR(VLOOKUP($K100,Mapping!F:H,2,0),"") | M100: =IFERROR(VLOOKUP($K100,Mapping!$F:$H,3,0),"") | N100: =C100&G100 -> 2
A101: 14 | B101: Wordt de anamnese goedgekeurd (= als volledig verklaard) door de arts of de apotheker? | C101: 2 | D101: JCI MMU 5.1 | J101: X1 | K101: =C101&J101&G101 -> 2X1 | L101: =IFERROR(VLOOKUP($K101,Mapping!F:H,2,0),"") | M101: =IFERROR(VLOOKUP($K101,Mapping!$F:$H,3,0),"") | N101: =C101&G101 -> 2
A102: 15 | B102: Is er In het geval van chirurgische opname een eenduidig pre-operatief medicatiebeleid (te stoppen medicatie, bridging, …)? | C102: 3 | D102: Good Practice | J102: X1 | K102: =C102&J102&G102 -> 3X1 | L102: =IFERROR(VLOOKUP($K102,Mapping!F:H,2,0),"") | M102: =IFERROR(VLOOKUP($K102,Mapping!$F:$H,3,0),"") | N102: =C102&G102 -> 3
A103: b | B103: Hospitalisatie en intramurale transfert | C103: Progress :: | G103: =SUBTOTAL(3,G104:G106)/SUBTOTAL(3,C104:C106) -> 0 | L103: =SUBTOTAL(9,L104:L106) -> 0 | M103: =SUBTOTAL(9,M104:M106) -> 0
A104: 1 | B104: Wordt er een best possible medicatie lijst (BPML) opgesteld na de anamnese? | C104: 3 | D104: Good Practice | J104: X1 | K104: =C104&J104&G104 -> 3X1 | L104: =IFERROR(VLOOKUP($K104,Mapping!F:H,2,0),"") | M104: =IFERROR(VLOOKUP($K104,Mapping!$F:$H,3,0),"") | N104: =C104&G104 -> 3
A105: 2 | B105: Is er een duidelijk overzicht beschikbaar van de verder te zetten therapie bij een interne transfer in het ziekenhuis? | C105: 1 | D105: Wet van 22 april 2019 + zie referentie 18, 29 | N105: =C105&G105 -> 1
A106: 3 | B106: Is er een duidelijk overzicht beschikbaar van de gestopte en gewijzigde medicatie en de reden hiervoor bij een interne transfert in het ziekenhuis? | C106: 3 | D106: Good Practice | J106: X1 | K106: =C106&J106&G106 -> 3X1 | L106: =IFERROR(VLOOKUP($K106,Mapping!F:H,2,0),"") | M106: =IFERROR(VLOOKUP($K106,Mapping!$F:$H,3,0),"") | N106: =C106&G106 -> 3
A107: c | B107: Ontslag | C107: Progress :: | G107: =SUBTOTAL(3,G108:G115)/SUBTOTAL(3,C108:C115) -> 0 | L107: =SUBTOTAL(9,L108:L115) -> 0 | M107: =SUBTOTAL(9,M108:M115) -> 0
A108: 1 | B108: Bestaat er een procedure van het proces voor farmaceutisch ontslag? | C108: 1 | D108: Wet van 22 april 2019 + zie referentie 12 | J108: X1 | K108: =C108&J108&G108 -> 1X1 | L108: =IFERROR(VLOOKUP($K108,Mapping!F:H,2,0),"") | M108: =IFERROR(VLOOKUP($K108,Mapping!$F:$H,3,0),"") | N108: =C108&G108 -> 1
A109: 2 | B109: Houdt de procedure van het farmaceutisch ontslag rekening met het type verpleegeenheid of type patiënt? | C109: 3 | D109: Good Practice | J109: X1 | K109: =C109&J109&G109 -> 3X1 | L109: =IFERROR(VLOOKUP($K109,Mapping!F:H,2,0),"") | M109: =IFERROR(VLOOKUP($K109,Mapping!$F:$H,3,0),"") | N109: =C109&G109 -> 3
A110: 3 | B110: Wordt de informatie betreffende de ontslagmedicatie ter beschikking gesteld van of gedeeld met de andere betrokken zorgverleners? | C110: 1 | D110: Wet van 22 april 2019 + zie referentie 1,6, 16, 28, 29, 31 | J110: X1 | K110: =C110&J110&G110 -> 1X1 | L110: =IFERROR(VLOOKUP($K110,Mapping!F:H,2,0),"") | M110: =IFERROR(VLOOKUP($K110,Mapping!$F:$H,3,0),"") | N110: =C110&G110 -> 1
A111: 4 | B111: Wordt de informatie betreffende de ontslagmedicatie elektronisch ter beschikking gesteld van of gedeeld met de andere betrokken zorgverleners? | C111: 3 | D111: Good Practice | J111: X1 | K111: =C111&J111&G111 -> 3X1 | L111: =IFERROR(VLOOKUP($K111,Mapping!F:H,2,0),"") | M111: =IFERROR(VLOOKUP($K111,Mapping!$F:$H,3,0),"") | N111: =C111&G111 -> 3
A112: 5 | B112: Wordt de informatie rond de ontslagmedicatie ter beschikking gesteld van de patiënt? | C112: 2 | D112: zie referentie 2,4,7,8,9,11, 14, 25, 28 | J112: X1 | K112: =C112&J112&G112 -> 2X1 | L112: =IFERROR(VLOOKUP($K112,Mapping!F:H,2,0),"") | M112: =IFERROR(VLOOKUP($K112,Mapping!$F:$H,3,0),"") | N112: =C112&G112 -> 2
A113: 6 | B113: Wordt de informatie rond de ontslagmedicatie elektronisch ter beschikking gesteld van de patiënt? | C113: 3 | D113: Good Practice | J113: X1 | K113: =C113&J113&G113 -> 3X1 | L113: =IFERROR(VLOOKUP($K113,Mapping!F:H,2,0),"") | M113: =IFERROR(VLOOKUP($K113,Mapping!$F:$H,3,0),"") | N113: =C113&G113 -> 3
A114: 7 | B114: Is er een procedure omtrent overbruggingsmedicatie na ontslag om de continuïteit van de farmaceutische zorg te garanderen(bv 3 dagen)? | C114: 1 | D114: KB 78 en Wet 22 april 2019 (Art 17) | J114: X1 | K114: =C114&J114&G114 -> 1X1 | L114: =IFERROR(VLOOKUP($K114,Mapping!F:H,2,0),"") | M114: =IFERROR(VLOOKUP($K114,Mapping!$F:$H,3,0),"") | N114: =C114&G114 -> 1
A115: 8 | B115: Wordt het schema van de ontslagmedicatie gevalideerd door de arts of door de ziekenhuisapotheker (ontslagbrief)? | C115: 2 | D115: zie referentie 3, 14 | J115: X1 | K115: =C115&J115&G115 -> 2X1 | L115: =IFERROR(VLOOKUP($K115,Mapping!F:H,2,0),"") | M115: =IFERROR(VLOOKUP($K115,Mapping!$F:$H,3,0),"") | N115: =C115&G115 -> 2
A116: d | B116: Patiënt counseling | C116: Progress :: | G116: =SUBTOTAL(3,G117:G124)/SUBTOTAL(3,C117:C124) -> 0 | L116: =SUBTOTAL(9,L117:L124) -> 0 | M116: =SUBTOTAL(9,M117:M124) -> 0
A117: 1 | B117: Gebeurt de patiënt counseling bij ontslag volgens een gestandaardiseerde, beschreven werkwijze opgesteld door de apotheek? | C117: 3 | D117: Good Practice | J117: X1 | K117: =C117&J117&G117 -> 3X1 | L117: =IFERROR(VLOOKUP($K117,Mapping!F:H,2,0),"") | M117: =IFERROR(VLOOKUP($K117,Mapping!$F:$H,3,0),"") | N117: =C117&G117 -> 3
A118: 2 | B118: Wordt deze gestandaardiseerde werkwijze gevalideerd door het MFC? | C118: 3 | D118: Good Practice | J118: X1 | K118: =C118&J118&G118 -> 3X1 | L118: =IFERROR(VLOOKUP($K118,Mapping!F:H,2,0),"") | M118: =IFERROR(VLOOKUP($K118,Mapping!$F:$H,3,0),"") | N118: =C118&G118 -> 3
A119: 3 | B119: Wordt de ontslagmedicatie in het ziekenhuis steeds samen met de patiënt/familie overlopen (counseling)? | C119: 2 | D119: zie referentie 3,8,12,13, 14 16 | J119: X1 | K119: =C119&J119&G119 -> 2X1 | L119: =IFERROR(VLOOKUP($K119,Mapping!F:H,2,0),"") | M119: =IFERROR(VLOOKUP($K119,Mapping!$F:$H,3,0),"") | N119: =C119&G119 -> 2
A120: 4 | B120: Worden de zorgverleners die farmaceutische counseling bij ontslag uitvoeren hiervoor opgeleid? | C120: 2 | D120: zie referentie 14, 18 | J120: X1 | K120: =C120&J120&G120 -> 2X1 | L120: =IFERROR(VLOOKUP($K120,Mapping!F:H,2,0),"") | M120: =IFERROR(VLOOKUP($K120,Mapping!$F:$H,3,0),"") | N120: =C120&G120 -> 2
...

Sheet rapport
B1: MAEIA Sterilization Rapport
A3: Date : | I3: Adapt these cells
A4: Ziekenhuis : | I4: Adapt these cells
A5: Hoofdapotheker : | I5: Adapt these cells
A6: Auditeur naam : | I6: Adapt these cells
C7: Max | D7: Score
A8: Total score | C8: ='proces klinische farmacie '!L3 -> 3 | D8: ='proces klinische farmacie '!M3 -> 3 | K8: Make sure total is correct | L8: Make sure total is correct
A9: ='proces klinische farmacie '!A7 -> I | B9: ='proces klinische farmacie '!B7 -> Kwaliteitsopvolging van het proces klinische farmacie | C9: ='proces klinische farmacie '!L7 -> 3 | D9: ='proces klinische farmacie '!M7 -> 3 | H9: Copy Paste visible cells from questionnaire sheet | I9: Copy Paste visible cells from questionnaire sheet | J9: Copy Paste visible cells from questionnaire sheet | K9: Copy Paste visible cells from questionnaire sheet | L9: Copy Paste visible cells from questionnaire sheet
A10: ='proces klinische farmacie '!A13 -> II | B10: ='proces klinische farmacie '!B13 -> Centrale klinische activiteiten rond medicatiebeleid en medicatieveiligheid (patiëntoverschrijdend - beleidsmatig) | C10: ='proces klinische farmacie '!L13 -> 0 | D10: ='proces klinische farmacie '!M13 -> 0 | H10: Copy Paste visible cells from questionnaire sheet | I10: Copy Paste visible cells from questionnaire sheet | J10: Copy Paste visible cells from questionnaire sheet | K10: Copy Paste visible cells from questionnaire sheet | L10: Copy Paste visible cells from questionnaire sheet
A11: ='proces klinische farmacie '!A16 -> a | B11: ='proces klinische farmacie '!B16 -> Algemeen | C11: ='proces klinische farmacie '!L16 -> 0 | D11: ='proces klinische farmacie '!M16 -> 0 | H11: Copy Paste visible cells from questionnaire sheet | I11: Copy Paste visible cells from questionnaire sheet | J11: Copy Paste visible cells from questionnaire sheet | K11: Copy Paste visible cells from questionnaire sheet | L11: Copy Paste visible cells from questionnaire sheet
A12: ='proces klinische farmacie '!A46 -> b | B12: ='proces klinische farmacie '!B46 -> Voorschrijfondersteuning (Clinical Decision Support) | C12: ='proces klinische farmacie '!L46 -> 0 | D12: ='proces klinische farmacie '!M46 -> 0 | H12: Copy Paste visible cells from questionnaire sheet | I12: Copy Paste visible cells from questionnaire sheet | J12: Copy Paste visible cells from questionnaire sheet | K12: Copy Paste visible cells from questionnaire sheet | L12: Copy Paste visible cells from questionnaire sheet
A13: ='proces klinische farmacie '!A82 -> c | B13: ='proces klinische farmacie '!B82 -> Medische Farmaceutisch Comité en Antibiotherapiebeleidsgroep | C13: ='proces klinische farmacie '!L82 -> 0 | D13: ='proces klinische farmacie '!M82 -> 0 | H13: Copy Paste visible cells from questionnaire sheet | I13: Copy Paste visible cells from questionnaire sheet | J13: Copy Paste visible cells from questionnaire sheet | K13: Copy Paste visible cells from questionnaire sheet | L13: Copy Paste visible cells from questionnaire sheet
A14: ='proces klinische farmacie '!A84 -> III | B14: ='proces klinische farmacie '!B84 -> Klinische Farmacie direct in relatie met de patiënt (back-office en front-office) | C14: ='proces klinische farmacie '!L84 -> 0 | D14: ='proces klinische farmacie '!M84 -> 0 | H14: Copy Paste visible cells from questionnaire sheet | I14: Copy Paste visible cells from questionnaire sheet | J14: Copy Paste visible cells from questionnaire sheet | K14: Copy Paste visible cells from questionnaire sheet | L14: Copy Paste visible cells from questionnaire sheet
A15: ='proces klinische farmacie '!A87 -> a | B15: ='proces klinische farmacie '!B87 -> Farmaceutische anamnese | C15: ='proces klinische farmacie '!L87 -> 0 | D15: ='proces klinische farmacie '!M87 -> 0 | H15: Copy Paste visible cells from questionnaire sheet | I15: Copy Paste visible cells from questionnaire sheet | J15: Copy Paste visible cells from questionnaire sheet | K15: Copy Paste visible cells from questionnaire sheet | L15: Copy Paste visible cells from questionnaire sheet
A16: ='proces klinische farmacie '!A103 -> b | B16: ='proces klinische farmacie '!B103 -> Hospitalisatie en intramurale transfert | C16: ='proces klinische farmacie '!L103 -> 0 | D16: ='proces klinische farmacie '!M103 -> 0 | H16: Copy Paste visible cells from questionnaire sheet | I16: Copy Paste visible cells from questionnaire sheet | J16: Copy Paste visible cells from questionnaire sheet | K16: Copy Paste visible cells from questionnaire sheet | L16: Copy Paste visible cells from questionnaire sheet
A17: ='proces klinische farmacie '!A107 -> c | B17: ='proces klinische farmacie '!B107 -> Ontslag | C17: ='proces klinische farmacie '!L107 -> 0 | D17: ='proces klinische farmacie '!M107 -> 0 | H17: Copy Paste visible cells from questionnaire sheet | I17: Copy Paste visible cells from questionnaire sheet | J17: Copy Paste visible cells from questionnaire sheet | K17: Copy Paste visible cells from questionnaire sheet | L17: Copy Paste visible cells from questionnaire sheet
A18: ='proces klinische farmacie '!A116 -> d | B18: ='proces klinische farmacie '!B116 -> Patiënt counseling | C18: ='proces klinische farmacie '!L116 -> 0 | D18: ='proces klinische farmacie '!M116 -> 0 | H18: Copy Paste visible cells from questionnaire sheet | I18: Copy Paste visible cells from questionnaire sheet | J18: Copy Paste visible cells from questionnaire sheet | K18: Copy Paste visible cells from questionnaire sheet | L18: Copy Paste visible cells from questionnaire sheet
A19: ='proces klinische farmacie '!A125 -> e | B19: ='proces klinische farmacie '!B125 -> Medicatiereview | C19: ='proces klinische farmacie '!L125 -> 0 | D19: ='proces klinische farmacie '!M125 -> 0 | H19: Copy Paste visible cells from questionnaire sheet | I19: Copy Paste visible cells from questionnaire sheet | J19: Copy Paste visible cells from questionnaire sheet | K19: Copy Paste visible cells from questionnaire sheet | L19: Copy Paste visible cells from questionnaire sheet
A20: ='proces klinische farmacie '!A148 -> f | B20: ='proces klinische farmacie '!B148 -> Validatie van het voorschrift | C20: ='proces klinische farmacie '!L148 -> 0 | D20: ='proces klinische farmacie '!M148 -> 0 | H20: Copy Paste visible cells from questionnaire sheet | I20: Copy Paste visible cells from questionnaire sheet | J20: Copy Paste visible cells from questionnaire sheet | K20: Copy Paste visible cells from questionnaire sheet | L20: Copy Paste visible cells from questionnaire sheet
A43: Handtekeningen
A45: Hoofdapotheker | I45: Change name & signature
A48: Auditeur naam : | I48: Change name & signature
B52: MAEIA Sterilization Rapport
A79: Sterke punten
A80: 1
A81: 2
A82: 3
A83: 4
A84: 5
A85: 6
A86: Tekortkomingen niveau 1
A87: 1
A88: 2
A89: 3
A90: 4
A91: 5
A92: 6
A93: Verbeterpunten niveau 2
A94: 1
A95: 2
A96: 3
A97: 4
A98: 5
A99: 6
A100: Verbeterpunten niveau 3
A101: 1
A102: 2
A103: 3
A104: 4
A105: 5
A106: 6
A107: Observaties
A108: 1
A109: 2
A110: 3
A111: 4
A112: 5
A113: 6

Sheet actiepunten auditee
A3: Actiepunt | B3: Nummer | C3: ..… | D3: Oorsprong :
D4: o Tekortkoming niveau 1
D5: o Verbeterpunt niveau 2
D6: o Verbeterpunt niveau 3
D7: o Observatie
A8: Geaudit proces | B8: Klinische Farmacie
A9: Auditdatum | B9: …../…../….. | D9: Auditor | E9: ……………………………………………
A10: Auditee | B10: ………………………………………………………………………………..
A11: Omschrijving van de tekortkoming / verbeterpunt / observatie
A12: Voorgestelde maatregel door de auditee | B12: Oorzaak
B15: Actie
B21: Verantwoordelijke
B23: Termijn
A26: Opvolgrapport
A27: (cumulatief)
A44: Conclusie

Sheet Mapping
B4: MAPPING TABLE | G4: points
B5: Base points | C5: Niveau | D5: Extra gewicht factor | E5: Antwoord | F5: Code | G5: Total | H5: Score | M5: Somme | P5: Speedometer | R5: Pointer
A6: Ja Groep | B6: 1 | C6: 3 | D6: X3 | E6: Ja | F6: =C6&D6&E6 -> 3X3Ja | G6: 3 | H6: 3 | L6: Ja | M6: =COUNTIF('proces klinische farmacie '!$G:$G,Mapping!$L6) -> 2 | P6: Start | Q6: 0 | R6: Value | S6: =+ROUND(M11/M10,2)*100 -> 100
A7: Ja Groep | B7: 1 | C7: 3 | D7: X2 | E7: Ja | F7: =C7&D7&E7 -> 3X2Ja | G7: 2 | H7: 2 | L7: Neen | M7: =COUNTIF('proces klinische farmacie '!$G:$G,Mapping!$L7) -> 1 | P7: Initial | Q7: 60 | R7: Pointer | S7: 1
A8: Ja Groep | B8: 1 | C8: 3 | D8: X1 | E8: Ja | F8: =C8&D8&E8 -> 3X1Ja | G8: 1 | H8: 1 | L8: NVT | M8: =COUNTIF('proces klinische farmacie '!$G:$G,Mapping!$L8) -> 1 | P8: Middle | Q8: 30 | R8: end | S8: =200-S7-S6 -> 99
A9: Ja Groep | B9: 1 | C9: 3 | D9: X0,33 | E9: Ja | F9: =C9&D9&E9 -> 3X0,33Ja | G9: =1/3 -> 0.33333333 | H9: =1/3 -> 0.33333333 | L9: Somme | M9: =SUM(M6:M8) -> 4 | P9: End | Q9: 10
A10: Ja Groep | B10: 1 | C10: 3 | D10: X0,66 | E10: Ja | F10: =C10&D10&E10 -> 3X0,66Ja | G10: =2/3 -> 0.66666667 | H10: =2/3 -> 0.66666667 | L10: Total | M10: ='proces klinische farmacie '!$L$3 -> 3 | P10: Max | Q10: 100
A11: Ja Groep | B11: 1 | C11: 3 | D11: X1 | E11: Ja | F11: =C11&D11&E11 -> 3X1Ja | G11: 1 | H11: 1 | L11: Score | M11: ='proces klinische farmacie '!$M$3 -> 3
A12: Ja Groep | B12: 3 | C12: 2 | D12: X3 | E12: Ja | F12: =C12&D12&E12 -> 2X3Ja | G12: 9 | H12: 9 | S12: ="Total Score : "&S6&"%" -> Total Score : 100%
A13: Ja Groep | B13: 3 | C13: 2 | D13: X2 | E13: Ja | F13: =C13&D13&E13 -> 2X2Ja | G13: 6 | H13: 6
A14: Ja Groep | B14: 3 | C14: 2 | D14: X1 | E14: Ja | F14: =C14&D14&E14 -> 2X1Ja | G14: 3 | H14: 3 | L14: ROUGE | M14: 60
A15: Ja Groep | B15: 3 | C15: 2 | D15: X0,33 | E15: Ja | F15: =C15&D15&E15 -> 2X0,33Ja | G15: 1 | H15: 1 | L15: ORANGE | M15: 30
A16: Ja Groep | B16: 3 | C16: 2 | D16: X0,66 | E16: Ja | F16: =C16&D16&E16 -> 2X0,66Ja | G16: 2 | H16: 2 | L16: VERT | M16: 10
A17: Ja Groep | B17: 3 | C17: 2 | D17: X1 | E17: Ja | F17: =C17&D17&E17 -> 2X1Ja | G17: 3 | H17: 3 | L17: Invisible | M17: 100
A18: Ja Groep | B18: 6 | C18: 1 | D18: X3 | E18: Ja | F18: =C18&D18&E18 -> 1X3Ja | G18: 18 | H18: 18
A19: Ja Groep | B19: 6 | C19: 1 | D19: X2 | E19: Ja | F19: =C19&D19&E19 -> 1X2Ja | G19: 12 | H19: 12
A20: Ja Groep | B20: 6 | C20: 1 | D20: X1 | E20: Ja | F20: =C20&D20&E20 -> 1X1Ja | G20: 6 | H20: 6 | L20: Aiguille | M20: =M7/M9 -> 0.25
A21: Ja Groep | B21: 6 | C21: 1 | D21: X0,33 | E21: Ja | F21: =C21&D21&E21 -> 1X0,33Ja | G21: 2 | H21: 2 | L21: Largeur | M21: 1
A22: Ja Groep | B22: 6 | C22: 1 | D22: X0,66 | E22: Ja | F22: =C22&D22&E22 -> 1X0,66Ja | G22: 4 | H22: 4 | L22: Invisible | M22: =SUM(M14:M17)-(M21+M20) -> 198.75
A23: Ja Groep | B23: 6 | C23: 1 | D23: X1 | E23: Ja | F23: =C23&D23&E23 -> 1X1Ja | G23: 6 | H23: 6
A24: Neen groep | B24: 1 | C24: 3 | D24: X3 | E24: Neen | F24: =C24&D24&E24 -> 3X3Neen | G24: 3 | H24: 0 | L24: RIEN
A25: Neen groep | B25: 1 | C25: 3 | D25: X2 | E25: Neen | F25: =C25&D25&E25 -> 3X2Neen | G25: 2 | H25: 0 | L25: Aiguille | M25: =ROUND(M20,0)&"%" -> 0%
A26: Neen groep | B26: 1 | C26: 3 | D26: X1 | E26: Neen | F26: =C26&D26&E26 -> 3X1Neen | G26: 1 | H26: 0 | L26: RIEN
A27: Neen groep | B27: 1 | C27: 3 | D27: X0,33 | E27: Neen | F27: =C27&D27&E27 -> 3X0,33Neen | G27: =1/3 -> 0.33333333 | H27: 0
A28: Neen groep | B28: 1 | C28: 3 | D28: X0,66 | E28: Neen | F28: =C28&D28&E28 -> 3X0,66Neen | G28: =2/3 -> 0.66666667 | H28: 0
A29: Neen groep | B29: 1 | C29: 3 | D29: X1 | E29: Neen | F29: =C29&D29&E29 -> 3X1Neen | G29: 1 | H29: 0
A30: Neen groep | B30: 3 | C30: 2 | D30: X3 | E30: Neen | F30: =C30&D30&E30 -> 2X3Neen | G30: 9 | H30: 0
A31: Neen groep | B31: 3 | C31: 2 | D31: X2 | E31: Neen | F31: =C31&D31&E31 -> 2X2Neen | G31: 6 | H31: 0
A32: Neen groep | B32: 3 | C32: 2 | D32: X1 | E32: Neen | F32: =C32&D32&E32 -> 2X1Neen | G32: 3 | H32: 0
A33: Neen groep | B33: 3 | C33: 2 | D33: X0,33 | E33: Neen | F33: =C33&D33&E33 -> 2X0,33Neen | G33: 1 | H33: 0
A34: Neen groep | B34: 3 | C34: 2 | D34: X0,66 | E34: Neen | F34: =C34&D34&E34 -> 2X0,66Neen | G34: 2 | H34: 0
A35: Neen groep | B35: 3 | C35: 2 | D35: X1 | E35: Neen | F35: =C35&D35&E35 -> 2X1Neen | G35: 3 | H35: 0
A36: Neen groep | B36: 6 | C36: 1 | D36: X3 | E36: Neen | F36: =C36&D36&E36 -> 1X3Neen | G36: 18 | H36: 0
A37: Neen groep | B37: 6 | C37: 1 | D37: X2 | E37: Neen | F37: =C37&D37&E37 -> 1X2Neen | G37: 12 | H37: 0
A38: Neen groep | B38: 6 | C38: 1 | D38: X1 | E38: Neen | F38: =C38&D38&E38 -> 1X1Neen | G38: 6 | H38: 0
A39: Neen groep | B39: 6 | C39: 1 | D39: X0,33 | E39: Neen | F39: =C39&D39&E39 -> 1X0,33Neen | G39: 2 | H39: 0
A40: Neen groep | B40: 6 | C40: 1 | D40: X0,66 | E40: Neen | F40: =C40&D40&E40 -> 1X0,66Neen | G40: 4 | H40: 0
... A59: NVT groep | B59: 6 | C59: 1 | D59: X1 | E59: NVT | F59: =C59&D59&E59 -> 1X1NVT | G59: 0 | H59: 0
