Workbook

Sheet algemene inleiding

Sheet inleiding aankoop 
A1: INLEIDING PROCES AANKOOP

Sheet expertenteam
A1: MET DANK AAN HET EXPERTENTEAM
A3: Lies De Bock
A4: Vera plas
A5: Mathijs Lazeure
A6: Charlotte Coolen
A7: Anoek Leunis
A8: Sarah Van Wynsberghe
A9: Jurgen Van Eeckhoudt
A10: Sarah De Mûelenaere
A11: Eline Strobbe
A12: Dominique Wouters
A13: Sylvie Demaret

Sheet handleiding
A2: Hoe gebruiken we de kwaliteitstool MAEIA?

Sheet inhoudstafel
A1: VERSIE 20230201 | B1: AANKOOP
A2: I | B2: Kwaliteitsopvolging van het aankoopproces
A3: II | B3: Algemeen
A4: III | B4: Behoeftebepaling
A5: IV | B5: Selectie van de leveranciers
A6: V | B6: Selectie product
A7: VI | B7: Contractering
A8: VII | B8: Bestelling
A9: VIII | B9: Ontvangst
A10: IX | B10: Facturatie
A11: X | B11: Evaluatie leverancier
A12: XI | B12: archivering en contractbeheer

Sheet proces aankoop 
A2: VERSIE 20230201 | B2: AANKOOP | C2: NIVEAU | D2: Referentie | E2: ter info: artikelnummer, §, pagina | G2: ANTWOORD | H2: OPMERKINGEN | J2: extra factor gewicht | L2: TOTAL | M2: SCORE
C3: 1 = WETGEVING (= 6 punten) | H3: OPMERKINGEN | L3: =SUBTOTAL(9,L7:L233) -> 3 | M3: =SUBTOTAL(9,M7:M233) -> 3
C4: 2 = RICHTLIJNEN, NORMEN, AANBEVELINGEN (= 3 punten) | G4: Ja
C5: 3 = GOOD PRACTICE (= 1 punt) | G5: Neen
G6: NVT | K6: Code | L6: Total | M6: Score
A7: I | B7: Kwaliteitsopvolging van het aankoopproces | C7: Progress :: | G7: =SUBTOTAL(3,G10:G12)/SUBTOTAL(3,C10:C12) -> 0.33333333 | L7: =SUBTOTAL(9,L10:L12) -> 3 | M7: =SUBTOTAL(9,M10:M12) -> 3
B8: AUDITVRAGEN
B9: Controleer altijd de documentatie en de toepassing op de werkvloer.
A10: 1 | B10: Werden alle genomen acties op basis van de tekortkomingen van niveau 1 die bij de vorige audit werden vastgesteld adequaat opgevolgd en met met succes geïmplementeerd? | C10: 3 | D10: Good Practice | G10: Ja | J10: X3 | K10: =C10&J10&G10 -> 3X3Ja | L10: =IFERROR(VLOOKUP($K10,Mapping!$F:$H,2,0),"") -> 3 | M10: =IFERROR(VLOOKUP($K10,Mapping!$F:$H,3,0),"") -> 3 | N10: =C10&G10 -> 3Ja
A11: 2 | B11: Werden alle genomen acties op basis van de verbeterpunten van niveau 2 die bij de vorige audit werden vastgesteld adequaat opgevolgd en met met succes geïmplementeerd? | C11: 3 | D11: Good Practice | J11: X2 | K11: =C11&J11&G11 -> 3X2 | L11: =IFERROR(VLOOKUP($K11,Mapping!F:H,2,0),"") | M11: =IFERROR(VLOOKUP($K11,Mapping!$F:$H,3,0),"") | N11: =C11&G11 -> 3
A12: 3 | B12: Werden alle genomen acties op basis van de verbeterpunten van niveau 3 die bij de vorige audit werden vastgesteld adequaat opgevolgd en met met succes geïmplementeerd? | C12: 3 | D12: Good Practice | J12: X1 | K12: =C12&J12&G12 -> 3X1 | L12: =IFERROR(VLOOKUP($K12,Mapping!F:H,2,0),"") | M12: =IFERROR(VLOOKUP($K12,Mapping!$F:$H,3,0),"") | N12: =C12&G12 -> 3
A13: II | B13: Algemeen | C13: Progress :: | G13: =SUBTOTAL(3,G16:G38)/(SUBTOTAL(3,C16:C38)-3) -> 0 | L13: =SUBTOTAL(9,L16:L38) -> 0 | M13: =SUBTOTAL(9,M16:M38) -> 0
B14: AUDITVRAGEN
B15: Controleer altijd de documentatie en de toepassing op de werkvloer.
A16: 1 | B16: Bestaat er een procedure en/of een algemeen stroomdiagram van het proces aankoop van de producten? | C16: 3 | D16: Good Practice | J16: X1 | K16: =C16&J16&G16 -> 3X1 | L16: =IFERROR(VLOOKUP($K16,Mapping!F:H,2,0),"") | M16: =IFERROR(VLOOKUP($K16,Mapping!$F:$H,3,0),"") | N16: =C16&G16 -> 3
A17: 2 | B17: Worden de aankopen gestuurd vanuit het wettelijk bevoegd orgaan (MFC , CMM , beheerder …) of is er een algemene procedure om deze bevoegdheid te mandateren? | C17: 3 | D17: Good Practice | J17: X1 | K17: =C17&J17&G17 -> 3X1 | L17: =IFERROR(VLOOKUP($K17,Mapping!F:H,2,0),"") | M17: =IFERROR(VLOOKUP($K17,Mapping!$F:$H,3,0),"") | N17: =C17&G17 -> 3
A18: 3 | B18: Is een ziekenhuisapotheker werkzaam in de ziekenhuisapotheek betrokken bij het aankoopproces? | C18: 3 | D18: Good Practice | J18: X1 | K18: =C18&J18&G18 -> 3X1 | L18: =IFERROR(VLOOKUP($K18,Mapping!F:H,2,0),"") | M18: =IFERROR(VLOOKUP($K18,Mapping!$F:$H,3,0),"") | N18: =C18&G18 -> 3
A19: 4 | B19: Maken de relevante gebruikers/consument/stakeholders ... deel uit van het aankoopproces? | C19: 3 | D19: Good Practice | J19: X1 | K19: =C19&J19&G19 -> 3X1 | L19: =IFERROR(VLOOKUP($K19,Mapping!F:H,2,0),"") | M19: =IFERROR(VLOOKUP($K19,Mapping!$F:$H,3,0),"") | N19: =C19&G19 -> 3
A20: 5 | B20: Is er een procedure voor de aankoop bij hoogdringendheid? (bv igv stockbreuken …) | C20: 3 | D20: Good Practice | J20: X1 | K20: =C20&J20&G20 -> 3X1 | L20: =IFERROR(VLOOKUP($K20,Mapping!F:H,2,0),"") | M20: =IFERROR(VLOOKUP($K20,Mapping!$F:$H,3,0),"") | N20: =C20&G20 -> 3
A21: 6 | B21: Worden de farmaceutische specialiteiten waarvan de raming van de overeenkomst boven de Europese drempel ligt, aangekocht volgens de wetgeving overheidsopdrachten? | C21: 1 | D21: KB 18 april 2017 plaatsing overheidsopdrachten in de klassieke sectoren en KB 14 januari 2013 tot bepaling van de algemene uitvoeringsregels van de overheidsopdrachten | J21: X1 | K21: =C21&J21&G21 -> 1X1 | L21: =IFERROR(VLOOKUP($K21,Mapping!F:H,2,0),"") | M21: =IFERROR(VLOOKUP($K21,Mapping!$F:$H,3,0),"") | N21: =C21&G21 -> 1
A22: 7 | B22: Worden de farmaceutische specialiteiten waarvan de raming van de overeenkomst onder de Europese drempel ligt, aangekocht volgens de wetgeving overheidsopdrachten? | C22: 1 | D22: KB 18 april 2017 plaatsing overheidsopdrachten in de klassieke sectoren en KB 14 januari 2013 tot bepaling van de algemene uitvoeringsregels van de overheidsopdrachten | J22: X1 | K22: =C22&J22&G22 -> 1X1 | L22: =IFERROR(VLOOKUP($K22,Mapping!F:H,2,0),"") | M22: =IFERROR(VLOOKUP($K22,Mapping!$F:$H,3,0),"") | N22: =C22&G22 -> 1
A23: 8 | B23: Worden de medische materialen waarvan de raming van de overeenkomst boven de Europese drempel ligt, aangekocht volgens de wetgeving overheidsopdrachten? | C23: 1 | D23: KB 18 april 2017 plaatsing overheidsopdrachten in de klassieke sectoren en KB 14 januari 2013 tot bepaling van de algemene uitvoeringsregels van de overheidsopdrachten | J23: X1 | K23: =C23&J23&G23 -> 1X1 | L23: =IFERROR(VLOOKUP($K23,Mapping!F:H,2,0),"") | M23: =IFERROR(VLOOKUP($K23,Mapping!$F:$H,3,0),"") | N23: =C23&G23 -> 1
A24: 9 | B24: Worden de medische materialen waarvan de raming van de overeenkomst onder de Europese drempel ligt, aangekocht volgens de wetgeving overheidsopdrachten? | C24: 1 | D24: KB 18 april 2017 plaatsing overheidsopdrachten in de klassieke sectoren en KB 14 januari 2013 tot bepaling van de algemene uitvoeringsregels van de overheidsopdrachten | J24: X1 | K24: =C24&J24&G24 -> 1X1 | L24: =IFERROR(VLOOKUP($K24,Mapping!F:H,2,0),"") | M24: =IFERROR(VLOOKUP($K24,Mapping!$F:$H,3,0),"") | N24: =C24&G24 -> 1
A25: 10 | B25: Worden de prothesen en implantaten waarvan de raming van de overeenkomst boven de Europese drempel ligt, aangekocht volgens de wetgeving overheidsopdrachten? | C25: 1 | D25: KB 18 april 2017 plaatsing overheidsopdrachten in de klassieke sectoren en KB 14 januari 2013 tot bepaling van de algemene uitvoeringsregels van de overheidsopdrachten | J25: X1 | K25: =C25&J25&G25 -> 1X1 | L25: =IFERROR(VLOOKUP($K25,Mapping!F:H,2,0),"") | M25: =IFERROR(VLOOKUP($K25,Mapping!$F:$H,3,0),"") | N25: =C25&G25 -> 1
A26: 11 | B26: Worden de prothesen en implantaten waarvan de raming van de overeenkomst onder de Europese drempel ligt, aangekocht volgens de wetgeving overheidsopdrachten? | C26: 1 | D26: KB 18 april 2017 plaatsing overheidsopdrachten in de klassieke sectoren en KB 14 januari 2013 tot bepaling van de algemene uitvoeringsregels van de overheidsopdrachten | J26: X1 | K26: =C26&J26&G26 -> 1X1 | L26: =IFERROR(VLOOKUP($K26,Mapping!F:H,2,0),"") | M26: =IFERROR(VLOOKUP($K26,Mapping!$F:$H,3,0),"") | N26: =C26&G26 -> 1
A27: 12 | B27: Worden de niet-patiëntgebonden aankopen (bv apparaten) voor de ziekenhuisapotheek waarvan de raming van de overeenkomst boven de Europese drempel ligt, aangekocht volgens de wetgeving overheidsopdrachten? | C27: 1 | D27: KB 18 april 2017 plaatsing overheidsopdrachten in de klassieke sectoren en KB 14 januari 2013 tot bepaling van de algemene uitvoeringsregels van de overheidsopdrachten | J27: X1 | K27: =C27&J27&G27 -> 1X1 | L27: =IFERROR(VLOOKUP($K27,Mapping!F:H,2,0),"") | M27: =IFERROR(VLOOKUP($K27,Mapping!$F:$H,3,0),"") | N27: =C27&G27 -> 1
... A37: 22 | B37: Zijn alle genomen beslissingen gedocumenteerd door alle personen die bevoegd zijn? | C37: 3 | D37: Good Practice | J37: X1 | K37: =C37&J37&G37 -> 3X1 | L37: =IFERROR(VLOOKUP($K37,Mapping!F:H,2,0),"") | M37: =IFERROR(VLOOKUP($K37,Mapping!$F:$H,3,0),"") | N37: =C37&G37 -> 3
A38: 23 | B38: Is er een samenwerkingsovereenkomst voor elke aankoop in het kader van een multi-site aankoop? (occasioneel of gestructureerd) | C38: 1 | D38: Wet 17 juni 2016 inzake overheidsopdrachten | E38: Art 129-130 | J38: X1 | K38: =C38&J38&G38 -> 1X1 | L38: =IFERROR(VLOOKUP($K38,Mapping!F:H,2,0),"") | M38: =IFERROR(VLOOKUP($K38,Mapping!$F:$H,3,0),"") | N38: =C38&G38 -> 1
A39: III | B39: Behoeftebepaling | C39: Progress :: | G39: =SUBTOTAL(3,G42:G46)/(SUBTOTAL(3,C42:C46)-3) -> 0 | L39: =SUBTOTAL(9,L42:L46) -> 0 | M39: =SUBTOTAL(9,M42:M46) -> 0
B40: AUDITVRAGEN
B41: Controleer altijd de documentatie en de toepassing op de werkvloer.
A42: 1 | B42: Is er een procedure hoe de gebruiker een behoeftevraag kan indienen? | C42: 3 | D42: GP | J42: X1 | K42: =C42&J42&G42 -> 3X1 | L42: =IFERROR(VLOOKUP($K42,Mapping!F:H,2,0),"") | M42: =IFERROR(VLOOKUP($K42,Mapping!$F:$H,3,0),"") | N42: =C42&G42 -> 3
A43: 2 | B43: Worden er voor de producten tijdens de behoeftebepaling minimale eisen gesteld? | C43: 3 | D43: GP | J43: X1 | K43: =C43&J43&G43 -> 3X1 | L43: =IFERROR(VLOOKUP($K43,Mapping!F:H,2,0),"") | M43: =IFERROR(VLOOKUP($K43,Mapping!$F:$H,3,0),"") | N43: =C43&G43 -> 3
A44: 3 | B44: Worden er voor de producten tijdens de behoeftebepaling beoordelingscriteria gesteld? | C44: 3 | D44: GP | J44: X1 | K44: =C44&J44&G44 -> 3X1 | L44: =IFERROR(VLOOKUP($K44,Mapping!F:H,2,0),"") | M44: =IFERROR(VLOOKUP($K44,Mapping!$F:$H,3,0),"") | N44: =C44&G44 -> 3
A45: 4 | B45: Heeft u een lijst opgesteld op basis van een risico-analyse van de kritieke producten? | C45: 2 | D45: JCI (GLD ) | J45: X1 | K45: =C45&J45&G45 -> 2X1 | L45: =IFERROR(VLOOKUP($K45,Mapping!F:H,2,0),"") | M45: =IFERROR(VLOOKUP($K45,Mapping!$F:$H,3,0),"") | N45: =C45&G45 -> 2
A46: 5 | B46: Worden er criteria meegenomen om een uitval van kritieke producten te vermijden of op te lossen? | C46: 2 | D46: JCI (GLD 7 ) | J46: X1 | K46: =C46&J46&G46 -> 2X1 | L46: =IFERROR(VLOOKUP($K46,Mapping!F:H,2,0),"") | M46: =IFERROR(VLOOKUP($K46,Mapping!$F:$H,3,0),"") | N46: =C46&G46 -> 2
A47: IV | B47: Selectie van de leveranciers | C47: Progress :: | G47: =SUBTOTAL(3,G50:G51)/(SUBTOTAL(3,C50:C51)-0) -> 0 | L47: =SUBTOTAL(9,L50:L51) -> 0 | M47: =SUBTOTAL(9,M50:M51) -> 0
B48: AUDITVRAGEN
B49: Controleer altijd de documentatie en de toepassing op de werkvloer.
A50: 1 | B50: Voldoen de leveranciers aan de wettelijke vereisten? | C50: 1 | D50: Wet 17 juni 2016 inzake overheidsopdrachten en FAGG registratie distributeur en product | E50: Art 68 | J50: X1 | K50: =C50&J50&G50 -> 1X1 | L50: =IFERROR(VLOOKUP($K50,Mapping!F:H,2,0),"") | M50: =IFERROR(VLOOKUP($K50,Mapping!$F:$H,3,0),"") | N50: =C50&G50 -> 1
...

Sheet rapport
B1: MAEIA Aankoop Rapport
A3: Date : | I3: Adapt these cells
A4: Ziekenhuis : | I4: Adapt these cells
A5: Hoofdapotheker : | I5: Adapt these cells
A6: Auditeur naam : | I6: Adapt these cells
C7: Max | D7: Score
A8: Total score | C8: ='proces aankoop '!L3 -> 3 | D8: ='proces aankoop '!M3 -> 3 | K8: Make sure total is correct | L8: Make sure total is correct
A9: ='proces aankoop '!A7 -> I | B9: ='proces aankoop '!B7 -> Kwaliteitsopvolging van het aankoopproces | C9: ='proces aankoop '!L7 -> 3 | D9: ='proces aankoop '!M7 -> 3 | H9: Copy Paste visible cells from questionnaire sheet | I9: Copy Paste visible cells from questionnaire sheet | J9: Copy Paste visible cells from questionnaire sheet | K9: Copy Paste visible cells from questionnaire sheet | L9: Copy Paste visible cells from questionnaire sheet
A10: ='proces aankoop '!A13 -> II | B10: ='proces aankoop '!B13 -> Algemeen | C10: ='proces aankoop '!L13 -> 0 | D10: ='proces aankoop '!M13 -> 0 | H10: Copy Paste visible cells from questionnaire sheet | I10: Copy Paste visible cells from questionnaire sheet | J10: Copy Paste visible cells from questionnaire sheet | K10: Copy Paste visible cells from questionnaire sheet | L10: Copy Paste visible cells from questionnaire sheet
A11: ='proces aankoop '!A39 -> III | B11: ='proces aankoop '!B39 -> Behoeftebepaling | C11: ='proces aankoop '!L39 -> 0 | D11: ='proces aankoop '!M39 -> 0 | H11: Copy Paste visible cells from questionnaire sheet | I11: Copy Paste visible cells from questionnaire sheet | J11: Copy Paste visible cells from questionnaire sheet | K11: Copy Paste visible cells from questionnaire sheet | L11: Copy Paste visible cells from questionnaire sheet
A12: ='proces aankoop '!A47 -> IV | B12: ='proces aankoop '!B47 -> Selectie van de leveranciers | C12: ='proces aankoop '!L47 -> 0 | D12: ='proces aankoop '!M47 -> 0 | H12: Copy Paste visible cells from questionnaire sheet | I12: Copy Paste visible cells from questionnaire sheet | J12: Copy Paste visible cells from questionnaire sheet | K12: Copy Paste visible cells from questionnaire sheet | L12: Copy Paste visible cells from questionnaire sheet
A13: ='proces aankoop '!A52 -> V | B13: ='proces aankoop '!B52 -> Selectie product | C13: ='proces aankoop '!L52 -> 0 | D13: ='proces aankoop '!M52 -> 0
A14: ='proces aankoop '!A59 -> VI | B14: ='proces aankoop '!B59 -> Contractering | C14: ='proces aankoop '!L59 -> 0 | D14: ='proces aankoop '!M59 -> 0
A15: ='proces aankoop '!A65 -> VII | B15: ='proces aankoop '!B65 -> Bestelling | C15: ='proces aankoop '!L65 -> 0 | D15: ='proces aankoop '!M65 -> 0
A16: ='proces aankoop '!A91 -> VIII | B16: ='proces aankoop '!B91 -> Ontvangst | C16: ='proces aankoop '!L91 -> 0 | D16: ='proces aankoop '!M91 -> 0 | H16: Copy Paste visible cells from questionnaire sheet | I16: Copy Paste visible cells from questionnaire sheet | J16: Copy Paste visible cells from questionnaire sheet | K16: Copy Paste visible cells from questionnaire sheet | L16: Copy Paste visible cells from questionnaire sheet
A17: ='proces aankoop '!A117 -> IX | B17: ='proces aankoop '!B117 -> Facturatie | C17: ='proces aankoop '!L117 -> 0 | D17: ='proces aankoop '!M117 -> 0 | H17: Copy Paste visible cells from questionnaire sheet | I17: Copy Paste visible cells from questionnaire sheet | J17: Copy Paste visible cells from questionnaire sheet | K17: Copy Paste visible cells from questionnaire sheet | L17: Copy Paste visible cells from questionnaire sheet
A18: ='proces aankoop '!A127 -> X | B18: ='proces aankoop '!B127 -> Evaluatie leverancier | C18: ='proces aankoop '!L127 -> 0 | D18: ='proces aankoop '!M127 -> 0
A19: ='proces aankoop '!A138 -> XI | B19: ='proces aankoop '!B138 -> archivering en contractbeheer | C19: ='proces aankoop '!L138 -> 0 | D19: ='proces aankoop '!M138 -> 0 | H19: Copy Paste visible cells from questionnaire sheet | I19: Copy Paste visible cells from questionnaire sheet | J19: Copy Paste visible cells from questionnaire sheet | K19: Copy Paste visible cells from questionnaire sheet | L19: Copy Paste visible cells from questionnaire sheet
A42: Handtekeningen
A44: Hoofdapotheker | I44: Change name & signature
A47: Auditeur naam : | I47: Change name & signature
B51: MAEIA Aankoop Rapport
A78: Sterke punten
A79: 1
A80: 2
A81: 3
A82: 4
A83: 5
A84: 6
A85: Tekortkomingen niveau 1
A86: 1
A87: 2
A88: 3
A89: 4
A90: 5
A91: 6
A92: Verbeterpunten niveau 2
A93: 1
A94: 2
A95: 3
...

Sheet actiepunten auditee
A3: Actiepunt | B3: Nummer | C3: ..… | D3: Oorsprong :
D4: o Tekortkoming niveau 1
D5: o Verbeterpunt niveau 2
D6: o Verbeterpunt niveau 3
D7: o Observatie
A8: Geaudit proces | B8: AANKOOP
A9: Auditdatum | B9: …../…../….. | D9: Auditor | E9: ……………………………………………
A10: Auditee | B10: ………………………………………………………………………………..
A11: Omschrijving van de tekortkoming / verbeterpunt / observatie
A12: Voorgestelde maatregel door de auditee | B12: Oorzaak
B15: Actie
B21: Verantwoordelijke
B23: Termijn
A26: Opvolgrapport
A27: (cumulatief)
A44: Conclusie

Sheet Mapping
B4: MAPPING TABLE | G4: points
B5: Base points | C5: Niveau | D5: Extra gewicht factor | E5: Antwoord | F5: Code | G5: Total | H5: Score | M5: Somme | P5: Speedometer | R5: Pointer
A6: Ja Groep | B6: 1 | C6: 3 | D6: X3 | E6: Ja | F6: =C6&D6&E6 -> 3X3Ja | G6: 3 | H6: 3 | L6: Ja | M6: =COUNTIF('proces aankoop '!$G:$G,Mapping!$L6) -> 2 | P6: Start | Q6: 0 | R6: Value | S6: =+ROUND(M11/M10,2)*100 -> 100
A7: Ja Groep | B7: 1 | C7: 3 | D7: X2 | E7: Ja | F7: =C7&D7&E7 -> 3X2Ja | G7: 2 | H7: 2 | L7: Neen | M7: =COUNTIF('proces aankoop '!$G:$G,Mapping!$L7) -> 1 | P7: Initial | Q7: 60 | R7: Pointer | S7: 1
A8: Ja Groep | B8: 1 | C8: 3 | D8: X1 | E8: Ja | F8: =C8&D8&E8 -> 3X1Ja | G8: 1 | H8: 1 | L8: NVT | M8: =COUNTIF('proces aankoop '!$G:$G,Mapping!$L8) -> 1 | P8: Middle | Q8: 30 | R8: end | S8: =200-S7-S6 -> 99
A9: Ja Groep | B9: 1 | C9: 3 | D9: X0,33 | E9: Ja | F9: =C9&D9&E9 -> 3X0,33Ja | G9: =1/3 -> 0.33333333 | H9: =1/3 -> 0.33333333 | L9: Somme | M9: =SUM(M6:M8) -> 4 | P9: End | Q9: 10
A10: Ja Groep | B10: 1 | C10: 3 | D10: X0,66 | E10: Ja | F10: =C10&D10&E10 -> 3X0,66Ja | G10: =2/3 -> 0.66666667 | H10: =2/3 -> 0.66666667 | L10: Total | M10: ='proces aankoop '!$L$3 -> 3 | P10: Max | Q10: 100
A11: Ja Groep | B11: 1 | C11: 3 | D11: X1 | E11: Ja | F11: =C11&D11&E11 -> 3X1Ja | G11: 1 | H11: 1 | L11: Score | M11: ='proces aankoop '!$M$3 -> 3
A12: Ja Groep | B12: 3 | C12: 2 | D12: X3 | E12: Ja | F12: =C12&D12&E12 -> 2X3Ja | G12: 9 | H12: 9 | S12: ="Total Score : "&S6&"%" -> Total Score : 100%
A13: Ja Groep | B13: 3 | C13: 2 | D13: X2 | E13: Ja | F13: =C13&D13&E13 -> 2X2Ja | G13: 6 | H13: 6
A14: Ja Groep | B14: 3 | C14: 2 | D14: X1 | E14: Ja | F14: =C14&D14&E14 -> 2X1Ja | G14: 3 | H14: 3 | L14: ROUGE | M14: 60
A15: Ja Groep | B15: 3 | C15: 2 | D15: X0,33 | E15: Ja | F15: =C15&D15&E15 -> 2X0,33Ja | G15: 1 | H15: 1 | L15: ORANGE | M15: 30
A16: Ja Groep | B16: 3 | C16: 2 | D16: X0,66 | E16: Ja | F16: =C16&D16&E16 -> 2X0,66Ja | G16: 2 | H16: 2 | L16: VERT | M16: 10
A17: Ja Groep | B17: 3 | C17: 2 | D17: X1 | E17: Ja | F17: =C17&D17&E17 -> 2X1Ja | G17: 3 | H17: 3 | L17: Invisible | M17: 100
A18: Ja Groep | B18: 6 | C18: 1 | D18: X3 | E18: Ja | F18: =C18&D18&E18 -> 1X3Ja | G18: 18 | H18: 18
A19: Ja Groep | B19: 6 | C19: 1 | D19: X2 | E19: Ja | F19: =C19&D19&E19 -> 1X2Ja | G19: 12 | H19: 12
A20: Ja Groep | B20: 6 | C20: 1 | D20: X1 | E20: Ja | F20: =C20&D20&E20 -> 1X1Ja | G20: 6 | H20: 6 | L20: Aiguille | M20: =M7/M9 -> 0.25
A21: Ja Groep | B21: 6 | C21: 1 | D21: X0,33 | E21: Ja | F21: =C21&D21&E21 -> 1X0,33Ja | G21: 2 | H21: 2 | L21: Largeur | M21: 1
A22: Ja Groep | B22: 6 | C22: 1 | D22: X0,66 | E22: Ja | F22: =C22&D22&E22 -> 1X0,66Ja | G22: 4 | H22: 4 | L22: Invisible | M22: =SUM(M14:M17)-(M21+M20) -> 198.75
A23: Ja Groep | B23: 6 | C23: 1 | D23: X1 | E23: Ja | F23: =C23&D23&E23 -> 1X1Ja | G23: 6 | H23: 6
A24: Neen groep | B24: 1 | C24: 3 | D24: X3 | E24: Neen | F24: =C24&D24&E24 -> 3X3Neen | G24: 3 | H24: 0 | L24: RIEN
A25: Neen groep | B25: 1 | C25: 3 | D25: X2 | E25: Neen | F25: =C25&D25&E25 -> 3X2Neen | G25: 2 | H25: 0 | L25: Aiguille | M25: =ROUND(M20,0)&"%" -> 0%
A26: Neen groep | B26: 1 | C26: 3 | D26: X1 | E26: Neen | F26: =C26&D26&E26 -> 3X1Neen | G26: 1 | H26: 0 | L26: RIEN
A27: Neen groep | B27: 1 | C27: 3 | D27: X0,33 | E27: Neen | F27: =C27&D27&E27 -> 3X0,33Neen | G27: =1/3 -> 0.33333333 | H27: 0
A28: Neen groep | B28: 1 | C28: 3 | D28: X0,66 | E28: Neen | F28: =C28&D28&E28 -> 3X0,66Neen | G28: =2/3 -> 0.66666667 | H28: 0
A29: Neen groep | B29: 1 | C29: 3 | D29: X1 | E29: Neen | F29: =C29&D29&E29 -> 3X1Neen | G29: 1 | H29: 0
A30: Neen groep | B30: 3 | C30: 2 | D30: X3 | E30: Neen | F30: =C30&D30&E30 -> 2X3Neen | G30: 9 | H30: 0
A31: Neen groep | B31: 3 | C31: 2 | D31: X2 | E31: Neen | F31: =C31&D31&E31 -> 2X2Neen | G31: 6 | H31: 0
A32: Neen groep | B32: 3 | C32: 2 | D32: X1 | E32: Neen | F32: =C32&D32&E32 -> 2X1Neen | G32: 3 | H32: 0
A33: Neen groep | B33: 3 | C33: 2 | D33: X0,33 | E33: Neen | F33: =C33&D33&E33 -> 2X0,33Neen | G33: 1 | H33: 0
A34: Neen groep | B34: 3 | C34: 2 | D34: X0,66 | E34: Neen | F34: =C34&D34&E34 -> 2X0,66Neen | G34: 2 | H34: 0
A35: Neen groep | B35: 3 | C35: 2 | D35: X1 | E35: Neen | F35: =C35&D35&E35 -> 2X1Neen | G35: 3 | H35: 0
A36: Neen groep | B36: 6 | C36: 1 | D36: X3 | E36: Neen | F36: =C36&D36&E36 -> 1X3Neen | G36: 18 | H36: 0
A37: Neen groep | B37: 6 | C37: 1 | D37: X2 | E37: Neen | F37: =C37&D37&E37 -> 1X2Neen | G37: 12 | H37: 0
A38: Neen groep | B38: 6 | C38: 1 | D38: X1 | E38: Neen | F38: =C38&D38&E38 -> 1X1Neen | G38: 6 | H38: 0
A39: Neen groep | B39: 6 | C39: 1 | D39: X0,33 | E39: Neen | F39: =C39&D39&E39 -> 1X0,33Neen | G39: 2 | H39: 0
A40: Neen groep | B40: 6 | C40: 1 | D40: X0,66 | E40: Neen | F40: =C40&D40&E40 -> 1X0,66Neen | G40: 4 | H40: 0
... A59: NVT groep | B59: 6 | C59: 1 | D59: X1 | E59: NVT | F59: =C59&D59&E59 -> 1X1NVT | G59: 0 | H59: 0
