Workbook

Sheet Inleiding Sterilisatie
A1: INLEIDING STERILISATIE
A3: Text to be inserted
A5: Text to be inserted

Sheet algemene inleiding

Sheet expertenteam

Sheet proces sterilisatie 
A2: V3.0 | B2: ALGEMENE TIJTEL | C2: NIVEAU | D2: Referentie | E2: ter info: artikelnummer, §, pagina | G2: ANTWOORD | H2: OPMERKINGEN | J2: extra factor gewicht | L2: TOTAL | M2: SCORE
D3: Voorbeelden | H3: OPMERKINGEN | L3: =SUBTOTAL(9,L7:L262) -> 563 | M3: =SUBTOTAL(9,M7:M262) -> 282.66667
C4: 1 = WETGEVING (= 6 punten) | D4: KB 19910304 | E4: art12.§1 | G4: Ja
C5: 2 = RICHTLIJNEN, NORMEN, AANBEVELINGEN (= 3 punten) | D5: EN 13485 ISO 9001 | G5: Neen
C6: 3 = GOOD PRACTICE (= 1 punt) | G6: NVT | K6: Code | L6: Total | M6: Score
A7: I | B7: Kwaliteitsopvolging van het sterilisatieproces | C7: Progress :: | G7: =SUBTOTAL(3,G10:G13)/SUBTOTAL(3,C10:C13) -> 1 | L7: =SUBTOTAL(9,L10:L13) -> 6 | M7: =SUBTOTAL(9,M10:M13) -> 4
B8: VRAAG
B9: Controleer altijd de documentatie en de toepassing op de werkvloer.
A10: 1 | B10: Werden alle gebreken, disfuncties en zwakke punten van niveau 1 die bij de vorige audit werden vastgesteld adequaat opgevolgd? | C10: 3 | D10: Good Practice | G10: Ja | J10: X3 | K10: =C10&J10&G10 -> 3X3Ja | L10: =IFERROR(VLOOKUP($K10,Mapping!$F:$H,2,0),"") -> 3 | M10: =IFERROR(VLOOKUP($K10,Mapping!$F:$H,3,0),"") -> 3 | N10: =C10&G10 -> 3Ja
A11: 2 | B11: Werden alle gebreken, disfuncties en zwakke punten van niveau 2 die bij de vorige audit werden vastgesteld adequaat opgevolgd? | C11: 3 | D11: Good Practice | G11: Neen | J11: X2 | K11: =C11&J11&G11 -> 3X2Neen | L11: =IFERROR(VLOOKUP($K11,Mapping!F:H,2,0),"") -> 2 | M11: =IFERROR(VLOOKUP($K11,Mapping!$F:$H,3,0),"") -> 0 | N11: =C11&G11 -> 3Neen
A12: 3 | B12: Werden alle gebreken, disfuncties en zwakke punten van niveau 3 die bij de vorige audit werden vastgesteld adequaat opgevolgd? | C12: 3 | D12: Good Practice | G12: NVT | J12: X1 | K12: =C12&J12&G12 -> 3X1NVT | L12: =IFERROR(VLOOKUP($K12,Mapping!F:H,2,0),"") -> 0 | M12: =IFERROR(VLOOKUP($K12,Mapping!$F:$H,3,0),"") -> 0 | N12: =C12&G12 -> 3NVT
A13: 4 | B13: Werden de corrigerende en preventieve maatregelen met succes geïmplementeerd? | C13: 3 | D13: Good Practice | G13: Ja | J13: X1 | K13: =C13&J13&G13 -> 3X1Ja | L13: =IFERROR(VLOOKUP($K13,Mapping!F:H,2,0),"") -> 1 | M13: =IFERROR(VLOOKUP($K13,Mapping!$F:$H,3,0),"") -> 1 | N13: =C13&G13 -> 3Ja
A14: II | B14: Algemeen | C14: Progress :: | G14: =SUBTOTAL(3,G17:G53)/(SUBTOTAL(3,C17:C53)-3) -> 1 | L14: =SUBTOTAL(9,L17:L53) -> 132 | M14: =SUBTOTAL(9,M17:M53) -> 75
B15: VRAAG
B16: Controleer altijd de documentatie en de toepassing op de werkvloer.
A17: a | B17: Beheer sterilisatie | C17: Progress :: | G17: =SUBTOTAL(3,G18:G20)/SUBTOTAL(3,C18:C20) -> 1 | L17: =SUBTOTAL(9,L18:L20) -> 8 | M17: =SUBTOTAL(9,M18:M20) -> 8
A18: 1 | B18: Is er een centraal beheer van de sterilisatieactiviteiten in het ziekenhuis? | C18: 1 | D18: KB 30 sept 2020 - bijlage IIa | G18: Ja | J18: X1 | K18: =C18&J18&G18 -> 1X1Ja | L18: =IFERROR(VLOOKUP($K18,Mapping!F:H,2,0),"") -> 6 | M18: =IFERROR(VLOOKUP($K18,Mapping!$F:$H,3,0),"") -> 6 | N18: =C18&G18 -> 1Ja
A19: 2 | B19: Is de CSA een autonome medisch-technische afdeling onafhankelijk van het operatiekwartier? | C19: 3 | D19: Good Practice | G19: Ja | J19: X1 | K19: =C19&J19&G19 -> 3X1Ja | L19: =IFERROR(VLOOKUP($K19,Mapping!F:H,2,0),"") -> 1 | M19: =IFERROR(VLOOKUP($K19,Mapping!$F:$H,3,0),"") -> 1 | N19: =C19&G19 -> 3Ja
A20: 3 | B20: Gebeuren de decentrale sterilisatieactiviteiten, indien aanwezig in het ziekenhuis, onder toezicht van de CSA? | C20: 3 | D20: Good Practice | G20: Ja | J20: X1 | K20: =C20&J20&G20 -> 3X1Ja | L20: =IFERROR(VLOOKUP($K20,Mapping!F:H,2,0),"") -> 1 | M20: =IFERROR(VLOOKUP($K20,Mapping!$F:$H,3,0),"") -> 1 | N20: =C20&G20 -> 3Ja
A21: b | B21: Praktische organisatie sterilisatie | C21: Progress :: | G21: =SUBTOTAL(3,G22:G33)/SUBTOTAL(3,C22:C33) -> 1 | L21: =SUBTOTAL(9,L22:L33) -> 63 | M21: =SUBTOTAL(9,M22:M33) -> 36
A22: 1 | B22: Is er een bij naam aangeduide ziekenhuisapotheker verantwoordelijk voor de kwaliteitsbewaking op CSA (zichtbaar organigram)? | C22: 1 | D22: KB 4 maart 1991 | G22: Ja | J22: X1 | K22: =C22&J22&G22 -> 1X1Ja | L22: =IFERROR(VLOOKUP($K22,Mapping!F:H,2,0),"") -> 6 | M22: =IFERROR(VLOOKUP($K22,Mapping!$F:$H,3,0),"") -> 6 | N22: =C22&G22 -> 1Ja
A23: 2 | B23: Heeft de leidinggevende van CSA een bachelor opleiding verpleegkunde en een specifieke opleiding in CSA-management? | C23: 1 | D23: KB 30 sept 2020 - bijlage IIa | G23: Ja | J23: X1 | K23: =C23&J23&G23 -> 1X1Ja | L23: =IFERROR(VLOOKUP($K23,Mapping!F:H,2,0),"") -> 6 | M23: =IFERROR(VLOOKUP($K23,Mapping!$F:$H,3,0),"") -> 6 | N23: =C23&G23 -> 1Ja
A24: 3 | B24: Zijn de organisatorische en/of hiërarchische relaties tussen de apotheker die verantwoordelijk is voor de kwaliteitsbewaking en de operationele verantwoordelijke gedefinieerd in het organigram van het ziekenhuis, zowel op het vlak van de functies als van de verantwoordelijkheden? | C24: 2 | D24: JCI | G24: Neen | J24: X1 | K24: =C24&J24&G24 -> 2X1Neen | L24: =IFERROR(VLOOKUP($K24,Mapping!F:H,2,0),"") -> 3 | M24: =IFERROR(VLOOKUP($K24,Mapping!$F:$H,3,0),"") -> 0 | N24: =C24&G24 -> 2Neen
A25: 4 | B25: Is er altijd een sterilisatiedeskundige (personeelslid met specifieke opleiding sterilisatie) aanwezig bij elke sterilisatie? | C25: 1 | D25: KB 30 sept 2020 - bijlage IIa | G25: Neen | J25: X1 | K25: =C25&J25&G25 -> 1X1Neen | L25: =IFERROR(VLOOKUP($K25,Mapping!F:H,2,0),"") -> 6 | M25: =IFERROR(VLOOKUP($K25,Mapping!$F:$H,3,0),"") -> 0 | N25: =C25&G25 -> 1Neen
A26: 5 | B26: Staat het aantal personeelsleden in de CSA in verhouding tot het aantal en de aard van de activiteiten in het ziekenhuis? | C26: 1 | D26: KB 30 sept 2020 - bijlage IIa | G26: NVT | J26: X1 | K26: =C26&J26&G26 -> 1X1NVT | L26: =IFERROR(VLOOKUP($K26,Mapping!F:H,2,0),"") -> 0 | M26: =IFERROR(VLOOKUP($K26,Mapping!$F:$H,3,0),"") -> 0 | N26: =C26&G26 -> 1NVT
A27: 6 | B27: Is er een werkplanning aanwezig in functie van de activiteit? | C27: 1 | D27: KB 30 sept 2020 - bijlage IIa | G27: Ja | J27: X1 | K27: =C27&J27&G27 -> 1X1Ja | L27: =IFERROR(VLOOKUP($K27,Mapping!F:H,2,0),"") -> 6 | M27: =IFERROR(VLOOKUP($K27,Mapping!$F:$H,3,0),"") -> 6 | N27: =C27&G27 -> 1Ja
A28: 7 | B28: Is er een procedure voor de activiteiten buiten de openingsuren van de CSA? | C28: 1 | D28: KB 30 sept 2020 - bijlage IIa | G28: Ja | J28: X1 | K28: =C28&J28&G28 -> 1X1Ja | L28: =IFERROR(VLOOKUP($K28,Mapping!F:H,2,0),"") -> 6 | M28: =IFERROR(VLOOKUP($K28,Mapping!$F:$H,3,0),"") -> 6 | N28: =C28&G28 -> 1Ja
A29: 8 | B29: Is er een SLA met de technische dienst (TD) van het ziekenhuis? | C29: 1 | D29: KB 30 sept 2020 - bijlage IIa | G29: Ja | J29: X1 | K29: =C29&J29&G29 -> 1X1Ja | L29: =IFERROR(VLOOKUP($K29,Mapping!F:H,2,0),"") -> 6 | M29: =IFERROR(VLOOKUP($K29,Mapping!$F:$H,3,0),"") -> 6 | N29: =C29&G29 -> 1Ja
A30: 9 | B30: Heeft het personeel van de technische dienst (TD) een specifieke opleiding genoten om dringende interventies uit te voeren? | C30: 1 | D30: HGR 2022 | G30: Ja | J30: X1 | K30: =C30&J30&G30 -> 1X1Ja | L30: =IFERROR(VLOOKUP($K30,Mapping!F:H,2,0),"") -> 6 | M30: =IFERROR(VLOOKUP($K30,Mapping!$F:$H,3,0),"") -> 6 | N30: =C30&G30 -> 1Ja
A31: 10 | B31: Zijn alle procedures goedgekeurd door het Comité voor Ziekenhuishygiëne (CZH)? | C31: 1 | D31: KB 17 juni 2007 | G31: Neen | J31: X1 | K31: =C31&J31&G31 -> 1X1Neen | L31: =IFERROR(VLOOKUP($K31,Mapping!F:H,2,0),"") -> 6 | M31: =IFERROR(VLOOKUP($K31,Mapping!$F:$H,3,0),"") -> 0 | N31: =C31&G31 -> 1Neen
A32: 11 | B32: Is er een SLA met de dienst ICT? (traceersysteem, backup,...) | C32: 1 | D32: HGR 2022 | G32: Neen | J32: X1 | K32: =C32&J32&G32 -> 1X1Neen | L32: =IFERROR(VLOOKUP($K32,Mapping!F:H,2,0),"") -> 6 | M32: =IFERROR(VLOOKUP($K32,Mapping!$F:$H,3,0),"") -> 0 | N32: =C32&G32 -> 1Neen
A33: 12 | B33: Wordt er een permanente vorming voorzien bij implementatie van gewijzigde of nieuwe processen? (opleidingsplan) | C33: 1 | D33: HGR 2022 | G33: Neen | J33: X1 | K33: =C33&J33&G33 -> 1X1Neen | L33: =IFERROR(VLOOKUP($K33,Mapping!F:H,2,0),"") -> 6 | M33: =IFERROR(VLOOKUP($K33,Mapping!$F:$H,3,0),"") -> 0 | N33: =C33&G33 -> 1Neen
A34: c | B34: Flow (architectuur, hygiëne, uitrusting,…) | C34: Progress :: | G34: =SUBTOTAL(3,G35:G53)/SUBTOTAL(3,C35:C53) -> 1 | L34: =SUBTOTAL(9,L35:L53) -> 61 | M34: =SUBTOTAL(9,M35:M53) -> 31
A35: 1 | B35: Zijn er drie afgescheiden zones op de CSA (reiniging en desinfectie, conditionering en vrijgave)? | C35: 1 | D35: KB 30 sept 2020 - bijlage IIa | G35: Neen | J35: X1 | K35: =C35&J35&G35 -> 1X1Neen | L35: =IFERROR(VLOOKUP($K35,Mapping!F:H,2,0),"") -> 6 | M35: =IFERROR(VLOOKUP($K35,Mapping!$F:$H,3,0),"") -> 0 | N35: =C35&G35 -> 1Neen
A36: 2 | B36: Is de toegang tot de reinigings- en desinfectiezone voorzien van een sas? | C36: 1 | D36: KB 30 sept 2020 - bijlage IIa | G36: Neen | J36: X1 | K36: =C36&J36&G36 -> 1X1Neen | L36: =IFERROR(VLOOKUP($K36,Mapping!F:H,2,0),"") -> 6 | M36: =IFERROR(VLOOKUP($K36,Mapping!$F:$H,3,0),"") -> 0 | N36: =C36&G36 -> 1Neen
A37: 3 | B37: Is de toegang tot de entiteit conditioneringszone voorzien van een sas? | C37: 1 | D37: HGR 2022 | G37: Neen | J37: X1 | K37: =C37&J37&G37 -> 1X1Neen | L37: =IFERROR(VLOOKUP($K37,Mapping!F:H,2,0),"") -> 6 | M37: =IFERROR(VLOOKUP($K37,Mapping!$F:$H,3,0),"") -> 0 | N37: =C37&G37 -> 1Neen
A38: 4 | B38: Is de toegang tot de entiteit vrijgavezone voorzien van een sas? | C38: 1 | D38: HGR 2022 | G38: Neen | J38: X1 | K38: =C38&J38&G38 -> 1X1Neen | L38: =IFERROR(VLOOKUP($K38,Mapping!F:H,2,0),"") -> 6 | M38: =IFERROR(VLOOKUP($K38,Mapping!$F:$H,3,0),"") -> 0 | N38: =C38&G38 -> 1Neen
A39: 5 | B39: Is de kans op kruisbesmetting uitgesloten tijdens de hele flow van de MH op CSA (maw is er een scheiding tussen de gecontamineerde en steriele MH) ? | C39: 1 | D39: HGR 2022 | G39: Neen | J39: X1 | K39: =C39&J39&G39 -> 1X1Neen | L39: =IFERROR(VLOOKUP($K39,Mapping!F:H,2,0),"") -> 6 | M39: =IFERROR(VLOOKUP($K39,Mapping!$F:$H,3,0),"") -> 0 | N39: =C39&G39 -> 1Neen
A40: 6 | B40: Is de toegang tot de sterilisatie beperkt tot bevoegde personen? | C40: 1 | D40: KB 30 sept 2020 - bijlage IIa | G40: NVT | J40: X1 | K40: =C40&J40&G40 -> 1X1NVT | L40: =IFERROR(VLOOKUP($K40,Mapping!F:H,2,0),"") -> 0 | M40: =IFERROR(VLOOKUP($K40,Mapping!$F:$H,3,0),"") -> 0 | N40: =C40&G40 -> 1NVT
A41: 7 | B41: Is er een luchtbeheersing onder de vorm van: ISO8, drukverschillen, luchtverversingen, temperatuur, luchtvochtigheid,…)? | C41: 1 | D41: KB 30 sept 2020 - bijlage IIa | G41: NVT | J41: X1 | K41: =C41&J41&G41 -> 1X1NVT | L41: =IFERROR(VLOOKUP($K41,Mapping!F:H,2,0),"") -> 0 | M41: =IFERROR(VLOOKUP($K41,Mapping!$F:$H,3,0),"") -> 0 | N41: =C41&G41 -> 1NVT
...

Sheet Rapport
B1: MAEIA Sterilization Rapport
A3: Date : | B3: 44907 | I3: Adapt these cells
A4: Ziekenhuis : | B4: Ziekenhuis Abc | I4: Adapt these cells
A5: Hoofdapotheker : | B5: Kirk Hamett | I5: Adapt these cells
A6: Auditeur naam : | B6: James Hetfield | I6: Adapt these cells
C7: Max | D7: Score
A8: Total score | C8: ='proces sterilisatie '!L3 -> 563 | D8: ='proces sterilisatie '!M3 -> 282.66667 | K8: Make sure total is correct | L8: Make sure total is correct
A9: ='proces sterilisatie '!A7 -> I | B9: ='proces sterilisatie '!B7 -> Kwaliteitsopvolging van het sterilisatieproces | C9: ='proces sterilisatie '!L7 -> 6 | D9: ='proces sterilisatie '!M7 -> 4 | H9: Copy Paste visible cells from questionnaire sheet | I9: Copy Paste visible cells from questionnaire sheet | J9: Copy Paste visible cells from questionnaire sheet | K9: Copy Paste visible cells from questionnaire sheet | L9: Copy Paste visible cells from questionnaire sheet
A10: ='proces sterilisatie '!A14 -> II | B10: ='proces sterilisatie '!B14 -> Algemeen | C10: ='proces sterilisatie '!L14 -> 132 | D10: ='proces sterilisatie '!M14 -> 75 | H10: Copy Paste visible cells from questionnaire sheet | I10: Copy Paste visible cells from questionnaire sheet | J10: Copy Paste visible cells from questionnaire sheet | K10: Copy Paste visible cells from questionnaire sheet | L10: Copy Paste visible cells from questionnaire sheet
A11: ='proces sterilisatie '!A17 -> a | B11: ='proces sterilisatie '!B17 -> Beheer sterilisatie | C11: ='proces sterilisatie '!L17 -> 8 | D11: ='proces sterilisatie '!M17 -> 8 | H11: Copy Paste visible cells from questionnaire sheet | I11: Copy Paste visible cells from questionnaire sheet | J11: Copy Paste visible cells from questionnaire sheet | K11: Copy Paste visible cells from questionnaire sheet | L11: Copy Paste visible cells from questionnaire sheet
A12: ='proces sterilisatie '!A21 -> b | B12: ='proces sterilisatie '!B21 -> Praktische organisatie sterilisatie | C12: ='proces sterilisatie '!L21 -> 63 | D12: ='proces sterilisatie '!M21 -> 36 | H12: Copy Paste visible cells from questionnaire sheet | I12: Copy Paste visible cells from questionnaire sheet | J12: Copy Paste visible cells from questionnaire sheet | K12: Copy Paste visible cells from questionnaire sheet | L12: Copy Paste visible cells from questionnaire sheet
A13: ='proces sterilisatie '!A34 -> c | B13: ='proces sterilisatie '!B34 -> Flow (architectuur, hygiëne, uitrusting,…) | C13: ='proces sterilisatie '!L34 -> 61 | D13: ='proces sterilisatie '!M34 -> 31 | H13: Copy Paste visible cells from questionnaire sheet | I13: Copy Paste visible cells from questionnaire sheet | J13: Copy Paste visible cells from questionnaire sheet | K13: Copy Paste visible cells from questionnaire sheet | L13: Copy Paste visible cells from questionnaire sheet
A14: ='proces sterilisatie '!A54 -> III | B14: ='proces sterilisatie '!B54 -> Beheer proces | C14: ='proces sterilisatie '!L54 -> 142 | D14: ='proces sterilisatie '!M54 -> 73 | H14: Copy Paste visible cells from questionnaire sheet | I14: Copy Paste visible cells from questionnaire sheet | J14: Copy Paste visible cells from questionnaire sheet | K14: Copy Paste visible cells from questionnaire sheet | L14: Copy Paste visible cells from questionnaire sheet
A15: ='proces sterilisatie '!A57 -> a | B15: ='proces sterilisatie '!B57 -> Validatie | C15: ='proces sterilisatie '!L57 -> 14 | D15: ='proces sterilisatie '!M57 -> 0 | H15: Copy Paste visible cells from questionnaire sheet | I15: Copy Paste visible cells from questionnaire sheet | J15: Copy Paste visible cells from questionnaire sheet | K15: Copy Paste visible cells from questionnaire sheet | L15: Copy Paste visible cells from questionnaire sheet
A16: ='proces sterilisatie '!A62 -> b | B16: ='proces sterilisatie '!B62 -> Kwaliteit | C16: ='proces sterilisatie '!L62 -> 115 | D16: ='proces sterilisatie '!M62 -> 73 | H16: Copy Paste visible cells from questionnaire sheet | I16: Copy Paste visible cells from questionnaire sheet | J16: Copy Paste visible cells from questionnaire sheet | K16: Copy Paste visible cells from questionnaire sheet | L16: Copy Paste visible cells from questionnaire sheet
A17: ='proces sterilisatie '!A83 -> c | B17: ='proces sterilisatie '!B83 -> Traceersysteem | C17: ='proces sterilisatie '!L83 -> 13 | D17: ='proces sterilisatie '!M83 -> 0 | H17: Copy Paste visible cells from questionnaire sheet | I17: Copy Paste visible cells from questionnaire sheet | J17: Copy Paste visible cells from questionnaire sheet | K17: Copy Paste visible cells from questionnaire sheet | L17: Copy Paste visible cells from questionnaire sheet
A18: ='proces sterilisatie '!A87 -> IV | B18: ='proces sterilisatie '!B87 -> Reiniging en desinfectie | C18: ='proces sterilisatie '!L87 -> 49 | D18: ='proces sterilisatie '!M87 -> 0 | H18: Copy Paste visible cells from questionnaire sheet | I18: Copy Paste visible cells from questionnaire sheet | J18: Copy Paste visible cells from questionnaire sheet | K18: Copy Paste visible cells from questionnaire sheet | L18: Copy Paste visible cells from questionnaire sheet
A19: ='proces sterilisatie '!A100 -> V | B19: ='proces sterilisatie '!B100 -> Conditionering | C19: ='proces sterilisatie '!L100 -> 24 | D19: ='proces sterilisatie '!M100 -> 0 | H19: Copy Paste visible cells from questionnaire sheet | I19: Copy Paste visible cells from questionnaire sheet | J19: Copy Paste visible cells from questionnaire sheet | K19: Copy Paste visible cells from questionnaire sheet | L19: Copy Paste visible cells from questionnaire sheet
A20: ='proces sterilisatie '!A115 -> VI | B20: ='proces sterilisatie '!B115 -> Sterilsatieprocessen | C20: ='proces sterilisatie '!L115 -> 62 | D20: ='proces sterilisatie '!M115 -> 18.666667 | H20: Copy Paste visible cells from questionnaire sheet | I20: Copy Paste visible cells from questionnaire sheet | J20: Copy Paste visible cells from questionnaire sheet | K20: Copy Paste visible cells from questionnaire sheet | L20: Copy Paste visible cells from questionnaire sheet
A21: ='proces sterilisatie '!A118 -> a | B21: ='proces sterilisatie '!B118 -> Hoge temperatuur sterilisatie | C21: ='proces sterilisatie '!L118 -> 44 | D21: ='proces sterilisatie '!M118 -> 0.66666667 | H21: Copy Paste visible cells from questionnaire sheet | I21: Copy Paste visible cells from questionnaire sheet | J21: Copy Paste visible cells from questionnaire sheet | K21: Copy Paste visible cells from questionnaire sheet | L21: Copy Paste visible cells from questionnaire sheet
A22: ='proces sterilisatie '!A130 -> b | B22: ='proces sterilisatie '!B130 -> lage temperatuur sterilisatie | C22: ='proces sterilisatie '!L130 -> 18 | D22: ='proces sterilisatie '!M130 -> 18 | H22: Copy Paste visible cells from questionnaire sheet | I22: Copy Paste visible cells from questionnaire sheet | J22: Copy Paste visible cells from questionnaire sheet | K22: Copy Paste visible cells from questionnaire sheet | L22: Copy Paste visible cells from questionnaire sheet
A23: ='proces sterilisatie '!A134 -> VII | B23: ='proces sterilisatie '!B134 -> Bewaaromstandigheden | C23: ='proces sterilisatie '!L134 -> 45 | D23: ='proces sterilisatie '!M134 -> 45 | H23: Copy Paste visible cells from questionnaire sheet | I23: Copy Paste visible cells from questionnaire sheet | J23: Copy Paste visible cells from questionnaire sheet | K23: Copy Paste visible cells from questionnaire sheet | L23: Copy Paste visible cells from questionnaire sheet
A24: ='proces sterilisatie '!A137 -> a | B24: ='proces sterilisatie '!B137 -> Transport | C24: ='proces sterilisatie '!L137 -> 20 | D24: ='proces sterilisatie '!M137 -> 20 | H24: Copy Paste visible cells from questionnaire sheet | I24: Copy Paste visible cells from questionnaire sheet | J24: Copy Paste visible cells from questionnaire sheet | K24: Copy Paste visible cells from questionnaire sheet | L24: Copy Paste visible cells from questionnaire sheet
A25: ='proces sterilisatie '!A143 -> b | B25: ='proces sterilisatie '!B143 -> opslaglokaal | C25: ='proces sterilisatie '!L143 -> 18 | D25: ='proces sterilisatie '!M143 -> 18 | H25: Copy Paste visible cells from questionnaire sheet | I25: Copy Paste visible cells from questionnaire sheet | J25: Copy Paste visible cells from questionnaire sheet | K25: Copy Paste visible cells from questionnaire sheet | L25: Copy Paste visible cells from questionnaire sheet
A26: ='proces sterilisatie '!A147 -> c | B26: ='proces sterilisatie '!B147 -> Bewaaromstandigheden | C26: ='proces sterilisatie '!L147 -> 7 | D26: ='proces sterilisatie '!M147 -> 7 | H26: Copy Paste visible cells from questionnaire sheet | I26: Copy Paste visible cells from questionnaire sheet | J26: Copy Paste visible cells from questionnaire sheet | K26: Copy Paste visible cells from questionnaire sheet | L26: Copy Paste visible cells from questionnaire sheet
A27: ='proces sterilisatie '!A150 -> VIII | B27: ='proces sterilisatie '!B150 -> Leensets | C27: ='proces sterilisatie '!L150 -> 18 | D27: ='proces sterilisatie '!M150 -> 18 | H27: Copy Paste visible cells from questionnaire sheet | I27: Copy Paste visible cells from questionnaire sheet | J27: Copy Paste visible cells from questionnaire sheet | K27: Copy Paste visible cells from questionnaire sheet | L27: Copy Paste visible cells from questionnaire sheet
A28: ='proces sterilisatie '!A156 -> IX | B28: ='proces sterilisatie '!B156 -> Medische hulpmiddelen éénmalig gebruik | C28: ='proces sterilisatie '!L156 -> 31 | D28: ='proces sterilisatie '!M156 -> 7 | H28: Copy Paste visible cells from questionnaire sheet | I28: Copy Paste visible cells from questionnaire sheet | J28: Copy Paste visible cells from questionnaire sheet | K28: Copy Paste visible cells from questionnaire sheet | L28: Copy Paste visible cells from questionnaire sheet
A29: ='proces sterilisatie '!A165 -> X | B29: ='proces sterilisatie '!B165 -> Uitbesteding | C29: ='proces sterilisatie '!L165 -> 54 | D29: ='proces sterilisatie '!M165 -> 42 | H29: Copy Paste visible cells from questionnaire sheet | I29: Copy Paste visible cells from questionnaire sheet | J29: Copy Paste visible cells from questionnaire sheet | K29: Copy Paste visible cells from questionnaire sheet | L29: Copy Paste visible cells from questionnaire sheet
A52: Handtekeningen
A54: Hoofdapotheker | B54: =B5 -> Kirk Hamett | I54: Change name & signature
A57: Auditeur naam : | B57: =B6 -> James Hetfield | I57: Change name & signature
B61: MAEIA Sterilization Rapport
A88: Sterke punten
A89: 1
A90: 2
A91: 3
A92: 4
A93: 5
A94: 6
A95: Tekortkomingen niveau 1
...

Sheet inleiding endoscopie

Sheet handleiding
A2: Hoe gebruiken we de kwaliteitstool MAEIA?

Sheet inhoudstafel

Sheet Process Endoscopie
A2: VERSIE 20230201 | B2: ENDOSCOPIE | C2: NIVEAU | D2: Referentie | E2: ter info: artikelnummer, §, pagina | G2: ANTWOORD | H2: OPMERKINGEN | J2: extra factor gewicht | L2: TOTAL | M2: SCORE
H3: OPMERKINGEN | L3: =SUBTOTAL(9,L7:L266) -> 11 | M3: =SUBTOTAL(9,M7:M266) -> 9
C4: 1 = WETGEVING (= 6 punten) | G4: Ja
C5: 2 = RICHTLIJNEN, NORMEN, AANBEVELINGEN (= 3 punten) | G5: Neen
C6: 3 = GOOD PRACTICE (= 1 punt) | G6: NVT | K6: Code | L6: Total | M6: Score
A7: I | B7: Kwaliteitsopvolging van het sterilisatieproces | C7: Progress :: | G7: =SUBTOTAL(3,G10:G13)/SUBTOTAL(3,C10:C13) -> 1 | L7: =SUBTOTAL(9,L10:L13) -> 5 | M7: =SUBTOTAL(9,M10:M13) -> 3
B8: VRAAG
B9: Controleer altijd de documentatie en de toepassing op de werkvloer.
A10: 1 | B10: Werden alle genomen acties op basis van de tekortkomingen van niveau 1 die bij de vorige audit werden vastgesteld adequaat opgevolgd en met met succes geïmplementeerd? | C10: 3 | D10: Good Practice | G10: Ja | J10: X3 | K10: =C10&J10&G10 -> 3X3Ja | L10: =IFERROR(VLOOKUP($K10,Mapping!$F:$H,2,0),"") -> 3 | M10: =IFERROR(VLOOKUP($K10,Mapping!$F:$H,3,0),"") -> 3 | N10: =C10&G10 -> 3Ja
A11: 2 | B11: Werden alle genomen acties op basis van de verbeterpunten van niveau 2 die bij de vorige audit werden vastgesteld adequaat opgevolgd en met met succes geïmplementeerd? | C11: 3 | D11: Good Practice | G11: Neen | J11: X2 | K11: =C11&J11&G11 -> 3X2Neen | L11: =IFERROR(VLOOKUP($K11,Mapping!F:H,2,0),"") -> 2 | M11: =IFERROR(VLOOKUP($K11,Mapping!$F:$H,3,0),"") -> 0 | N11: =C11&G11 -> 3Neen
A12: 3 | B12: Werden alle genomen acties op basis van de verbeterpunten van niveau 3 die bij de vorige audit werden vastgesteld adequaat opgevolgd en met met succes geïmplementeerd? | C12: 3 | D12: Good Practice | G12: NVT | J12: X1 | K12: =C12&J12&G12 -> 3X1NVT | L12: =IFERROR(VLOOKUP($K12,Mapping!F:H,2,0),"") -> 0 | M12: =IFERROR(VLOOKUP($K12,Mapping!$F:$H,3,0),"") -> 0 | N12: =C12&G12 -> 3NVT
A14: II | B14: Reiniging en desinfectie van warmtegevoelige endoscopen met werkkanaal | C14: Progress :: | G14: =SUBTOTAL(3,G17:G127)/(SUBTOTAL(3,C17:C127)-3) -> 0.010869565 | L14: =SUBTOTAL(9,L17:L128) -> 6 | M14: =SUBTOTAL(9,M17:M128) -> 6
B15: VRAAG
B16: Controleer altijd de documentatie en de toepassing op de werkvloer.
A17: A | B17: Algemeen | C17: Progress :: | G17: =SUBTOTAL(3,G18:G45)/SUBTOTAL(3,C18:C45) -> 0.04 | L17: =SUBTOTAL(9,L18:L46) -> 6 | M17: =SUBTOTAL(9,M18:M46) -> 6
A18: 1 | B18: Organisatie | L18: =SUBTOTAL(9,L19:L22) -> 6 | M18: =SUBTOTAL(9,M19:M22) -> 6 | N18: =C18&G18
A19: a | B19: Is er een coördinerende deskundige aangeduid die in staat voor de kwaliteitsbewaking van het ganse proces? | C19: 1 | D19: KB 2020 bijlage IIb + HGR 9446 | G19: Ja | J19: X1 | K19: =C19&J19&G19 -> 1X1Ja | L19: =IFERROR(VLOOKUP($K19,Mapping!F:H,2,0),"") -> 6 | M19: =IFERROR(VLOOKUP($K19,Mapping!$F:$H,3,0),"") -> 6 | N19: =C19&G19 -> 1Ja
A20: b | B20: Is er een procedure die alle processtappen beschrijft? | C20: 1 | D20: KB 2020 bijlage IIb + HGR 9446 | J20: X1 | K20: =C20&J20&G20 -> 1X1 | L20: =IFERROR(VLOOKUP($K20,Mapping!F:H,2,0),"") | M20: =IFERROR(VLOOKUP($K20,Mapping!$F:$H,3,0),"") | N20: =C20&G20 -> 1
A21: c | B21: Is er een procedure die de afspraken beschrijft buiten de reguliere werkuren? | C21: 1 | D21: KB 2020 bijlage IIb + HGR 9446 | J21: X1 | K21: =C21&J21&G21 -> 1X1 | L21: =IFERROR(VLOOKUP($K21,Mapping!F:H,2,0),"") | M21: =IFERROR(VLOOKUP($K21,Mapping!$F:$H,3,0),"") | N21: =C21&G21 -> 1
A22: d | B22: Is er een noodplan aanwezig in geval van calamiteiten? | C22: 3 | D22: Good Practice | J22: X1 | K22: =C22&J22&G22 -> 3X1 | L22: =IFERROR(VLOOKUP($K22,Mapping!F:H,2,0),"") | M22: =IFERROR(VLOOKUP($K22,Mapping!$F:$H,3,0),"") | N22: =C22&G22 -> 3
A23: 2 | B23: Apparatuur & Infrastructuur | L23: =SUBTOTAL(9,L24:L42) -> 0 | M23: =SUBTOTAL(9,M24:M42) -> 0 | N23: =C23&G23
A24: a | B24: Is er voldoende ruimte om de handeling te kunnen uitvoeren zonder dat de scheiding proper en vuil in gedrang komt? | C24: 1 | D24: KB 2020 bijlage IIb + HGR 9446 | J24: X1 | K24: =C24&J24&G24 -> 1X1 | L24: =IFERROR(VLOOKUP($K24,Mapping!F:H,2,0),"") | M24: =IFERROR(VLOOKUP($K24,Mapping!$F:$H,3,0),"") | N24: =C24&G24 -> 1
A25: b | B25: Is de afstand tussen de plaats van reiniging en desinfectie minstens 1 meter? | C25: 2 | D25: CDC 2007 | J25: X1 | K25: =C25&J25&G25 -> 2X1 | L25: =IFERROR(VLOOKUP($K25,Mapping!F:H,2,0),"") | M25: =IFERROR(VLOOKUP($K25,Mapping!$F:$H,3,0),"") | N25: =C25&G25 -> 2
A26: c | B26: Zijn er veiligheidsfiches voor de producten beschikbaar? | C26: 1 | D26: KB 2020 bijlage IIb + HGR 9446 | J26: X1 | K26: =C26&J26&G26 -> 1X1 | L26: =IFERROR(VLOOKUP($K26,Mapping!F:H,2,0),"") | M26: =IFERROR(VLOOKUP($K26,Mapping!$F:$H,3,0),"") | N26: =C26&G26 -> 1
A27: d | B27: Gebeurt de opslag van de producten conform de richtlijnen? | C27: 1 | D27: KB 2020 bijlage IIb + HGR 9446 | J27: X1 | K27: =C27&J27&G27 -> 1X1 | L27: =IFERROR(VLOOKUP($K27,Mapping!F:H,2,0),"") | M27: =IFERROR(VLOOKUP($K27,Mapping!$F:$H,3,0),"") | N27: =C27&G27 -> 1
A28: e | B28: Is het water dat gebruikt wordt minstens van drinkwaterkwaliteit? | C28: 1 | D28: KB 2020 bijlage IIb + HGR 9446 | J28: X1 | K28: =C28&J28&G28 -> 1X1 | L28: =IFERROR(VLOOKUP($K28,Mapping!F:H,2,0),"") | M28: =IFERROR(VLOOKUP($K28,Mapping!$F:$H,3,0),"") | N28: =C28&G28 -> 1
A29: f | B29: Voldoen de wasmachines aan de EN 15883? | C29: 1 | D29: KB 2020 bijlage IIb + HGR 9446 | J29: X1 | K29: =C29&J29&G29 -> 1X1 | L29: =IFERROR(VLOOKUP($K29,Mapping!F:H,2,0),"") | M29: =IFERROR(VLOOKUP($K29,Mapping!$F:$H,3,0),"") | N29: =C29&G29 -> 1
A30: g | B30: Voldoen de droogkasten aan de EN 16442? | C30: 1 | D30: KB 2020 bijlage IIb + HGR 9446 | J30: X1 | K30: =C30&J30&G30 -> 1X1 | L30: =IFERROR(VLOOKUP($K30,Mapping!F:H,2,0),"") | M30: =IFERROR(VLOOKUP($K30,Mapping!$F:$H,3,0),"") | N30: =C30&G30 -> 1
A31: h | B31: Is het droogproces van de droogsystemen gevalideerd op basis van de aanbevelingen opgenomen in de EN 16442? | C31: 1 | D31: KB 2020 bijlage IIb + HGR 9446 | J31: X1 | K31: =C31&J31&G31 -> 1X1 | L31: =IFERROR(VLOOKUP($K31,Mapping!F:H,2,0),"") | M31: =IFERROR(VLOOKUP($K31,Mapping!$F:$H,3,0),"") | N31: =C31&G31 -> 1
A32: i | B32: Is er een architectonische scheiding tussen de vuile en zuivere zone? | C32: 1 | D32: KB 2020 bijlage IIb + HGR 9446 | J32: X1 | K32: =C32&J32&G32 -> 1X1 | L32: =IFERROR(VLOOKUP($K32,Mapping!F:H,2,0),"") | M32: =IFERROR(VLOOKUP($K32,Mapping!$F:$H,3,0),"") | N32: =C32&G32 -> 1
A33: j | B33: Is er voldoende ventilatie aanwezig in de reinigings- en desinfectieruimte (minstens 6 luchtwisselingen per uur)? | C33: 1 | D33: KB 2020 bijlage IIb + HGR 9446 | J33: X1 | K33: =C33&J33&G33 -> 1X1 | L33: =IFERROR(VLOOKUP($K33,Mapping!F:H,2,0),"") | M33: =IFERROR(VLOOKUP($K33,Mapping!$F:$H,3,0),"") | N33: =C33&G33 -> 1
A34: k | B34: Bezit de wastafel afmetingen die afgestemd zijn op een endoscoop in gestrekte ligging? | C34: 1 | D34: KB 2020 bijlage IIb + HGR 9446 | J34: X1 | K34: =C34&J34&G34 -> 1X1 | L34: =IFERROR(VLOOKUP($K34,Mapping!F:H,2,0),"") | M34: =IFERROR(VLOOKUP($K34,Mapping!$F:$H,3,0),"") | N34: =C34&G34 -> 1
A35: l | B35: Is er een lektester aanwezig in de vuile zone? | C35: 1 | D35: KB 2020 bijlage IIb + HGR 9446 | J35: X1 | K35: =C35&J35&G35 -> 1X1 | L35: =IFERROR(VLOOKUP($K35,Mapping!F:H,2,0),"") | M35: =IFERROR(VLOOKUP($K35,Mapping!$F:$H,3,0),"") | N35: =C35&G35 -> 1
... A42: s | B42: Het droogsysteem en/of de bewaarkast is ruimtelijk gescheiden van de vuile zone? | C42: 1 | D42: KB 2020 bijlage IIb + HGR 9446 | J42: X1 | K42: =C42&J42&G42 -> 1X1 | L42: =IFERROR(VLOOKUP($K42,Mapping!F:H,2,0),"") | M42: =IFERROR(VLOOKUP($K42,Mapping!$F:$H,3,0),"") | N42: =C42&G42 -> 1
A43: 3 | B43: Personeel | L43: =SUBTOTAL(9,L44:L46) -> 0 | M43: =SUBTOTAL(9,M44:M46) -> 0 | N43: =C43&G43
A44: a | B44: Is er een scholingsplan voor de medewerker die de endoscopen behandelt? | C44: 1 | D44: KB 2020 bijlage IIb + HGR 9446 | J44: X1 | K44: =C44&J44&G44 -> 1X1 | L44: =IFERROR(VLOOKUP($K44,Mapping!F:H,2,0),"") | M44: =IFERROR(VLOOKUP($K44,Mapping!$F:$H,3,0),"") | N44: =C44&G44 -> 1
A45: b | B45: Hebben alle medewerkers een gedocumenteerde opleiding gehad? | C45: 1 | D45: KB 2020 bijlage IIb + HGR 9446 | J45: X1 | K45: =C45&J45&G45 -> 1X1 | L45: =IFERROR(VLOOKUP($K45,Mapping!F:H,2,0),"") | M45: =IFERROR(VLOOKUP($K45,Mapping!$F:$H,3,0),"") | N45: =C45&G45 -> 1
K46: =C46&J46&G46 | L46: =IFERROR(VLOOKUP($K46,Mapping!$F:$H,2,0),"") | N46: =C46&G46
A47: B | B47: Proces van reinigen, desinfecteren en drogen | C47: Progress :: | G47: =SUBTOTAL(3,G48:G99)/SUBTOTAL(3,C48:C99) -> 0 | L47: =SUBTOTAL(9,L48:L99) -> 0 | M47: =SUBTOTAL(9,M48:M99) -> 0
A48: 1 | B48: Gebruiksklaar maken van de gedesinfecteerde endoscoop | L48: =SUBTOTAL(9,L49:L50) -> 0 | M48: =SUBTOTAL(9,M49:M50) -> 0 | N48: =C48&G48
...

Sheet Rapport Enodscopie
B1: MAEIA Endoscopie Rapport
A3: Date : | I3: Adapt these cells
A4: Ziekenhuis : | I4: Adapt these cells
A5: Hoofdapotheker : | I5: Adapt these cells
A6: Auditeur naam : | I6: Adapt these cells
C7: Max | D7: Score
A8: Total score | C8: ='Process Endoscopie'!L3 -> 11 | D8: ='Process Endoscopie'!M3 -> 9 | K8: Make sure total is correct | L8: Make sure total is correct
A9: ='Process Endoscopie'!A7 -> I | B9: ='Process Endoscopie'!B7 -> Kwaliteitsopvolging van het sterilisatieproces | C9: ='Process Endoscopie'!L7 -> 5 | D9: ='Process Endoscopie'!M7 -> 3 | H9: Copy Paste visible cells from questionnaire sheet | I9: Copy Paste visible cells from questionnaire sheet | J9: Copy Paste visible cells from questionnaire sheet | K9: Copy Paste visible cells from questionnaire sheet | L9: Copy Paste visible cells from questionnaire sheet
A10: ='Process Endoscopie'!A14 -> II | B10: ='Process Endoscopie'!B14 -> Reiniging en desinfectie van warmtegevoelige endoscopen met werkkanaal | C10: ='Process Endoscopie'!L14 -> 6 | D10: ='Process Endoscopie'!M14 -> 6 | H10: Copy Paste visible cells from questionnaire sheet | I10: Copy Paste visible cells from questionnaire sheet | J10: Copy Paste visible cells from questionnaire sheet | K10: Copy Paste visible cells from questionnaire sheet | L10: Copy Paste visible cells from questionnaire sheet
A11: ='Process Endoscopie'!A17 -> A | B11: ='Process Endoscopie'!B17 -> Algemeen | C11: ='Process Endoscopie'!L17 -> 6 | D11: ='Process Endoscopie'!M17 -> 6 | H11: Copy Paste visible cells from questionnaire sheet | I11: Copy Paste visible cells from questionnaire sheet | J11: Copy Paste visible cells from questionnaire sheet | K11: Copy Paste visible cells from questionnaire sheet | L11: Copy Paste visible cells from questionnaire sheet
A12: ='Process Endoscopie'!A18 -> 1 | B12: ='Process Endoscopie'!B18 -> Organisatie | C12: ='Process Endoscopie'!L18 -> 6 | D12: ='Process Endoscopie'!M18 -> 6 | H12: Copy Paste visible cells from questionnaire sheet | I12: Copy Paste visible cells from questionnaire sheet | J12: Copy Paste visible cells from questionnaire sheet | K12: Copy Paste visible cells from questionnaire sheet | L12: Copy Paste visible cells from questionnaire sheet
A13: ='Process Endoscopie'!A23 -> 2 | B13: ='Process Endoscopie'!B23 -> Apparatuur & Infrastructuur | C13: ='Process Endoscopie'!L23 -> 0 | D13: ='Process Endoscopie'!M23 -> 0 | H13: Copy Paste visible cells from questionnaire sheet | I13: Copy Paste visible cells from questionnaire sheet | J13: Copy Paste visible cells from questionnaire sheet | K13: Copy Paste visible cells from questionnaire sheet | L13: Copy Paste visible cells from questionnaire sheet
A14: ='Process Endoscopie'!A43 -> 3 | B14: ='Process Endoscopie'!B43 -> Personeel | C14: ='Process Endoscopie'!L43 -> 0 | D14: ='Process Endoscopie'!M43 -> 0 | H14: Copy Paste visible cells from questionnaire sheet | I14: Copy Paste visible cells from questionnaire sheet | J14: Copy Paste visible cells from questionnaire sheet | K14: Copy Paste visible cells from questionnaire sheet | L14: Copy Paste visible cells from questionnaire sheet
A15: ='Process Endoscopie'!A47 -> B | B15: ='Process Endoscopie'!B47 -> Proces van reinigen, desinfecteren en drogen | C15: ='Process Endoscopie'!L47 -> 0 | D15: ='Process Endoscopie'!M47 -> 0 | H15: Copy Paste visible cells from questionnaire sheet | I15: Copy Paste visible cells from questionnaire sheet | J15: Copy Paste visible cells from questionnaire sheet | K15: Copy Paste visible cells from questionnaire sheet | L15: Copy Paste visible cells from questionnaire sheet
A16: ='Process Endoscopie'!A48 -> 1 | B16: ='Process Endoscopie'!B48 -> Gebruiksklaar maken van de gedesinfecteerde endoscoop | C16: ='Process Endoscopie'!L48 -> 0 | D16: ='Process Endoscopie'!M48 -> 0 | H16: Copy Paste visible cells from questionnaire sheet | I16: Copy Paste visible cells from questionnaire sheet | J16: Copy Paste visible cells from questionnaire sheet | K16: Copy Paste visible cells from questionnaire sheet | L16: Copy Paste visible cells from questionnaire sheet
A17: ='Process Endoscopie'!A51 -> 2 | B17: ='Process Endoscopie'!B51 -> Transport | C17: ='Process Endoscopie'!L51 -> 0 | D17: ='Process Endoscopie'!M51 -> 0 | H17: Copy Paste visible cells from questionnaire sheet | I17: Copy Paste visible cells from questionnaire sheet | J17: Copy Paste visible cells from questionnaire sheet | K17: Copy Paste visible cells from questionnaire sheet | L17: Copy Paste visible cells from questionnaire sheet
A18: ='Process Endoscopie'!A57 -> 3 | B18: ='Process Endoscopie'!B57 -> Voorreiniging door de gebruiker | C18: ='Process Endoscopie'!L57 -> 0 | D18: ='Process Endoscopie'!M57 -> 0 | H18: Copy Paste visible cells from questionnaire sheet | I18: Copy Paste visible cells from questionnaire sheet | J18: Copy Paste visible cells from questionnaire sheet | K18: Copy Paste visible cells from questionnaire sheet | L18: Copy Paste visible cells from questionnaire sheet
A19: ='Process Endoscopie'!A63 -> 4 | B19: ='Process Endoscopie'!B63 -> Reiniging vuile zone | C19: ='Process Endoscopie'!L63 -> 0 | D19: ='Process Endoscopie'!M63 -> 0 | H19: Copy Paste visible cells from questionnaire sheet | I19: Copy Paste visible cells from questionnaire sheet | J19: Copy Paste visible cells from questionnaire sheet | K19: Copy Paste visible cells from questionnaire sheet | L19: Copy Paste visible cells from questionnaire sheet
A20: ='Process Endoscopie'!A79 -> 5 | B20: ='Process Endoscopie'!B79 -> Machinale reiniging en desinfectie | C20: ='Process Endoscopie'!L79 -> 0 | D20: ='Process Endoscopie'!M79 -> 0 | H20: Copy Paste visible cells from questionnaire sheet | I20: Copy Paste visible cells from questionnaire sheet | J20: Copy Paste visible cells from questionnaire sheet | K20: Copy Paste visible cells from questionnaire sheet | L20: Copy Paste visible cells from questionnaire sheet
A21: ='Process Endoscopie'!A88 -> 6 | B21: ='Process Endoscopie'!B88 -> Vrijgave | C21: ='Process Endoscopie'!L88 -> 0 | D21: ='Process Endoscopie'!M88 -> 0 | H21: Copy Paste visible cells from questionnaire sheet | I21: Copy Paste visible cells from questionnaire sheet | J21: Copy Paste visible cells from questionnaire sheet | K21: Copy Paste visible cells from questionnaire sheet | L21: Copy Paste visible cells from questionnaire sheet
A22: ='Process Endoscopie'!A92 -> 7 | B22: ='Process Endoscopie'!B92 -> Droogproces en opslag | C22: ='Process Endoscopie'!L92 -> 0 | D22: ='Process Endoscopie'!M92 -> 0 | H22: Copy Paste visible cells from questionnaire sheet | I22: Copy Paste visible cells from questionnaire sheet | J22: Copy Paste visible cells from questionnaire sheet | K22: Copy Paste visible cells from questionnaire sheet | L22: Copy Paste visible cells from questionnaire sheet
A23: ='Process Endoscopie'!A100 -> C | B23: ='Process Endoscopie'!B100 -> Kwaliteitsbeheersysteem | C23: ='Process Endoscopie'!L100 -> 0 | D23: ='Process Endoscopie'!M100 -> 0 | H23: Copy Paste visible cells from questionnaire sheet | I23: Copy Paste visible cells from questionnaire sheet | J23: Copy Paste visible cells from questionnaire sheet | K23: Copy Paste visible cells from questionnaire sheet | L23: Copy Paste visible cells from questionnaire sheet
A24: ='Process Endoscopie'!A101 -> 1 | B24: ='Process Endoscopie'!B101 -> Validatie | C24: ='Process Endoscopie'!L101 -> 0 | D24: ='Process Endoscopie'!M101 -> 0 | H24: Copy Paste visible cells from questionnaire sheet | I24: Copy Paste visible cells from questionnaire sheet | J24: Copy Paste visible cells from questionnaire sheet | K24: Copy Paste visible cells from questionnaire sheet | L24: Copy Paste visible cells from questionnaire sheet
A25: ='Process Endoscopie'!A107 -> 2 | B25: ='Process Endoscopie'!B107 -> Audit | C25: ='Process Endoscopie'!L107 -> 0 | D25: ='Process Endoscopie'!M107 -> 0 | H25: Copy Paste visible cells from questionnaire sheet | I25: Copy Paste visible cells from questionnaire sheet | J25: Copy Paste visible cells from questionnaire sheet | K25: Copy Paste visible cells from questionnaire sheet | L25: Copy Paste visible cells from questionnaire sheet
A26: ='Process Endoscopie'!A111 -> 3 | B26: ='Process Endoscopie'!B111 -> Microbiologische controles | C26: ='Process Endoscopie'!L111 -> 0 | D26: ='Process Endoscopie'!M111 -> 0 | H26: Copy Paste visible cells from questionnaire sheet | I26: Copy Paste visible cells from questionnaire sheet | J26: Copy Paste visible cells from questionnaire sheet | K26: Copy Paste visible cells from questionnaire sheet | L26: Copy Paste visible cells from questionnaire sheet
A27: ='Process Endoscopie'!A122 -> 4 | B27: ='Process Endoscopie'!B122 -> Traceerbaarheid | C27: ='Process Endoscopie'!L122 -> 0 | D27: ='Process Endoscopie'!M122 -> 0 | H27: Copy Paste visible cells from questionnaire sheet | I27: Copy Paste visible cells from questionnaire sheet | J27: Copy Paste visible cells from questionnaire sheet | K27: Copy Paste visible cells from questionnaire sheet | L27: Copy Paste visible cells from questionnaire sheet
A28: ='Process Endoscopie'!A129 -> III | B28: ='Process Endoscopie'!B129 -> Reiniging en desinfectie van warmtegevoelige endoscopen zonder werkkanaal | C28: ='Process Endoscopie'!L129 -> 0 | D28: ='Process Endoscopie'!M129 -> 0 | H28: Copy Paste visible cells from questionnaire sheet | I28: Copy Paste visible cells from questionnaire sheet | J28: Copy Paste visible cells from questionnaire sheet | K28: Copy Paste visible cells from questionnaire sheet | L28: Copy Paste visible cells from questionnaire sheet
A29: ='Process Endoscopie'!A132 -> A | B29: ='Process Endoscopie'!B132 -> Algemeen | C29: ='Process Endoscopie'!L132 -> 0 | D29: ='Process Endoscopie'!M132 -> 0 | H29: Copy Paste visible cells from questionnaire sheet | I29: Copy Paste visible cells from questionnaire sheet | J29: Copy Paste visible cells from questionnaire sheet | K29: Copy Paste visible cells from questionnaire sheet | L29: Copy Paste visible cells from questionnaire sheet
A30: ='Process Endoscopie'!A133 -> 1 | B30: ='Process Endoscopie'!B133 -> Organisatie | C30: ='Process Endoscopie'!L133 -> 0 | D30: ='Process Endoscopie'!M133 -> 0
A31: ='Process Endoscopie'!A136 -> 2 | B31: ='Process Endoscopie'!B136 -> Apparatuur & Infrastructuur | C31: ='Process Endoscopie'!L136 -> 0 | D31: ='Process Endoscopie'!M136 -> 0
A32: ='Process Endoscopie'!A141 -> 3 | B32: ='Process Endoscopie'!B141 -> Personeel | C32: ='Process Endoscopie'!L141 -> 0 | D32: ='Process Endoscopie'!M141 -> 0
A33: ='Process Endoscopie'!A145 -> B | B33: ='Process Endoscopie'!B145 -> Proces van reinigen, desinfecteren en drogen | C33: ='Process Endoscopie'!L145 -> 0 | D33: ='Process Endoscopie'!M145 -> 0
A34: ='Process Endoscopie'!A146 -> 1 | B34: ='Process Endoscopie'!B146 -> Beschermende mantel | C34: ='Process Endoscopie'!L146 -> 0 | D34: ='Process Endoscopie'!M146 -> 0
A35: ='Process Endoscopie'!A151 -> 2 | B35: ='Process Endoscopie'!B151 -> Reiniging | C35: ='Process Endoscopie'!L151 -> 0 | D35: ='Process Endoscopie'!M151 -> 0
A36: ='Process Endoscopie'!A156 -> 3 | B36: ='Process Endoscopie'!B156 -> Desinfectie | C36: ='Process Endoscopie'!L156 -> 0 | D36: ='Process Endoscopie'!M156 -> 0
A37: ='Process Endoscopie'!A165 -> 4 | B37: ='Process Endoscopie'!B165 -> Bewaring | C37: ='Process Endoscopie'!L165 -> 0 | D37: ='Process Endoscopie'!M165 -> 0
A38: ='Process Endoscopie'!A168 -> C | B38: ='Process Endoscopie'!B168 -> Kwaliteitsbeheersysteem | C38: ='Process Endoscopie'!L168 -> 0 | D38: ='Process Endoscopie'!M168 -> 0
A39: ='Process Endoscopie'!A169 -> 1 | B39: ='Process Endoscopie'!B169 -> Validatie | C39: ='Process Endoscopie'!L169 -> 0 | D39: ='Process Endoscopie'!M169 -> 0
A40: ='Process Endoscopie'!A171 -> 2 | B40: ='Process Endoscopie'!B171 -> Audit | C40: ='Process Endoscopie'!L171 -> 0 | D40: ='Process Endoscopie'!M171 -> 0
A41: ='Process Endoscopie'!A175 -> 3 | B41: ='Process Endoscopie'!B175 -> Microbiologische controles | C41: ='Process Endoscopie'!L175 -> 0 | D41: ='Process Endoscopie'!M175 -> 0
...

Sheet Mapping
B4: MAPPING TABLE | G4: points
B5: Base points | C5: Niveau | D5: Extra gewicht factor | E5: Antwoord | F5: Code | G5: Total | H5: Score | M5: Somme | P5: Speedometer | R5: Pointer
A6: Ja Groep | B6: 1 | C6: 3 | D6: X3 | E6: Ja | F6: =C6&D6&E6 -> 3X3Ja | G6: 3 | H6: 3 | L6: Ja | M6: =COUNTIF('Process Endoscopie'!$G:$G,Mapping!$L6) -> 3 | N6: Update formula to point to the correct Process worksheet | P6: Start | Q6: 0 | R6: Value | S6: =+ROUND(M11/M10,2)*100 -> 82
A7: Ja Groep | B7: 1 | C7: 3 | D7: X2 | E7: Ja | F7: =C7&D7&E7 -> 3X2Ja | G7: 2 | H7: 2 | L7: Neen | M7: =COUNTIF('Process Endoscopie'!$G:$G,Mapping!$L7) -> 2 | N7: Update formula to point to the correct Process worksheet | P7: Initial | Q7: 60 | R7: Pointer | S7: 1
A8: Ja Groep | B8: 1 | C8: 3 | D8: X1 | E8: Ja | F8: =C8&D8&E8 -> 3X1Ja | G8: 1 | H8: 1 | L8: NVT | M8: =COUNTIF('Process Endoscopie'!$G:$G,Mapping!$L8) -> 2 | N8: Update formula to point to the correct Process worksheet | P8: Middle | Q8: 30 | R8: end | S8: =200-S7-S6 -> 117
A9: Ja Groep | B9: 1 | C9: 3 | D9: X0,33 | E9: Ja | F9: =C9&D9&E9 -> 3X0,33Ja | G9: =1/3 -> 0.33333333 | H9: =1/3 -> 0.33333333 | L9: Somme | M9: =SUM(M6:M8) -> 7 | N9: Update formula to point to the correct Process worksheet | P9: End | Q9: 10
A10: Ja Groep | B10: 1 | C10: 3 | D10: X0,66 | E10: Ja | F10: =C10&D10&E10 -> 3X0,66Ja | G10: =2/3 -> 0.66666667 | H10: =2/3 -> 0.66666667 | L10: Total | M10: ='Process Endoscopie'!$L$3 -> 11 | N10: Update formula to point to the correct Process worksheet | P10: Max | Q10: 100
A11: Ja Groep | B11: 1 | C11: 3 | D11: X1 | E11: Ja | F11: =C11&D11&E11 -> 3X1Ja | G11: 1 | H11: 1 | L11: Score | M11: ='Process Endoscopie'!$M$3 -> 9 | N11: Update formula to point to the correct Process worksheet
A12: Ja Groep | B12: 3 | C12: 2 | D12: X3 | E12: Ja | F12: =C12&D12&E12 -> 2X3Ja | G12: 9 | H12: 9 | S12: ="Total Score : "&S6&"%" -> Total Score : 82%
A13: Ja Groep | B13: 3 | C13: 2 | D13: X2 | E13: Ja | F13: =C13&D13&E13 -> 2X2Ja | G13: 6 | H13: 6
A14: Ja Groep | B14: 3 | C14: 2 | D14: X1 | E14: Ja | F14: =C14&D14&E14 -> 2X1Ja | G14: 3 | H14: 3 | L14: ROUGE | M14: 60
A15: Ja Groep | B15: 3 | C15: 2 | D15: X0,33 | E15: Ja | F15: =C15&D15&E15 -> 2X0,33Ja | G15: 1 | H15: 1 | L15: ORANGE | M15: 30
A16: Ja Groep | B16: 3 | C16: 2 | D16: X0,66 | E16: Ja | F16: =C16&D16&E16 -> 2X0,66Ja | G16: 2 | H16: 2 | L16: VERT | M16: 10
A17: Ja Groep | B17: 3 | C17: 2 | D17: X1 | E17: Ja | F17: =C17&D17&E17 -> 2X1Ja | G17: 3 | H17: 3 | L17: Invisible | M17: 100
A18: Ja Groep | B18: 6 | C18: 1 | D18: X3 | E18: Ja | F18: =C18&D18&E18 -> 1X3Ja | G18: 18 | H18: 18
A19: Ja Groep | B19: 6 | C19: 1 | D19: X2 | E19: Ja | F19: =C19&D19&E19 -> 1X2Ja | G19: 12 | H19: 12
A20: Ja Groep | B20: 6 | C20: 1 | D20: X1 | E20: Ja | F20: =C20&D20&E20 -> 1X1Ja | G20: 6 | H20: 6 | L20: Aiguille | M20: =M7/M9 -> 0.28571429
A21: Ja Groep | B21: 6 | C21: 1 | D21: X0,33 | E21: Ja | F21: =C21&D21&E21 -> 1X0,33Ja | G21: 2 | H21: 2 | L21: Largeur | M21: 1
A22: Ja Groep | B22: 6 | C22: 1 | D22: X0,66 | E22: Ja | F22: =C22&D22&E22 -> 1X0,66Ja | G22: 4 | H22: 4 | L22: Invisible | M22: =SUM(M14:M17)-(M21+M20) -> 198.71429
A23: Ja Groep | B23: 6 | C23: 1 | D23: X1 | E23: Ja | F23: =C23&D23&E23 -> 1X1Ja | G23: 6 | H23: 6
A24: Neen groep | B24: 1 | C24: 3 | D24: X3 | E24: Neen | F24: =C24&D24&E24 -> 3X3Neen | G24: 3 | H24: 0 | L24: RIEN
A25: Neen groep | B25: 1 | C25: 3 | D25: X2 | E25: Neen | F25: =C25&D25&E25 -> 3X2Neen | G25: 2 | H25: 0 | L25: Aiguille | M25: =ROUND(M20,0)&"%" -> 0%
A26: Neen groep | B26: < | C26: 3 | D26: X1 | E26: Neen | F26: =C26&D26&E26 -> 3X1Neen | G26: 1 | H26: 0 | L26: RIEN
A27: Neen groep | B27: 1 | C27: 3 | D27: X0,33 | E27: Neen | F27: =C27&D27&E27 -> 3X0,33Neen | G27: =1/3 -> 0.33333333 | H27: 0
A28: Neen groep | B28: 1 | C28: 3 | D28: X0,66 | E28: Neen | F28: =C28&D28&E28 -> 3X0,66Neen | G28: =2/3 -> 0.66666667 | H28: 0
A29: Neen groep | B29: 1 | C29: 3 | D29: X1 | E29: Neen | F29: =C29&D29&E29 -> 3X1Neen | G29: 1 | H29: 0
A30: Neen groep | B30: 3 | C30: 2 | D30: X3 | E30: Neen | F30: =C30&D30&E30 -> 2X3Neen | G30: 9 | H30: 0
A31: Neen groep | B31: 3 | C31: 2 | D31: X2 | E31: Neen | F31: =C31&D31&E31 -> 2X2Neen | G31: 6 | H31: 0
A32: Neen groep | B32: 3 | C32: 2 | D32: X1 | E32: Neen | F32: =C32&D32&E32 -> 2X1Neen | G32: 3 | H32: 0
A33: Neen groep | B33: 3 | C33: 2 | D33: X0,33 | E33: Neen | F33: =C33&D33&E33 -> 2X0,33Neen | G33: 1 | H33: 0
A34: Neen groep | B34: 3 | C34: 2 | D34: X0,66 | E34: Neen | F34: =C34&D34&E34 -> 2X0,66Neen | G34: 2 | H34: 0
A35: Neen groep | B35: 3 | C35: 2 | D35: X1 | E35: Neen | F35: =C35&D35&E35 -> 2X1Neen | G35: 3 | H35: 0
A36: Neen groep | B36: 6 | C36: 1 | D36: X3 | E36: Neen | F36: =C36&D36&E36 -> 1X3Neen | G36: 18 | H36: 0
A37: Neen groep | B37: 6 | C37: 1 | D37: X2 | E37: Neen | F37: =C37&D37&E37 -> 1X2Neen | G37: 12 | H37: 0
A38: Neen groep | B38: 6 | C38: 1 | D38: X1 | E38: Neen | F38: =C38&D38&E38 -> 1X1Neen | G38: 6 | H38: 0
A39: Neen groep | B39: 6 | C39: 1 | D39: X0,33 | E39: Neen | F39: =C39&D39&E39 -> 1X0,33Neen | G39: 2 | H39: 0
A40: Neen groep | B40: 6 | C40: 1 | D40: X0,66 | E40: Neen | F40: =C40&D40&E40 -> 1X0,66Neen | G40: 4 | H40: 0
... A59: NVT groep | B59: 6 | C59: 1 | D59: X1 | E59: NVT | F59: =C59&D59&E59 -> 1X1NVT | G59: 0 | H59: 0
