Workbook

Sheet algemene inleiding

Sheet expertenteam
A1: MET DANK AAN HET EXPERTENTEAM
A3: Thomas Onsea
A4: Gert Nuyts
A5: Nathalie Switten
A6: Eva Janssens
A7: Gwen Sterckx
A8: Liesbet Demunter
A9: Kato Leyman
A10: Mira Dreesen
A11: Blaise Delhauteur
A12: Benoît Dulière

Sheet inhoudstafel

Sheet handleiding
A2: Hoe gebruiken we de kwaliteitstool MAEIA?

Sheet auditvragen CZH
A2: VERSIE 20230201 | B2: COMITE VOOR ZIEKENHUISHYGIENE | C2: NIVEAU | D2: Referentie | E2: ter info: artikelnummer, §, pagina | G2: ANTWOORD | H2: OPMERKINGEN | J2: extra factor gewicht | L2: TOTAL | M2: SCORE
C3: 1 = WETGEVING (= 6 punten) | H3: OPMERKINGEN | L3: =SUBTOTAL(9,L7:L120) -> 3 | M3: =SUBTOTAL(9,M7:M120) -> 3
C4: 2 = RICHTLIJNEN, NORMEN, AANBEVELINGEN (= 3 punten) | G4: Ja
C5: 3 = GOOD PRACTICE (= 1 punt) | G5: Neen
G6: NVT | K6: Code | L6: Total | M6: Score
A7: I | B7: Kwaliteitsopvolging van de activiteiten van het Comité voor ziekenhuishygiëne | C7: Progress :: | G7: =SUBTOTAL(3,G10:G12)/SUBTOTAL(3,C10:C12) -> 0.33333333 | L7: =SUBTOTAL(9,L10:L12) -> 3 | M7: =SUBTOTAL(9,M10:M12) -> 3
B8: AUDITVRAGEN
B9: Controleer altijd de documentatie en de toepassing op de werkvloer.
A10: 1 | B10: Werden alle genomen acties op basis van de tekortkomingen van niveau 1 die bij de vorige audit werden vastgesteld adequaat opgevolgd en met met succes geïmplementeerd? | C10: 3 | D10: Good Practice | G10: Ja | J10: X3 | K10: =C10&J10&G10 -> 3X3Ja | L10: =IFERROR(VLOOKUP($K10,Mapping!$F:$H,2,0),"") -> 3 | M10: =IFERROR(VLOOKUP($K10,Mapping!$F:$H,3,0),"") -> 3 | N10: =C10&G10 -> 3Ja
A11: 2 | B11: Werden alle genomen acties op basis van de verbeterpunten van niveau 2 die bij de vorige audit werden vastgesteld adequaat opgevolgd en met met succes geïmplementeerd? | C11: 3 | D11: Good Practice | J11: X2 | K11: =C11&J11&G11 -> 3X2 | L11: =IFERROR(VLOOKUP($K11,Mapping!F:H,2,0),"") | M11: =IFERROR(VLOOKUP($K11,Mapping!$F:$H,3,0),"") | N11: =C11&G11 -> 3
A12: 3 | B12: Werden alle genomen acties op basis van de verbeterpunten van niveau 3 die bij de vorige audit werden vastgesteld adequaat opgevolgd en met met succes geïmplementeerd? | C12: 3 | D12: Good Practice | J12: X1 | K12: =C12&J12&G12 -> 3X1 | L12: =IFERROR(VLOOKUP($K12,Mapping!F:H,2,0),"") | M12: =IFERROR(VLOOKUP($K12,Mapping!$F:$H,3,0),"") | N12: =C12&G12 -> 3
A13: II | B13: Algemeen | C13: Progress :: | G13: =SUBTOTAL(3,G16:G35)/(SUBTOTAL(3,C16:C35)-3) -> 0 | L13: =SUBTOTAL(9,L16:L35) -> 0 | M13: =SUBTOTAL(9,M16:M35) -> 0
B14: AUDITVRAGEN
B15: Controleer altijd de documentatie en de toepassing op de werkvloer.
C16: Progress :: | G16: =SUBTOTAL(3,G17:G35)/SUBTOTAL(3,C17:C35) -> 0 | L16: =SUBTOTAL(9,L17:L35) -> 0 | M16: =SUBTOTAL(9,M17:M35) -> 0
A17: 1 | B17: Is er een ziekenhuisapotheker aanwezig in het Comité voor ziekenhuishygiëne (CZH)? | C17: 1 | D17: KB 23 okt 1964 | J17: X1 | K17: =C17&J17&G17 -> 1X1 | L17: =IFERROR(VLOOKUP($K17,Mapping!F:H,2,0),"") | M17: =IFERROR(VLOOKUP($K17,Mapping!$F:$H,3,0),"") | N17: =C17&G17 -> 1
A18: 2 | B18: Is er een vertegenwoodiger aanwezig van de sterilisatie in het CZH? | C18: 3 | D18: Good Practice | J18: X1 | K18: =C18&J18&G18 -> 3X1 | L18: =IFERROR(VLOOKUP($K18,Mapping!F:H,2,0),"") | M18: =IFERROR(VLOOKUP($K18,Mapping!$F:$H,3,0),"") | N18: =C18&G18 -> 3
A19: 3 | B19: Wordt er voor elke vergadering een agenda opgesteld? | C19: 3 | D19: Good Practice | J19: X1 | K19: =C19&J19&G19 -> 3X1 | L19: =IFERROR(VLOOKUP($K19,Mapping!F:H,2,0),"") | M19: =IFERROR(VLOOKUP($K19,Mapping!$F:$H,3,0),"") | N19: =C19&G19 -> 3
A20: 4 | B20: Wordt er na elke vergadering een verslag opgesteld? | C20: 3 | D20: Good Practice | J20: X1 | K20: =C20&J20&G20 -> 3X1 | L20: =IFERROR(VLOOKUP($K20,Mapping!F:H,2,0),"") | M20: =IFERROR(VLOOKUP($K20,Mapping!$F:$H,3,0),"") | N20: =C20&G20 -> 3
A21: 5 | B21: Worden alle beslissingen die binnen het CZH worden genomen geacteerd in een register? | C21: 1 | D21: KB 23 okt 1964 | J21: X1 | K21: =C21&J21&G21 -> 1X1 | L21: =IFERROR(VLOOKUP($K21,Mapping!F:H,2,0),"") | M21: =IFERROR(VLOOKUP($K21,Mapping!$F:$H,3,0),"") | N21: =C21&G21 -> 1
A22: 6 | B22: Wordt dit register regelmatig overgemaakt aan de directeur van het ziekenhuis? | C22: 1 | D22: KB 23 okt 1964 | J22: X1 | K22: =C22&J22&G22 -> 1X1 | L22: =IFERROR(VLOOKUP($K22,Mapping!F:H,2,0),"") | M22: =IFERROR(VLOOKUP($K22,Mapping!$F:$H,3,0),"") | N22: =C22&G22 -> 1
A23: 7 | B23: Komt het comité voor ziekenhuishygiëne minstens 4 maal per jaar samen? | C23: 1 | D23: KB 23 okt 1964 | J23: X1 | K23: =C23&J23&G23 -> 1X1 | L23: =IFERROR(VLOOKUP($K23,Mapping!F:H,2,0),"") | M23: =IFERROR(VLOOKUP($K23,Mapping!$F:$H,3,0),"") | N23: =C23&G23 -> 1
A24: 8 | B24: Voert het CZH controle uit op de technieken van de sterilisatie? | C24: 1 | D24: KB 23 okt 1964 | J24: X1 | K24: =C24&J24&G24 -> 1X1 | L24: =IFERROR(VLOOKUP($K24,Mapping!F:H,2,0),"") | M24: =IFERROR(VLOOKUP($K24,Mapping!$F:$H,3,0),"") | N24: =C24&G24 -> 1
A25: 9 | B25: Is het team voor ziekenhuishygiëne duidelijk gedefinieerd in het ziekenhuis? | C25: 1 | D25: KB 23 okt 1964 | J25: X1 | K25: =C25&J25&G25 -> 1X1 | L25: =IFERROR(VLOOKUP($K25,Mapping!F:H,2,0),"") | M25: =IFERROR(VLOOKUP($K25,Mapping!$F:$H,3,0),"") | N25: =C25&G25 -> 1
A26: 10 | B26: Rapporteert het team voor ziekenhuishygiëne hun beleid rond preventie, isolatie, suveillance, richtlijnen, aanbevelingen en hun epidemiebeleid aan het CZH? | C26: 1 | D26: KB 23 okt 1964 | J26: X1 | K26: =C26&J26&G26 -> 1X1 | L26: =IFERROR(VLOOKUP($K26,Mapping!F:H,2,0),"") | M26: =IFERROR(VLOOKUP($K26,Mapping!$F:$H,3,0),"") | N26: =C26&G26 -> 1
A27: 11 | B27: Is er een jaarlijkse bespreking en goedkeuring in het CZH van het jaarlijkse beleidsplan en het acticiteitenverslag van het team voor ziekenhuishygiëne? | C27: 1 | D27: KB 23 okt 1964 | J27: X1 | K27: =C27&J27&G27 -> 1X1 | L27: =IFERROR(VLOOKUP($K27,Mapping!F:H,2,0),"") | M27: =IFERROR(VLOOKUP($K27,Mapping!$F:$H,3,0),"") | N27: =C27&G27 -> 1
A28: 12 | B28: Coördineert het CZH het toewijzen van opdrachten op het vlak van antbioticabeleid? | C28: 1 | D28: KB 23 okt 1964 | J28: X1 | K28: =C28&J28&G28 -> 1X1 | L28: =IFERROR(VLOOKUP($K28,Mapping!F:H,2,0),"") | M28: =IFERROR(VLOOKUP($K28,Mapping!$F:$H,3,0),"") | N28: =C28&G28 -> 1
... A35: 19 | B35: Wordt het advies van het CZH gevraagd voor elk antisepticum/ontsmettingsmiddel dat in het ziekenhuis ter beschikking wordt gesteld? | C35: 3 | D35: Good Practice | J35: X1 | K35: =C35&J35&G35 -> 3X1 | L35: =IFERROR(VLOOKUP($K35,Mapping!F:H,2,0),"") | M35: =IFERROR(VLOOKUP($K35,Mapping!$F:$H,3,0),"") | N35: =C35&G35 -> 3
O42: Do not delete
P45: 0-60
P46: 60-90
P47: 90-100
Q49: Ja | R49: Nee | S49: NVT
P50: Niveau 1 | Q50: =+N130 -> 0 | R50: =+N124 -> 0 | S50: =+N127 -> 0
P51: Niveau 2 | Q51: =+N131 -> 0 | R51: =+N125 -> 0 | S51: =+N128 -> 0
P52: Niveau 3 | Q52: =+N132 -> 1 | R52: =+N126 -> 0 | S52: =+N129 -> 0
Q54: Ja | R54: Nee | S54: NVT
P55: Niveau 1 | Q55: =IFERROR(Q50/SUM($Q50:$S50),0) -> 0 | R55: =IFERROR(R50/SUM($Q50:$S50),0) -> 0 | S55: =IFERROR(S50/SUM($Q50:$S50),0) -> 0
P56: Niveau 2 | Q56: =IFERROR(Q51/SUM($Q51:$S51),0) -> 0 | R56: =IFERROR(R51/SUM($Q51:$S51),0) -> 0 | S56: =IFERROR(S51/SUM($Q51:$S51),0) -> 0
P57: Niveau 3 | Q57: =IFERROR(Q52/SUM($Q52:$S52),0) -> 1 | R57: =IFERROR(R52/SUM($Q52:$S52),0) -> 0 | S57: =IFERROR(S52/SUM($Q52:$S52),0) -> 0
K124: 1 | L124: =COUNTIF($C$7:$C$120,$K124) -> 9 | M124: 1Neen | N124: =COUNTIF($N$7:$N$120,$M124) -> 0
K125: 2 | L125: =COUNTIF($C$7:$C$120,$K125) -> 0 | M125: 2Neen | N125: =COUNTIF($N$7:$N$120,$M125) -> 0
K126: 3 | L126: =COUNTIF($C$7:$C$120,$K126) -> 13 | M126: 3Neen | N126: =COUNTIF($N$7:$N$120,$M126) -> 0
K127: =K124 -> 1 | L127: =L124 -> 9 | M127: 1NVT | N127: =COUNTIF($N$7:$N$120,$M127) -> 0
K128: =K125 -> 2 | L128: =L125 -> 0 | M128: 2NVT | N128: =COUNTIF($N$7:$N$120,$M128) -> 0
K129: =K126 -> 3 | L129: =L126 -> 13 | M129: 3NVT | N129: =COUNTIF($N$7:$N$120,$M129) -> 0
K130: =K127 -> 1 | L130: =L127 -> 9 | M130: 1Ja | N130: =COUNTIF($N$7:$N$120,$M130) -> 0
K131: =K128 -> 2 | L131: =L128 -> 0 | M131: 2Ja | N131: =COUNTIF($N$7:$N$120,$M131) -> 0
K132: =K129 -> 3 | L132: =L129 -> 13 | M132: 3Ja | N132: =COUNTIF($N$7:$N$120,$M132) -> 1
K133: =K130 -> 1 | L133: =L130 -> 9 | M133: 1Total | N133: =+N124+N127+N130 -> 0
K134: =K131 -> 2 | L134: =L131 -> 0 | M134: 2Total | N134: =+N125+N128+N131 -> 0
K135: =K132 -> 3 | L135: =L132 -> 13 | M135: 3Total | N135: =+N126+N129+N132 -> 1
K139: Wordt er jaarlijks een controle van de stoomkwaliteit uitgevoerd?
K140: Wordt er halfjaarlijks een controle van de stoomkwaliteit uitgevoerd?
K141: Wordt er driemaandelijks een controle van de stoomkwaliteit uitgevoerd?

Sheet rapport
B1: MAEIA CZH Rapport
A3: Date : | I3: Adapt these cells
A4: Ziekenhuis : | I4: Adapt these cells
A5: Hoofdapotheker : | I5: Adapt these cells
A6: Auditeur naam : | I6: Adapt these cells
C7: Max | D7: Score
A8: Total score | C8: ='auditvragen CZH'!L3 -> 3 | D8: ='auditvragen CZH'!M3 -> 3 | K8: Make sure total is correct | L8: Make sure total is correct
A9: ='auditvragen CZH'!A7 -> I | B9: ='auditvragen CZH'!B7 -> Kwaliteitsopvolging van de activiteiten van het Comité voor ziekenhuishygiëne | C9: ='auditvragen CZH'!L7 -> 3 | D9: ='auditvragen CZH'!M7 -> 3 | H9: Copy Paste visible cells from questionnaire sheet | I9: Copy Paste visible cells from questionnaire sheet | J9: Copy Paste visible cells from questionnaire sheet | K9: Copy Paste visible cells from questionnaire sheet | L9: Copy Paste visible cells from questionnaire sheet
A10: ='auditvragen CZH'!A13 -> II | B10: ='auditvragen CZH'!B13 -> Algemeen | C10: ='auditvragen CZH'!L13 -> 0 | D10: ='auditvragen CZH'!M13 -> 0 | H10: Copy Paste visible cells from questionnaire sheet | I10: Copy Paste visible cells from questionnaire sheet | J10: Copy Paste visible cells from questionnaire sheet | K10: Copy Paste visible cells from questionnaire sheet | L10: Copy Paste visible cells from questionnaire sheet
A11: ='auditvragen CZH'!A16 -> 0 | B11: ='auditvragen CZH'!B16 -> 0 | C11: ='auditvragen CZH'!L16 -> 0 | D11: ='auditvragen CZH'!M16 -> 0 | H11: Copy Paste visible cells from questionnaire sheet | I11: Copy Paste visible cells from questionnaire sheet | J11: Copy Paste visible cells from questionnaire sheet | K11: Copy Paste visible cells from questionnaire sheet | L11: Copy Paste visible cells from questionnaire sheet
A34: Handtekeningen
A36: Hoofdapotheker | I36: Change name & signature
A39: Auditeur naam : | I39: Change name & signature
B43: MAEIA CZH Rapport
A70: Sterke punten
A71: 1
A72: 2
A73: 3
A74: 4
A75: 5
A76: 6
A77: Tekortkomingen niveau 1
A78: 1
A79: 2
A80: 3
A81: 4
A82: 5
A83: 6
A84: Verbeterpunten niveau 2
A85: 1
A86: 2
A87: 3
A88: 4
A89: 5
A90: 6
A91: Verbeterpunten niveau 3
A92: 1
A93: 2
A94: 3
A95: 4
A96: 5
A97: 6
A98: Observaties
A99: 1
A100: 2
A101: 3
A102: 4
A103: 5
A104: 6

Sheet actiepunten auditee
A3: Actiepunt | B3: Nummer | D3: Oorsprong :
D4: o Tekortkoming niveau 1
D5: o Verbeterpunt niveau 2
D6: o Verbeterpunt niveau 3
D7: o Observatie
A8: Geaudit proces | B8: Activiteiten Comité voor ziekenhuishygiëne
A9: Auditdatum | B9: …../…../….. | D9: Auditor | E9: ……………………………………………
A10: Auditee | B10: ………………………………………………………………………………..
A11: Omschrijving van de tekortkoming / verbeterpunt / observatie
A12: Voorgestelde maatregel door de auditee | B12: Oorzaak
B15: Actie
B21: Verantwoordelijke
B23: Termijn
A26: Opvolgrapport
A27: (cumulatief)
A44: Conclusie

Sheet Mapping
B4: MAPPING TABLE | G4: points
B5: Base points | C5: Niveau | D5: Extra gewicht factor | E5: Antwoord | F5: Code | G5: Total | H5: Score | M5: Somme | P5: Speedometer | R5: Pointer
A6: Ja Groep | B6: 1 | C6: 3 | D6: X3 | E6: Ja | F6: =C6&D6&E6 -> 3X3Ja | G6: 3 | H6: 3 | L6: Ja | M6: =COUNTIF('auditvragen CZH'!$G:$G,Mapping!$L6) -> 2 | P6: Start | Q6: 0 | R6: Value | S6: =+ROUND(M11/M10,2)*100 -> 100
A7: Ja Groep | B7: 1 | C7: 3 | D7: X2 | E7: Ja | F7: =C7&D7&E7 -> 3X2Ja | G7: 2 | H7: 2 | L7: Neen | M7: =COUNTIF('auditvragen CZH'!$G:$G,Mapping!$L7) -> 1 | P7: Initial | Q7: 60 | R7: Pointer | S7: 1
A8: Ja Groep | B8: 1 | C8: 3 | D8: X1 | E8: Ja | F8: =C8&D8&E8 -> 3X1Ja | G8: 1 | H8: 1 | L8: NVT | M8: =COUNTIF('auditvragen CZH'!$G:$G,Mapping!$L8) -> 1 | P8: Middle | Q8: 30 | R8: end | S8: =200-S7-S6 -> 99
A9: Ja Groep | B9: 1 | C9: 3 | D9: X0,33 | E9: Ja | F9: =C9&D9&E9 -> 3X0,33Ja | G9: =1/3 -> 0.33333333 | H9: =1/3 -> 0.33333333 | L9: Somme | M9: =SUM(M6:M8) -> 4 | P9: End | Q9: 10
A10: Ja Groep | B10: 1 | C10: 3 | D10: X0,66 | E10: Ja | F10: =C10&D10&E10 -> 3X0,66Ja | G10: =2/3 -> 0.66666667 | H10: =2/3 -> 0.66666667 | L10: Total | M10: ='auditvragen CZH'!$L$3 -> 3 | P10: Max | Q10: 100
A11: Ja Groep | B11: 1 | C11: 3 | D11: X1 | E11: Ja | F11: =C11&D11&E11 -> 3X1Ja | G11: 1 | H11: 1 | L11: Score | M11: ='auditvragen CZH'!$M$3 -> 3
A12: Ja Groep | B12: 3 | C12: 2 | D12: X3 | E12: Ja | F12: =C12&D12&E12 -> 2X3Ja | G12: 9 | H12: 9 | S12: ="Total Score : "&S6&"%" -> Total Score : 100%
A13: Ja Groep | B13: 3 | C13: 2 | D13: X2 | E13: Ja | F13: =C13&D13&E13 -> 2X2Ja | G13: 6 | H13: 6
A14: Ja Groep | B14: 3 | C14: 2 | D14: X1 | E14: Ja | F14: =C14&D14&E14 -> 2X1Ja | G14: 3 | H14: 3 | L14: ROUGE | M14: 60
A15: Ja Groep | B15: 3 | C15: 2 | D15: X0,33 | E15: Ja | F15: =C15&D15&E15 -> 2X0,33Ja | G15: 1 | H15: 1 | L15: ORANGE | M15: 30
A16: Ja Groep | B16: 3 | C16: 2 | D16: X0,66 | E16: Ja | F16: =C16&D16&E16 -> 2X0,66Ja | G16: 2 | H16: 2 | L16: VERT | M16: 10
A17: Ja Groep | B17: 3 | C17: 2 | D17: X1 | E17: Ja | F17: =C17&D17&E17 -> 2X1Ja | G17: 3 | H17: 3 | L17: Invisible | M17: 100
A18: Ja Groep | B18: 6 | C18: 1 | D18: X3 | E18: Ja | F18: =C18&D18&E18 -> 1X3Ja | G18: 18 | H18: 18
A19: Ja Groep | B19: 6 | C19: 1 | D19: X2 | E19: Ja | F19: =C19&D19&E19 -> 1X2Ja | G19: 12 | H19: 12
A20: Ja Groep | B20: 6 | C20: 1 | D20: X1 | E20: Ja | F20: =C20&D20&E20 -> 1X1Ja | G20: 6 | H20: 6 | L20: Aiguille | M20: =M7/M9 -> 0.25
A21: Ja Groep | B21: 6 | C21: 1 | D21: X0,33 | E21: Ja | F21: =C21&D21&E21 -> 1X0,33Ja | G21: 2 | H21: 2 | L21: Largeur | M21: 1
A22: Ja Groep | B22: 6 | C22: 1 | D22: X0,66 | E22: Ja | F22: =C22&D22&E22 -> 1X0,66Ja | G22: 4 | H22: 4 | L22: Invisible | M22: =SUM(M14:M17)-(M21+M20) -> 198.75
A23: Ja Groep | B23: 6 | C23: 1 | D23: X1 | E23: Ja | F23: =C23&D23&E23 -> 1X1Ja | G23: 6 | H23: 6
A24: Neen groep | B24: 1 | C24: 3 | D24: X3 | E24: Neen | F24: =C24&D24&E24 -> 3X3Neen | G24: 3 | H24: 0 | L24: RIEN
A25: Neen groep | B25: 1 | C25: 3 | D25: X2 | E25: Neen | F25: =C25&D25&E25 -> 3X2Neen | G25: 2 | H25: 0 | L25: Aiguille | M25: =ROUND(M20,0)&"%" -> 0%
A26: Neen groep | B26: 1 | C26: 3 | D26: X1 | E26: Neen | F26: =C26&D26&E26 -> 3X1Neen | G26: 1 | H26: 0 | L26: RIEN
A27: Neen groep | B27: 1 | C27: 3 | D27: X0,33 | E27: Neen | F27: =C27&D27&E27 -> 3X0,33Neen | G27: =1/3 -> 0.33333333 | H27: 0
A28: Neen groep | B28: 1 | C28: 3 | D28: X0,66 | E28: Neen | F28: =C28&D28&E28 -> 3X0,66Neen | G28: =2/3 -> 0.66666667 | H28: 0
A29: Neen groep | B29: 1 | C29: 3 | D29: X1 | E29: Neen | F29: =C29&D29&E29 -> 3X1Neen | G29: 1 | H29: 0
A30: Neen groep | B30: 3 | C30: 2 | D30: X3 | E30: Neen | F30: =C30&D30&E30 -> 2X3Neen | G30: 9 | H30: 0
A31: Neen groep | B31: 3 | C31: 2 | D31: X2 | E31: Neen | F31: =C31&D31&E31 -> 2X2Neen | G31: 6 | H31: 0
A32: Neen groep | B32: 3 | C32: 2 | D32: X1 | E32: Neen | F32: =C32&D32&E32 -> 2X1Neen | G32: 3 | H32: 0
A33: Neen groep | B33: 3 | C33: 2 | D33: X0,33 | E33: Neen | F33: =C33&D33&E33 -> 2X0,33Neen | G33: 1 | H33: 0
A34: Neen groep | B34: 3 | C34: 2 | D34: X0,66 | E34: Neen | F34: =C34&D34&E34 -> 2X0,66Neen | G34: 2 | H34: 0
A35: Neen groep | B35: 3 | C35: 2 | D35: X1 | E35: Neen | F35: =C35&D35&E35 -> 2X1Neen | G35: 3 | H35: 0
A36: Neen groep | B36: 6 | C36: 1 | D36: X3 | E36: Neen | F36: =C36&D36&E36 -> 1X3Neen | G36: 18 | H36: 0
A37: Neen groep | B37: 6 | C37: 1 | D37: X2 | E37: Neen | F37: =C37&D37&E37 -> 1X2Neen | G37: 12 | H37: 0
A38: Neen groep | B38: 6 | C38: 1 | D38: X1 | E38: Neen | F38: =C38&D38&E38 -> 1X1Neen | G38: 6 | H38: 0
A39: Neen groep | B39: 6 | C39: 1 | D39: X0,33 | E39: Neen | F39: =C39&D39&E39 -> 1X0,33Neen | G39: 2 | H39: 0
A40: Neen groep | B40: 6 | C40: 1 | D40: X0,66 | E40: Neen | F40: =C40&D40&E40 -> 1X0,66Neen | G40: 4 | H40: 0
... A59: NVT groep | B59: 6 | C59: 1 | D59: X1 | E59: NVT | F59: =C59&D59&E59 -> 1X1NVT | G59: 0 | H59: 0
