Workbook

Sheet algemene inleiding

Sheet handleiding
A2: Hoe gebruiken we de kwaliteitstool MAEIA?

Sheet expertenteam
A1: MET DANK AAN HET EXPERTENTEAM
A3: Lies De Waele
A4: Matthias Wallaert
A5: Kurt Verbeke
A6: Marc De Schepper
A7: Sofie Vanhaelewyn
A8: Mathijs lazeure
A9: Anke Onsia
A10: Kim Herman
A11: Sara Bink
A12: Siska Desplenter
A13: Elien Daeyaert
... A16: Krishna Vanderbist

Sheet inleiding ..... 
A1: INLEIDING DISTRIBUTIE

Sheet inhoudstafel

Sheet proces distributie
A2: VERSIE 20230601 | B2: DISTRIBUTIE | C2: NIVEAU | D2: Referentie | E2: ter info: artikelnummer, §, pagina | G2: ANTWOORD | H2: OPMERKINGEN | J2: extra factor gewicht | L2: TOTAL | M2: SCORE
C3: 1 = WETGEVING (= 6 punten) | H3: OPMERKINGEN | L3: =SUBTOTAL(9,L7:L517) -> 5 | M3: =SUBTOTAL(9,M7:M517) -> 3
C4: 2 = RICHTLIJNEN, NORMEN, AANBEVELINGEN (= 3 punten) | G4: Ja
C5: 3 = GOOD PRACTICE (= 1 punt) | G5: Neen
G6: NVT | K6: Code | L6: Total | M6: Score
A7: I | B7: Kwaliteitsopvolging van het sterilisatieproces | C7: Progress :: | G7: =SUBTOTAL(3,G10:G12)/SUBTOTAL(3,C10:C12) -> 0.66666667 | L7: =SUBTOTAL(9,L10:L12) -> 5 | M7: =SUBTOTAL(9,M10:M12) -> 3
B8: AUDITVRAGEN
B9: Controleer altijd de documentatie en de toepassing op de werkvloer.
A10: 1 | B10: Werden alle genomen acties op basis van de tekortkomingen van niveau 1 die bij de vorige audit werden vastgesteld adequaat opgevolgd en met met succes geïmplementeerd? | C10: 3 | D10: Good Practice | G10: Ja | J10: X3 | K10: =C10&J10&G10 -> 3X3Ja | L10: =IFERROR(VLOOKUP($K10,Mapping!$F:$H,2,0),"") -> 3 | M10: =IFERROR(VLOOKUP($K10,Mapping!$F:$H,3,0),"") -> 3 | N10: =C10&G10 -> 3Ja
A11: 2 | B11: Werden alle genomen acties op basis van de verbeterpunten van niveau 2 die bij de vorige audit werden vastgesteld adequaat opgevolgd en met met succes geïmplementeerd? | C11: 3 | D11: Good Practice | G11: Neen | J11: X2 | K11: =C11&J11&G11 -> 3X2Neen | L11: =IFERROR(VLOOKUP($K11,Mapping!F:H,2,0),"") -> 2 | M11: =IFERROR(VLOOKUP($K11,Mapping!$F:$H,3,0),"") -> 0 | N11: =C11&G11 -> 3Neen
A12: 3 | B12: Werden alle genomen acties op basis van de verbeterpunten van niveau 3 die bij de vorige audit werden vastgesteld adequaat opgevolgd en met met succes geïmplementeerd? | C12: 3 | D12: Good Practice | J12: X1 | K12: =C12&J12&G12 -> 3X1 | L12: =IFERROR(VLOOKUP($K12,Mapping!F:H,2,0),"") | M12: =IFERROR(VLOOKUP($K12,Mapping!$F:$H,3,0),"") | N12: =C12&G12 -> 3
A13: II | B13: Algemeen | C13: Progress :: | G13: =SUBTOTAL(3,G16:G22)/(SUBTOTAL(3,C16:C22)-3) -> 0 | L13: =SUBTOTAL(9,L16:L22) -> 0 | M13: =SUBTOTAL(9,M16:M22) -> 0
B14: AUDITVRAGEN
B15: Controleer altijd de documentatie en de toepassing op de werkvloer.
A16: 1 | B16: Is er een algemene procedure (en/of een stroomdiagram) beschikbaar die het distributiesysteem in zijn geheel beschrijft? | C16: 2 | D16: JCI (MMU.1-ACI 2.4) en Qualicor | J16: X1 | K16: =C16&J16&G16 -> 2X1 | L16: =IFERROR(VLOOKUP($K16,Mapping!F:H,2,0),"") | M16: =IFERROR(VLOOKUP($K16,Mapping!$F:$H,3,0),"") | N16: =C16&G16 -> 2
A17: 2 | B17: Is er een procedure rond de uitzonderlijke afwijkingen van de algemene procedure in het kader van noodsituaties of dringende afleveringen? | C17: 1 | D17: KB 4 maart 1991 Art 9 en KB 30 sept 2020 en KB 18 juni 1990 Art 7 | J17: X1 | K17: =C17&J17&G17 -> 1X1 | L17: =IFERROR(VLOOKUP($K17,Mapping!F:H,2,0),"") | M17: =IFERROR(VLOOKUP($K17,Mapping!$F:$H,3,0),"") | N17: =C17&G17 -> 1
A18: 3 | B18: Is er een procedure rond de uitzonderlijke afwijkingen van de algemene procedure in het kader van staande orders? | C18: 2 | D18: JCI en Qualicor | J18: X1 | K18: =C18&J18&G18 -> 2X1 | L18: =IFERROR(VLOOKUP($K18,Mapping!F:H,2,0),"") | M18: =IFERROR(VLOOKUP($K18,Mapping!$F:$H,3,0),"") | N18: =C18&G18 -> 2
A19: 4 | B19: Is er een procedure rond de uitzonderlijke afwijkingen van de algemene procedure in het kader van mondelinge orders? | C19: 2 | D19: JCI en Qualicor | J19: X1 | K19: =C19&J19&G19 -> 2X1 | L19: =IFERROR(VLOOKUP($K19,Mapping!F:H,2,0),"") | M19: =IFERROR(VLOOKUP($K19,Mapping!$F:$H,3,0),"") | N19: =C19&G19 -> 2
A20: 5 | B20: Is er een procedure rond het beheer van de geneesmiddelenstalen? | C20: 2 | D20: JCI en Qualicor | J20: X1 | K20: =C20&J20&G20 -> 2X1 | L20: =IFERROR(VLOOKUP($K20,Mapping!F:H,2,0),"") | M20: =IFERROR(VLOOKUP($K20,Mapping!$F:$H,3,0),"") | N20: =C20&G20 -> 2
A21: 6 | B21: Bestaat er een algemene procedure (en/of flowchart) voor het beheer van persoonlijke geneesmiddelen van de patiënt binnen het geneesmiddelencircuit die de opslag, registratie, toedieningsmodaliteiten en bewaringsmodaliteiten omvat? | C21: 2 | D21: JCI en Qualicor | J21: X1 | K21: =C21&J21&G21 -> 2X1 | L21: =IFERROR(VLOOKUP($K21,Mapping!F:H,2,0),"") | M21: =IFERROR(VLOOKUP($K21,Mapping!$F:$H,3,0),"") | N21: =C21&G21 -> 2
A22: 7 | B22: Is er een periodieke evaluatie van deze procedures? | C22: 1 | D22: KB 30 sept 2020 | E22: Bijlage IA | J22: X1 | K22: =C22&J22&G22 -> 1X1 | L22: =IFERROR(VLOOKUP($K22,Mapping!F:H,2,0),"") | M22: =IFERROR(VLOOKUP($K22,Mapping!$F:$H,3,0),"") | N22: =C22&G22 -> 1
A23: III | B23: Opslag geneesmiddelen | C23: Progress :: | G23: =SUBTOTAL(3,G26:G153)/(SUBTOTAL(3,C26:C153)-3) -> 0 | L23: =SUBTOTAL(9,L26:L153) -> 0 | M23: =SUBTOTAL(9,M26:M153) -> 0
B24: AUDITVRAGEN
B25: Controleer altijd de documentatie en de toepassing op de werkvloer.
A26: a | B26: Algemeen | C26: Progress :: | G26: =SUBTOTAL(3,G38:G38)/SUBTOTAL(3,C38:C38) -> 0 | L26: =SUBTOTAL(9,L27:L38) -> 0 | M26: =SUBTOTAL(9,M27:M38) -> 0
A27: 1 | B27: Bestaat er een procedure voor het bewaren van geneesmiddelen in de centrale apotheek? | C27: 2 | D27: JCI | J27: X1 | K27: =C27&J27&G27 -> 2X1 | L27: =IFERROR(VLOOKUP($K27,Mapping!F:H,2,0),"") | M27: =IFERROR(VLOOKUP($K27,Mapping!$F:$H,3,0),"") | N27: =C27&G27 -> 2
A28: 2 | B28: Bestaat er een procedure voor het beheer van de spoedkasten, die minstens beschrijft hoe de evaluatie gebeurt van de samenstelling van de decentrale voorraad, wat de wijze is van bevoorrading, ontvangst, ordening producten, terugname niet gebruikte producten, intrekkingen, nazicht vervaldata en meldingen van niet-conformiteiten? | C28: 1 | D28: KB 30 sept 2020 | E28: Bijlage ICg | J28: X1 | K28: =C28&J28&G28 -> 1X1 | L28: =IFERROR(VLOOKUP($K28,Mapping!F:H,2,0),"") | M28: =IFERROR(VLOOKUP($K28,Mapping!$F:$H,3,0),"") | N28: =C28&G28 -> 1
A29: 3 | B29: Wordt de inhoud van de spoedkasten vastgelegd in een lijst die door de ziekenhuisapotheker-titularis en de betrokken arts werden opgesteld, gedateerd en ondertekend? | C29: 1 | D29: KB 30 sept 2020 | E29: Art 13§2 | J29: X1 | K29: =C29&J29&G29 -> 1X1 | L29: =IFERROR(VLOOKUP($K29,Mapping!F:H,2,0),"") | M29: =IFERROR(VLOOKUP($K29,Mapping!$F:$H,3,0),"") | N29: =C29&G29 -> 1
A30: 4 | B30: Wordt de inhoudslijst van de spoedkasten door de ziekenhuisapotheker verder aangevuld met de regels tot betrekking van de bewaring? | C30: 1 | D30: KB 30 sept 2020 | E30: Art 13§2 | J30: X1 | K30: =C30&J30&G30 -> 1X1 | L30: =IFERROR(VLOOKUP($K30,Mapping!F:H,2,0),"") | M30: =IFERROR(VLOOKUP($K30,Mapping!$F:$H,3,0),"") | N30: =C30&G30 -> 1
A31: 5 | B31: Wordt de inhoudslijst door de ziekenhuisapotheker en de betrokken arts minstens jaarlijks geëvalueerd en aangepast naar de noden van de afdeling? | C31: 1 | D31: KB 30 sept 2020 | E31: Art 13§3 | J31: X1 | K31: =C31&J31&G31 -> 1X1 | L31: =IFERROR(VLOOKUP($K31,Mapping!F:H,2,0),"") | M31: =IFERROR(VLOOKUP($K31,Mapping!$F:$H,3,0),"") | N31: =C31&G31 -> 1
A32: 6 | B32: Is er een proces opgesteld voor een periodieke controle van de kwaliteit en veiligheid van de opgeslagen geneesmiddelen in de centrale stock? | C32: 1 | D32: KB 30 sept 2020 | E32: Bijlage ICc | J32: X1 | K32: =C32&J32&G32 -> 1X1 | L32: =IFERROR(VLOOKUP($K32,Mapping!F:H,2,0),"") | M32: =IFERROR(VLOOKUP($K32,Mapping!$F:$H,3,0),"") | N32: =C32&G32 -> 1
A33: 7 | B33: Is er een proces opgesteld voor een periodieke controle van de kwaliteit en veiligheid van de opgeslagen geneesmiddelen in de decentrale stock? | C33: 1 | D33: KB 30 sept 2020 | E33: Bijlage ICc | J33: X1 | K33: =C33&J33&G33 -> 1X1 | L33: =IFERROR(VLOOKUP($K33,Mapping!F:H,2,0),"") | M33: =IFERROR(VLOOKUP($K33,Mapping!$F:$H,3,0),"") | N33: =C33&G33 -> 1
A34: 8 | B34: Bestaat er een opvolgingsprocedure in geval er een slechte bewaring van een geneesmiddel wordt vastgesteld? | C34: 2 | D34: JCI en Qualicor | J34: X1 | K34: =C34&J34&G34 -> 2X1 | L34: =IFERROR(VLOOKUP($K34,Mapping!F:H,2,0),"") | M34: =IFERROR(VLOOKUP($K34,Mapping!$F:$H,3,0),"") | N34: =C34&G34 -> 2
A35: 9 | B35: Is er een beleid rond retourgeneesmiddelen die werden teruggestuurd vanuit de decentrale voorraden? | C35: 2 | D35: JCI en Qualicor | J35: X1 | K35: =C35&J35&G35 -> 2X1 | L35: =IFERROR(VLOOKUP($K35,Mapping!F:H,2,0),"") | M35: =IFERROR(VLOOKUP($K35,Mapping!$F:$H,3,0),"") | N35: =C35&G35 -> 2
A36: 10 | B36: Bestaat er een procedure voor de verwijdering van vervallen en/of niet-conforme geneesmiddelen? | C36: 2 | D36: JCI en Qualicor | J36: X1 | K36: =C36&J36&G36 -> 2X1 | L36: =IFERROR(VLOOKUP($K36,Mapping!F:H,2,0),"") | M36: =IFERROR(VLOOKUP($K36,Mapping!$F:$H,3,0),"") | N36: =C36&G36 -> 2
A37: 11 | B37: Is er een procedure voor de opslag van geneesmiddelenstalen? | C37: 2 | D37: JCI en Qualicor | J37: X1 | K37: =C37&J37&G37 -> 2X1 | L37: =IFERROR(VLOOKUP($K37,Mapping!F:H,2,0),"") | M37: =IFERROR(VLOOKUP($K37,Mapping!$F:$H,3,0),"") | N37: =C37&G37 -> 2
A38: 12 | B38: Is er een procedure voor een systematische opvolging van de back-orders (stockbreuken)? | C38: 1 | D38: KB 30 sept 2020 | E38: Bijlage ICa | J38: X1 | K38: =C38&J38&G38 -> 1X1 | L38: =IFERROR(VLOOKUP($K38,Mapping!F:H,2,0),"") | M38: =IFERROR(VLOOKUP($K38,Mapping!$F:$H,3,0),"") | N38: =C38&G38 -> 1
A39: b | B39: Inventaris | C39: Progress :: | G39: =SUBTOTAL(3,G40:G48)/SUBTOTAL(3,C40:C48) -> 0 | L39: =SUBTOTAL(9,L40:L48) -> 0 | M39: =SUBTOTAL(9,M40:M48) -> 0
A40: 1 | B40: Wordt er jaarlijks onder elektronische vorm een overzicht gemaakt van alle geneesmiddelen en grondstoffen en hun aantal eenheden die op dat tijdstip voorradig zijn in de ziekenhuisapotheek? | C40: 1 | D40: KB 30 sept 2020 | E40: Art 29 | J40: X1 | K40: =C40&J40&G40 -> 1X1 | L40: =IFERROR(VLOOKUP($K40,Mapping!F:H,2,0),"") | M40: =IFERROR(VLOOKUP($K40,Mapping!$F:$H,3,0),"") | N40: =C40&G40 -> 1
A41: 2 | B41: Wordt dit jaarlijks elektronisch overzicht gedateerd en ondertekend door de ziekenhuisapotheker? | C41: 1 | D41: KB 30 sept 2020 | E41: Art 29 | J41: X1 | K41: =C41&J41&G41 -> 1X1 | L41: =IFERROR(VLOOKUP($K41,Mapping!F:H,2,0),"") | M41: =IFERROR(VLOOKUP($K41,Mapping!$F:$H,3,0),"") | N41: =C41&G41 -> 1
...

Sheet rapport
B1: MAEIA Distributie Rapport
A3: Date : | I3: Adapt these cells
A4: Ziekenhuis : | I4: Adapt these cells
A5: Hoofdapotheker : | I5: Adapt these cells
A6: Auditeur naam : | I6: Adapt these cells
C7: Max | D7: Score
A8: Total score | C8: ='proces distributie'!L3 -> 5 | D8: ='proces distributie'!M3 -> 3 | K8: Make sure total is correct | L8: Make sure total is correct
A9: ='proces distributie'!A7 -> I | B9: ='proces distributie'!B7 -> Kwaliteitsopvolging van het sterilisatieproces | C9: ='proces distributie'!L7 -> 5 | D9: ='proces distributie'!M7 -> 3 | H9: Copy Paste visible cells from questionnaire sheet | I9: Copy Paste visible cells from questionnaire sheet | J9: Copy Paste visible cells from questionnaire sheet | K9: Copy Paste visible cells from questionnaire sheet | L9: Copy Paste visible cells from questionnaire sheet
A10: ='proces distributie'!A13 -> II | B10: ='proces distributie'!B13 -> Algemeen | C10: ='proces distributie'!L13 -> 0 | D10: ='proces distributie'!M13 -> 0 | H10: Copy Paste visible cells from questionnaire sheet | I10: Copy Paste visible cells from questionnaire sheet | J10: Copy Paste visible cells from questionnaire sheet | K10: Copy Paste visible cells from questionnaire sheet | L10: Copy Paste visible cells from questionnaire sheet
A11: ='proces distributie'!A23 -> III | B11: ='proces distributie'!B23 -> Opslag geneesmiddelen | C11: ='proces distributie'!L23 -> 0 | D11: ='proces distributie'!M23 -> 0 | H11: Copy Paste visible cells from questionnaire sheet | I11: Copy Paste visible cells from questionnaire sheet | J11: Copy Paste visible cells from questionnaire sheet | K11: Copy Paste visible cells from questionnaire sheet | L11: Copy Paste visible cells from questionnaire sheet
A12: ='proces distributie'!A26 -> a | B12: ='proces distributie'!B26 -> Algemeen | C12: ='proces distributie'!L26 -> 0 | D12: ='proces distributie'!M26 -> 0 | H12: Copy Paste visible cells from questionnaire sheet | I12: Copy Paste visible cells from questionnaire sheet | J12: Copy Paste visible cells from questionnaire sheet | K12: Copy Paste visible cells from questionnaire sheet | L12: Copy Paste visible cells from questionnaire sheet
A13: ='proces distributie'!A39 -> b | B13: ='proces distributie'!B39 -> Inventaris | C13: ='proces distributie'!L39 -> 0 | D13: ='proces distributie'!M39 -> 0 | H13: Copy Paste visible cells from questionnaire sheet | I13: Copy Paste visible cells from questionnaire sheet | J13: Copy Paste visible cells from questionnaire sheet | K13: Copy Paste visible cells from questionnaire sheet | L13: Copy Paste visible cells from questionnaire sheet
A14: ='proces distributie'!A49 -> c | B14: ='proces distributie'!B49 -> Voorraadbeheer | C14: ='proces distributie'!L49 -> 0 | D14: ='proces distributie'!M49 -> 0
A15: ='proces distributie'!A60 -> d | B15: ='proces distributie'!B60 -> Infrastructuur | C15: ='proces distributie'!L60 -> 0 | D15: ='proces distributie'!M60 -> 0 | H15: Copy Paste visible cells from questionnaire sheet | I15: Copy Paste visible cells from questionnaire sheet | J15: Copy Paste visible cells from questionnaire sheet | K15: Copy Paste visible cells from questionnaire sheet | L15: Copy Paste visible cells from questionnaire sheet
A16: ='proces distributie'!A66 -> e | B16: ='proces distributie'!B66 -> Veiligheid | C16: ='proces distributie'!L66 -> 0 | D16: ='proces distributie'!M66 -> 0
A17: ='proces distributie'!A77 -> f | B17: ='proces distributie'!B77 -> Onderhoud | C17: ='proces distributie'!L77 -> 0 | D17: ='proces distributie'!M77 -> 0
A18: ='proces distributie'!A88 -> g | B18: ='proces distributie'!B88 -> Zones (mix-up) | C18: ='proces distributie'!L88 -> 0 | D18: ='proces distributie'!M88 -> 0
A19: ='proces distributie'!A97 -> h | B19: ='proces distributie'!B97 -> Transfer patiënt | C19: ='proces distributie'!L97 -> 0 | D19: ='proces distributie'!M97 -> 0
A20: ='proces distributie'!A100 -> i | B20: ='proces distributie'!B100 -> Opslag specifieke geneesmiddelen | C20: ='proces distributie'!L100 -> 0 | D20: ='proces distributie'!M100 -> 0
A21: ='proces distributie'!A109 -> j | B21: ='proces distributie'!B109 -> Noodvoorraad | C21: ='proces distributie'!L109 -> 0 | D21: ='proces distributie'!M109 -> 0
A22: ='proces distributie'!A116 -> k | B22: ='proces distributie'!B116 -> Opslag persoonlijke geneesmiddelen patiënt | C22: ='proces distributie'!L116 -> 0 | D22: ='proces distributie'!M116 -> 0
A23: ='proces distributie'!A124 -> l | B23: ='proces distributie'!B124 -> Recall geneesmiddelen | C23: ='proces distributie'!L124 -> 0 | D23: ='proces distributie'!M124 -> 0
A24: ='proces distributie'!A127 -> m | B24: ='proces distributie'!B127 -> Bewarings-modaliteiten | C24: ='proces distributie'!L127 -> 0 | D24: ='proces distributie'!M127 -> 0
A25: ='proces distributie'!A149 -> n | B25: ='proces distributie'!B149 -> Vervaldatum | C25: ='proces distributie'!L149 -> 0 | D25: ='proces distributie'!M149 -> 0
A26: ='proces distributie'!A154 -> IV | B26: ='proces distributie'!B154 -> Geneesmiddelenvoorschriften | C26: ='proces distributie'!L154 -> 0 | D26: ='proces distributie'!M154 -> 0 | H26: Copy Paste visible cells from questionnaire sheet | I26: Copy Paste visible cells from questionnaire sheet | J26: Copy Paste visible cells from questionnaire sheet | K26: Copy Paste visible cells from questionnaire sheet | L26: Copy Paste visible cells from questionnaire sheet
A27: ='proces distributie'!A157 -> a | B27: ='proces distributie'!B157 -> Algemeen | C27: ='proces distributie'!L157 -> 0 | D27: ='proces distributie'!M157 -> 0 | H27: Copy Paste visible cells from questionnaire sheet | I27: Copy Paste visible cells from questionnaire sheet | J27: Copy Paste visible cells from questionnaire sheet | K27: Copy Paste visible cells from questionnaire sheet | L27: Copy Paste visible cells from questionnaire sheet
A28: ='proces distributie'!A181 -> b | B28: ='proces distributie'!B181 -> Indien nodig voorschriften | C28: ='proces distributie'!L181 -> 0 | D28: ='proces distributie'!M181 -> 0 | H28: Copy Paste visible cells from questionnaire sheet | I28: Copy Paste visible cells from questionnaire sheet | J28: Copy Paste visible cells from questionnaire sheet | K28: Copy Paste visible cells from questionnaire sheet | L28: Copy Paste visible cells from questionnaire sheet
A29: ='proces distributie'!A184 -> c | B29: ='proces distributie'!B184 -> Niet formularium voorschriften | C29: ='proces distributie'!L184 -> 0 | D29: ='proces distributie'!M184 -> 0
A30: ='proces distributie'!A186 -> d | B30: ='proces distributie'!B186 -> Staand order | C30: ='proces distributie'!L186 -> 0 | D30: ='proces distributie'!M186 -> 0
A31: ='proces distributie'!A188 -> e | B31: ='proces distributie'!B188 -> Elektronisch voorschrift | C31: ='proces distributie'!L188 -> 0 | D31: ='proces distributie'!M188 -> 0
A32: ='proces distributie'!A212 -> f | B32: ='proces distributie'!B212 -> Implementatie elektronisch voorschrift | C32: ='proces distributie'!L212 -> 0 | D32: ='proces distributie'!M212 -> 0
A33: ='proces distributie'!A230 -> g | B33: ='proces distributie'!B230 -> Systeemveiligheid elektronisch voorschrift (EV) | C33: ='proces distributie'!L230 -> 0 | D33: ='proces distributie'!M230 -> 0
A34: ='proces distributie'!A243 -> V | B34: ='proces distributie'!B243 -> Aflevering geneesmiddelen | C34: ='proces distributie'!L243 -> 0 | D34: ='proces distributie'!M243 -> 0 | H34: Copy Paste visible cells from questionnaire sheet | I34: Copy Paste visible cells from questionnaire sheet | J34: Copy Paste visible cells from questionnaire sheet | K34: Copy Paste visible cells from questionnaire sheet | L34: Copy Paste visible cells from questionnaire sheet
A35: ='proces distributie'!A246 -> a | B35: ='proces distributie'!B246 -> Algemeen | C35: ='proces distributie'!L246 -> 0 | D35: ='proces distributie'!M246 -> 0 | H35: Copy Paste visible cells from questionnaire sheet | I35: Copy Paste visible cells from questionnaire sheet | J35: Copy Paste visible cells from questionnaire sheet | K35: Copy Paste visible cells from questionnaire sheet | L35: Copy Paste visible cells from questionnaire sheet
A36: ='proces distributie'!A273 -> b | B36: ='proces distributie'!B273 -> Substitutie | C36: ='proces distributie'!L273 -> 0 | D36: ='proces distributie'!M273 -> 0
A37: ='proces distributie'!A275 -> c | B37: ='proces distributie'!B275 -> Klinische validatie voorschrift | C37: ='proces distributie'!L275 -> 0 | D37: ='proces distributie'!M275 -> 0
A38: ='proces distributie'!A277 -> d | B38: ='proces distributie'!B277 -> Logistieke controle apotheker voor aflevering | C38: ='proces distributie'!L277 -> 0 | D38: ='proces distributie'!M277 -> 0
A39: ='proces distributie'!A280 -> e | B39: ='proces distributie'!B280 -> Transport | C39: ='proces distributie'!L280 -> 0 | D39: ='proces distributie'!M280 -> 0
A40: ='proces distributie'!A308 -> f | B40: ='proces distributie'!B308 -> Aflevering bij ontslag | C40: ='proces distributie'!L308 -> 0 | D40: ='proces distributie'!M308 -> 0
A41: ='proces distributie'!A315 -> g | B41: ='proces distributie'!B315 -> Documentatie aflevering | C41: ='proces distributie'!L315 -> 0 | D41: ='proces distributie'!M315 -> 0
...

Sheet actiepunten auditee
A3: Actiepunt | B3: Nummer | C3: ..… | D3: Oorsprong :
D4: o Tekortkoming niveau 1
D5: o Verbeterpunt niveau 2
D6: o Verbeterpunt niveau 3
D7: o Observatie
A8: Geaudit proces | B8: ………..
A9: Auditdatum | B9: …../…../….. | D9: Auditor | E9: ……………………………………………
A10: Auditee | B10: ………………………………………………………………………………..
A11: Omschrijving van de tekortkoming / verbeterpunt / observatie
A12: Voorgestelde maatregel door de auditee | B12: Oorzaak
B15: Actie
B21: Verantwoordelijke
B23: Termijn
A26: Opvolgrapport
A27: (cumulatief)
A44: Conclusie

Sheet Mapping
B4: MAPPING TABLE | G4: points
B5: Base points | C5: Niveau | D5: Extra gewicht factor | E5: Antwoord | F5: Code | G5: Total | H5: Score | M5: Somme | P5: Speedometer | R5: Pointer
A6: Ja Groep | B6: 1 | C6: 3 | D6: X3 | E6: Ja | F6: =C6&D6&E6 -> 3X3Ja | G6: 3 | H6: 3 | L6: Ja | M6: =COUNTIF('proces distributie'!$G:$G,Mapping!$L6) -> 2 | P6: Start | Q6: 0 | R6: Value | S6: =+ROUND(M11/M10,2)*100 -> 60
A7: Ja Groep | B7: 1 | C7: 3 | D7: X2 | E7: Ja | F7: =C7&D7&E7 -> 3X2Ja | G7: 2 | H7: 2 | L7: Neen | M7: =COUNTIF('proces distributie'!$G:$G,Mapping!$L7) -> 2 | P7: Initial | Q7: 60 | R7: Pointer | S7: 1
A8: Ja Groep | B8: 1 | C8: 3 | D8: X1 | E8: Ja | F8: =C8&D8&E8 -> 3X1Ja | G8: 1 | H8: 1 | L8: NVT | M8: =COUNTIF('proces distributie'!$G:$G,Mapping!$L8) -> 1 | P8: Middle | Q8: 30 | R8: end | S8: =200-S7-S6 -> 139
A9: Ja Groep | B9: 1 | C9: 3 | D9: X0,33 | E9: Ja | F9: =C9&D9&E9 -> 3X0,33Ja | G9: =1/3 -> 0.33333333 | H9: =1/3 -> 0.33333333 | L9: Somme | M9: =SUM(M6:M8) -> 5 | P9: End | Q9: 10
A10: Ja Groep | B10: 1 | C10: 3 | D10: X0,66 | E10: Ja | F10: =C10&D10&E10 -> 3X0,66Ja | G10: =2/3 -> 0.66666667 | H10: =2/3 -> 0.66666667 | L10: Total | M10: ='proces distributie'!$L$3 -> 5 | P10: Max | Q10: 100
A11: Ja Groep | B11: 1 | C11: 3 | D11: X1 | E11: Ja | F11: =C11&D11&E11 -> 3X1Ja | G11: 1 | H11: 1 | L11: Score | M11: ='proces distributie'!$M$3 -> 3
A12: Ja Groep | B12: 3 | C12: 2 | D12: X3 | E12: Ja | F12: =C12&D12&E12 -> 2X3Ja | G12: 9 | H12: 9 | S12: ="Total Score : "&S6&"%" -> Total Score : 60%
A13: Ja Groep | B13: 3 | C13: 2 | D13: X2 | E13: Ja | F13: =C13&D13&E13 -> 2X2Ja | G13: 6 | H13: 6
A14: Ja Groep | B14: 3 | C14: 2 | D14: X1 | E14: Ja | F14: =C14&D14&E14 -> 2X1Ja | G14: 3 | H14: 3 | L14: ROUGE | M14: 60
A15: Ja Groep | B15: 3 | C15: 2 | D15: X0,33 | E15: Ja | F15: =C15&D15&E15 -> 2X0,33Ja | G15: 1 | H15: 1 | L15: ORANGE | M15: 30
A16: Ja Groep | B16: 3 | C16: 2 | D16: X0,66 | E16: Ja | F16: =C16&D16&E16 -> 2X0,66Ja | G16: 2 | H16: 2 | L16: VERT | M16: 10
A17: Ja Groep | B17: 3 | C17: 2 | D17: X1 | E17: Ja | F17: =C17&D17&E17 -> 2X1Ja | G17: 3 | H17: 3 | L17: Invisible | M17: 100
A18: Ja Groep | B18: 6 | C18: 1 | D18: X3 | E18: Ja | F18: =C18&D18&E18 -> 1X3Ja | G18: 18 | H18: 18
A19: Ja Groep | B19: 6 | C19: 1 | D19: X2 | E19: Ja | F19: =C19&D19&E19 -> 1X2Ja | G19: 12 | H19: 12
A20: Ja Groep | B20: 6 | C20: 1 | D20: X1 | E20: Ja | F20: =C20&D20&E20 -> 1X1Ja | G20: 6 | H20: 6 | L20: Aiguille | M20: =M7/M9 -> 0.4
A21: Ja Groep | B21: 6 | C21: 1 | D21: X0,33 | E21: Ja | F21: =C21&D21&E21 -> 1X0,33Ja | G21: 2 | H21: 2 | L21: Largeur | M21: 1
A22: Ja Groep | B22: 6 | C22: 1 | D22: X0,66 | E22: Ja | F22: =C22&D22&E22 -> 1X0,66Ja | G22: 4 | H22: 4 | L22: Invisible | M22: =SUM(M14:M17)-(M21+M20) -> 198.6
A23: Ja Groep | B23: 6 | C23: 1 | D23: X1 | E23: Ja | F23: =C23&D23&E23 -> 1X1Ja | G23: 6 | H23: 6
A24: Neen groep | B24: 1 | C24: 3 | D24: X3 | E24: Neen | F24: =C24&D24&E24 -> 3X3Neen | G24: 3 | H24: 0 | L24: RIEN
A25: Neen groep | B25: 1 | C25: 3 | D25: X2 | E25: Neen | F25: =C25&D25&E25 -> 3X2Neen | G25: 2 | H25: 0 | L25: Aiguille | M25: =ROUND(M20,0)&"%" -> 0%
A26: Neen groep | B26: 1 | C26: 3 | D26: X1 | E26: Neen | F26: =C26&D26&E26 -> 3X1Neen | G26: 1 | H26: 0 | L26: RIEN
A27: Neen groep | B27: 1 | C27: 3 | D27: X0,33 | E27: Neen | F27: =C27&D27&E27 -> 3X0,33Neen | G27: =1/3 -> 0.33333333 | H27: 0
A28: Neen groep | B28: 1 | C28: 3 | D28: X0,66 | E28: Neen | F28: =C28&D28&E28 -> 3X0,66Neen | G28: =2/3 -> 0.66666667 | H28: 0
A29: Neen groep | B29: 1 | C29: 3 | D29: X1 | E29: Neen | F29: =C29&D29&E29 -> 3X1Neen | G29: 1 | H29: 0
A30: Neen groep | B30: 3 | C30: 2 | D30: X3 | E30: Neen | F30: =C30&D30&E30 -> 2X3Neen | G30: 9 | H30: 0
A31: Neen groep | B31: 3 | C31: 2 | D31: X2 | E31: Neen | F31: =C31&D31&E31 -> 2X2Neen | G31: 6 | H31: 0
A32: Neen groep | B32: 3 | C32: 2 | D32: X1 | E32: Neen | F32: =C32&D32&E32 -> 2X1Neen | G32: 3 | H32: 0
A33: Neen groep | B33: 3 | C33: 2 | D33: X0,33 | E33: Neen | F33: =C33&D33&E33 -> 2X0,33Neen | G33: 1 | H33: 0
A34: Neen groep | B34: 3 | C34: 2 | D34: X0,66 | E34: Neen | F34: =C34&D34&E34 -> 2X0,66Neen | G34: 2 | H34: 0
A35: Neen groep | B35: 3 | C35: 2 | D35: X1 | E35: Neen | F35: =C35&D35&E35 -> 2X1Neen | G35: 3 | H35: 0
A36: Neen groep | B36: 6 | C36: 1 | D36: X3 | E36: Neen | F36: =C36&D36&E36 -> 1X3Neen | G36: 18 | H36: 0
A37: Neen groep | B37: 6 | C37: 1 | D37: X2 | E37: Neen | F37: =C37&D37&E37 -> 1X2Neen | G37: 12 | H37: 0
A38: Neen groep | B38: 6 | C38: 1 | D38: X1 | E38: Neen | F38: =C38&D38&E38 -> 1X1Neen | G38: 6 | H38: 0
A39: Neen groep | B39: 6 | C39: 1 | D39: X0,33 | E39: Neen | F39: =C39&D39&E39 -> 1X0,33Neen | G39: 2 | H39: 0
A40: Neen groep | B40: 6 | C40: 1 | D40: X0,66 | E40: Neen | F40: =C40&D40&E40 -> 1X0,66Neen | G40: 4 | H40: 0
... A59: NVT groep | B59: 6 | C59: 1 | D59: X1 | E59: NVT | F59: =C59&D59&E59 -> 1X1NVT | G59: 0 | H59: 0
