Workbook

Sheet algemene inleiding

Sheet handleiding
A2: Hoe gebruiken we de kwaliteitstool MAEIA?

Sheet expertenteam
A1: MET DANK AAN HET EXPERTENTEAM
A3: Lies De Waele
A4: Matthias Wallaert
A5: Kurt Verbeke
A6: Marc De Schepper
A7: Sofie Vanhaelewyn
A8: Mathijs lazeure
A9: Anke Onsia
A10: Kim Herman
A11: Sara Bink
A12: Siska Desplenter
A13: Elien Daeyaert
... A16: Krishna Vanderbist

Sheet inleiding ..... 
A1: INLEIDING DISTRIBUTIE

Sheet inhoudstafel

Sheet proces distributie
A2: VERSIE 20230601 | B2: DISTRIBUTIE | C2: NIVEAU | D2: Referentie | E2: ter info: artikelnummer, §, pagina | G2: ANTWOORD | H2: OPMERKINGEN | J2: extra factor gewicht | L2: TOTAL | M2: SCORE
C3: 1 = WETGEVING (= 6 punten) | H3: OPMERKINGEN | L3: =SUBTOTAL(9,L7:L517) -> 5 | M3: =SUBTOTAL(9,M7:M517) -> 3
C4: 2 = RICHTLIJNEN, NORMEN, AANBEVELINGEN (= 3 punten) | G4: Ja
C5: 3 = GOOD PRACTICE (= 1 punt) | G5: Neen
G6: NVT | K6: Code | L6: Total | M6: Score
A7: I | B7: Kwaliteitsopvolging van het sterilisatieproces | C7: Progress :: | G7: =SUBTOTAL(3,G10:G12)/SUBTOTAL(3,C10:C12) -> 0.66666667 | L7: =SUBTOTAL(9,L10:L12) -> 5 | M7: =SUBTOTAL(9,M10:M12) -> 3
B8: AUDITVRAGEN
B9: Controleer altijd de documentatie en de toepassing op de werkvloer.
A10: 1 | B10: Werden alle genomen acties op basis van de tekortkomingen van niveau 1 die bij de vorige audit werden vastgesteld adequaat opgevolgd en met met succes geïmplementeerd? | C10: 3 | D10: Good Practice | G10: Ja | J10: X3 | K10: =C10&J10&G10 -> 3X3Ja | L10: =IFERROR(VLOOKUP($K10,Mapping!$F:$H,2,0),"") -> 3 | M10: =IFERROR(VLOOKUP($K10,Mapping!$F:$H,3,0),"") -> 3 | N10: =C10&G10 -> 3Ja
A11: 2 | B11: Werden alle genomen acties op basis van de verbeterpunten van niveau 2 die bij de vorige audit werden vastgesteld adequaat opgevolgd en met met succes geïmplementeerd? | C11: 3 | D11: Good Practice | G11: Neen | J11: X2 | K11: =C11&J11&G11 -> 3X2Neen | L11: =IFERROR(VLOOKUP($K11,Mapping!F:H,2,0),"") -> 2 | M11: =IFERROR(VLOOKUP($K11,Mapping!$F:$H,3,0),"") -> 0 | N11: =C11&G11 -> 3Neen
A12: 3 | B12: Werden alle genomen acties op basis van de verbeterpunten van niveau 3 die bij de vorige audit werden vastgesteld adequaat opgevolgd en met met succes geïmplementeerd? | C12: 3 | D12: Good Practice | J12: X1 | K12: =C12&J12&G12 -> 3X1 | L12: =IFERROR(VLOOKUP($K12,Mapping!F:H,2,0),"") | M12: =IFERROR(VLOOKUP($K12,Mapping!$F:$H,3,0),"") | N12: =C12&G12 -> 3
A13: II | B13: Algemeen | C13: Progress :: | G13: =SUBTOTAL(3,G16:G22)/(SUBTOTAL(3,C16:C22)-3) -> 0 | L13: =SUBTOTAL(9,L16:L22) -> 0 | M13: =SUBTOTAL(9,M16:M22) -> 0
B14: AUDITVRAGEN
B15: Controleer altijd de documentatie en de toepassing op de werkvloer.
A16: 1 | B16: Is er een algemene procedure (en/of een stroomdiagram) beschikbaar die het distributiesysteem in zijn geheel beschrijft? | C16: 2 | D16: JCI (MMU.1-ACI 2.4) en Qualicor | J16: X1 | K16: =C16&J16&G16 -> 2X1 | L16: =IFERROR(VLOOKUP($K16,Mapping!F:H,2,0),"") | M16: =IFERROR(VLOOKUP($K16,Mapping!$F:$H,3,0),"") | N16: =C16&G16 -> 2
A17: 2 | B17: Is er een procedure rond de uitzonderlijke afwijkingen van de algemene procedure in het kader van noodsituaties of dringende afleveringen? | C17: 1 | D17: KB 4 maart 1991 Art 9 en KB 30 sept 2020 en KB 18 juni 1990 Art 7 | J17: X1 | K17: =C17&J17&G17 -> 1X1 | L17: =IFERROR(VLOOKUP($K17,Mapping!F:H,2,0),"") | M17: =IFERROR(VLOOKUP($K17,Mapping!$F:$H,3,0),"") | N17: =C17&G17 -> 1
A18: 3 | B18: Is er een procedure rond de uitzonderlijke afwijkingen van de algemene procedure in het kader van staande orders? | C18: 2 | D18: JCI en Qualicor | J18: X1 | K18: =C18&J18&G18 -> 2X1 | L18: =IFERROR(VLOOKUP($K18,Mapping!F:H,2,0),"") | M18: =IFERROR(VLOOKUP($K18,Mapping!$F:$H,3,0),"") | N18: =C18&G18 -> 2
A19: 4 | B19: Is er een procedure rond de uitzonderlijke afwijkingen van de algemene procedure in het kader van mondelinge orders? | C19: 2 | D19: JCI en Qualicor | J19: X1 | K19: =C19&J19&G19 -> 2X1 | L19: =IFERROR(VLOOKUP($K19,Mapping!F:H,2,0),"") | M19: =IFERROR(VLOOKUP($K19,Mapping!$F:$H,3,0),"") | N19: =C19&G19 -> 2
A20: 5 | B20: Is er een procedure rond het beheer van de geneesmiddelenstalen? | C20: 2 | D20: JCI en Qualicor | J20: X1 | K20: =C20&J20&G20 -> 2X1 | L20: =IFERROR(VLOOKUP($K20,Mapping!F:H,2,0),"") | M20: =IFERROR(VLOOKUP($K20,Mapping!$F:$H,3,0),"") | N20: =C20&G20 -> 2
A21: 6 | B21: Bestaat er een algemene procedure (en/of flowchart) voor het beheer van persoonlijke geneesmiddelen van de patiënt binnen het geneesmiddelencircuit die de opslag, registratie, toedieningsmodaliteiten en bewaringsmodaliteiten omvat? | C21: 2 | D21: JCI en Qualicor | J21: X1 | K21: =C21&J21&G21 -> 2X1 | L21: =IFERROR(VLOOKUP($K21,Mapping!F:H,2,0),"") | M21: =IFERROR(VLOOKUP($K21,Mapping!$F:$H,3,0),"") | N21: =C21&G21 -> 2
A22: 7 | B22: Is er een periodieke evaluatie van deze procedures? | C22: 1 | D22: KB 30 sept 2020 | E22: Bijlage IA | J22: X1 | K22: =C22&J22&G22 -> 1X1 | L22: =IFERROR(VLOOKUP($K22,Mapping!F:H,2,0),"") | M22: =IFERROR(VLOOKUP($K22,Mapping!$F:$H,3,0),"") | N22: =C22&G22 -> 1
A23: III | B23: Opslag geneesmiddelen | C23: Progress :: | G23: =SUBTOTAL(3,G26:G153)/(SUBTOTAL(3,C26:C153)-3) -> 0 | L23: =SUBTOTAL(9,L26:L153) -> 0 | M23: =SUBTOTAL(9,M26:M153) -> 0
B24: AUDITVRAGEN
B25: Controleer altijd de documentatie en de toepassing op de werkvloer.
A26: a | B26: Algemeen | C26: Progress :: | G26: =SUBTOTAL(3,G38:G38)/SUBTOTAL(3,C38:C38) -> 0 | L26: =SUBTOTAL(9,L27:L38) -> 0 | M26: =SUBTOTAL(9,M27:M38) -> 0
A27: 1 | B27: Bestaat er een procedure voor het bewaren van geneesmiddelen in de centrale apotheek? | C27: 2 | D27: JCI | J27: X1 | K27: =C27&J27&G27 -> 2X1 | L27: =IFERROR(VLOOKUP($K27,Mapping!F:H,2,0),"") | M27: =IFERROR(VLOOKUP($K27,Mapping!$F:$H,3,0),"") | N27: =C27&G27 -> 2
A28: 2 | B28: Bestaat er een procedure voor het beheer van de spoedkasten, die minstens beschrijft hoe de evaluatie gebeurt van de samenstelling van de decentrale voorraad, wat de wijze is van bevoorrading, ontvangst, ordening producten, terugname niet gebruikte producten, intrekkingen, nazicht vervaldata en meldingen van niet-conformiteiten? | C28: 1 | D28: KB 30 sept 2020 | E28: Bijlage ICg | J28: X1 | K28: =C28&J28&G28 -> 1X1 | L28: =IFERROR(VLOOKUP($K28,Mapping!F:H,2,0),"") | M28: =IFERROR(VLOOKUP($K28,Mapping!$F:$H,3,0),"") | N28: =C28&G28 -> 1
A29: 3 | B29: Wordt de inhoud van de spoedkasten vastgelegd in een lijst die door de ziekenhuisapotheker-titularis en de betrokken arts werden opgesteld, gedateerd en ondertekend? | C29: 1 | D29: KB 30 sept 2020 | E29: Art 13§2 | J29: X1 | K29: =C29&J29&G29 -> 1X1 | L29: =IFERROR(VLOOKUP($K29,Mapping!F:H,2,0),"") | M29: =IFERROR(VLOOKUP($K29,Mapping!$F:$H,3,0),"") | N29: =C29&G29 -> 1
A30: 4 | B30: Wordt de inhoudslijst van de spoedkasten door de ziekenhuisapotheker verder aangevuld met de regels tot betrekking van de bewaring? | C30: 1 | D30: KB 30 sept 2020 | E30: Art 13§2 | J30: X1 | K30: =C30&J30&G30 -> 1X1 | L30: =IFERROR(VLOOKUP($K30,Mapping!F:H,2,0),"") | M30: =IFERROR(VLOOKUP($K30,Mapping!$F:$H,3,0),"") | N30: =C30&G30 -> 1
A31: 5 | B31: Wordt de inhoudslijst door de ziekenhuisapotheker en de betrokken arts minstens jaarlijks geëvalueerd en aangepast naar de noden van de afdeling? | C31: 1 | D31: KB 30 sept 2020 | E31: Art 13§3 | J31: X1 | K31: =C31&J31&G31 -> 1X1 | L31: =IFERROR(VLOOKUP($K31,Mapping!F:H,2,0),"") | M31: =IFERROR(VLOOKUP($K31,Mapping!$F:$H,3,0),"") | N31: =C31&G31 -> 1
A32: 6 | B32: Is er een proces opgesteld voor een periodieke controle van de kwaliteit en veiligheid van de opgeslagen geneesmiddelen in de centrale stock? | C32: 1 | D32: KB 30 sept 2020 | E32: Bijlage ICc | J32: X1 | K32: =C32&J32&G32 -> 1X1 | L32: =IFERROR(VLOOKUP($K32,Mapping!F:H,2,0),"") | M32: =IFERROR(VLOOKUP($K32,Mapping!$F:$H,3,0),"") | N32: =C32&G32 -> 1
A33: 7 | B33: Is er een proces opgesteld voor een periodieke controle van de kwaliteit en veiligheid van de opgeslagen geneesmiddelen in de decentrale stock? | C33: 1 | D33: KB 30 sept 2020 | E33: Bijlage ICc | J33: X1 | K33: =C33&J33&G33 -> 1X1 | L33: =IFERROR(VLOOKUP($K33,Mapping!F:H,2,0),"") | M33: =IFERROR(VLOOKUP($K33,Mapping!$F:$H,3,0),"") | N33: =C33&G33 -> 1
A34: 8 | B34: Bestaat er een opvolgingsprocedure in geval er een slechte bewaring van een geneesmiddel wordt vastgesteld? | C34: 2 | D34: JCI en Qualicor | J34: X1 | K34: =C34&J34&G34 -> 2X1 | L34: =IFERROR(VLOOKUP($K34,Mapping!F:H,2,0),"") | M34: =IFERROR(VLOOKUP($K34,Mapping!$F:$H,3,0),"") | N34: =C34&G34 -> 2
A35: 9 | B35: Is er een beleid rond retourgeneesmiddelen die werden teruggestuurd vanuit de decentrale voorraden? | C35: 2 | D35: JCI en Qualicor | J35: X1 | K35: =C35&J35&G35 -> 2X1 | L35: =IFERROR(VLOOKUP($K35,Mapping!F:H,2,0),"") | M35: =IFERROR(VLOOKUP($K35,Mapping!$F:$H,3,0),"") | N35: =C35&G35 -> 2
A36: 10 | B36: Bestaat er een procedure voor de verwijdering van vervallen en/of niet-conforme geneesmiddelen? | C36: 2 | D36: JCI en Qualicor | J36: X1 | K36: =C36&J36&G36 -> 2X1 | L36: =IFERROR(VLOOKUP($K36,Mapping!F:H,2,0),"") | M36: =IFERROR(VLOOKUP($K36,Mapping!$F:$H,3,0),"") | N36: =C36&G36 -> 2
A37: 11 | B37: Is er een procedure voor de opslag van geneesmiddelenstalen? | C37: 2 | D37: JCI en Qualicor | J37: X1 | K37: =C37&J37&G37 -> 2X1 | L37: =IFERROR(VLOOKUP($K37,Mapping!F:H,2,0),"") | M37: =IFERROR(VLOOKUP($K37,Mapping!$F:$H,3,0),"") | N37: =C37&G37 -> 2
A38: 12 | B38: Is er een procedure voor een systematische opvolging van de back-orders (stockbreuken)? | C38: 1 | D38: KB 30 sept 2020 | E38: Bijlage ICa | J38: X1 | K38: =C38&J38&G38 -> 1X1 | L38: =IFERROR(VLOOKUP($K38,Mapping!F:H,2,0),"") | M38: =IFERROR(VLOOKUP($K38,Mapping!$F:$H,3,0),"") | N38: =C38&G38 -> 1
A39: b | B39: Inventaris | C39: Progress :: | G39: =SUBTOTAL(3,G40:G48)/SUBTOTAL(3,C40:C48) -> 0 | L39: =SUBTOTAL(9,L40:L48) -> 0 | M39: =SUBTOTAL(9,M40:M48) -> 0
A40: 1 | B40: Wordt er jaarlijks onder elektronische vorm een overzicht gemaakt van alle geneesmiddelen en grondstoffen en hun aantal eenheden die op dat tijdstip voorradig zijn in de ziekenhuisapotheek? | C40: 1 | D40: KB 30 sept 2020 | E40: Art 29 | J40: X1 | K40: =C40&J40&G40 -> 1X1 | L40: =IFERROR(VLOOKUP($K40,Mapping!F:H,2,0),"") | M40: =IFERROR(VLOOKUP($K40,Mapping!$F:$H,3,0),"") | N40: =C40&G40 -> 1
A41: 2 | B41: Wordt dit jaarlijks elektronisch overzicht gedateerd en ondertekend door de ziekenhuisapotheker? | C41: 1 | D41: KB 30 sept 2020 | E41: Art 29 | J41: X1 | K41: =C41&J41&G41 -> 1X1 | L41: =IFERROR(VLOOKUP($K41,Mapping!F:H,2,0),"") | M41: =IFERROR(VLOOKUP($K41,Mapping!$F:$H,3,0),"") | N41: =C41&G41 -> 1
A42: 3 | B42: Wordt er in de loop van het jaar een continue inventaris opgemaakt van elk geneesmiddel (cycle counting)? | C42: 3 | D42: Good Practice | J42: X1 | K42: =C42&J42&G42 -> 3X1 | L42: =IFERROR(VLOOKUP($K42,Mapping!F:H,2,0),"") | M42: =IFERROR(VLOOKUP($K42,Mapping!$F:$H,3,0),"") | N42: =C42&G42 -> 3
A43: 4 | B43: Wordt er in de loop van het jaar een continue inventaris opgemaakt van een aantal specifieke geneesmiddel (cycle counting)? | C43: 3 | D43: Good Practice | J43: X1 | K43: =C43&J43&G43 -> 3X1 | L43: =IFERROR(VLOOKUP($K43,Mapping!F:H,2,0),"") | M43: =IFERROR(VLOOKUP($K43,Mapping!$F:$H,3,0),"") | N43: =C43&G43 -> 3
A44: 5 | B44: Wordt minstens twee keer per jaar een inventaris uitgevoerd naar de correcte inhoud van decentrale voorraden? | C44: 1 | D44: KB 30 sept 2020 | E44: Art 13§3 | J44: X1 | K44: =C44&J44&G44 -> 1X1 | L44: =IFERROR(VLOOKUP($K44,Mapping!F:H,2,0),"") | M44: =IFERROR(VLOOKUP($K44,Mapping!$F:$H,3,0),"") | N44: =C44&G44 -> 1
A45: 6 | B45: Wordt er elk jaar een verschillenrapport (verschillen tussen de reële hoeveelheden in stock en de stock in het computersysteem) opgesteld voor de farmaceutische specialiteiten in de centrale stock? | C45: 3 | D45: Good Practice | J45: X1 | K45: =C45&J45&G45 -> 3X1 | L45: =IFERROR(VLOOKUP($K45,Mapping!F:H,2,0),"") | M45: =IFERROR(VLOOKUP($K45,Mapping!$F:$H,3,0),"") | N45: =C45&G45 -> 3
A46: 7 | B46: Wordt er elk jaar een verschillenrapport (verschillen tussen de reële hoeveelheden in stock en de stock in het computersysteem) opgesteld voor de farmaceutische specialiteiten in de decentrale stock? | C46: 3 | D46: Good Practice | J46: X1 | K46: =C46&J46&G46 -> 3X1 | L46: =IFERROR(VLOOKUP($K46,Mapping!F:H,2,0),"") | M46: =IFERROR(VLOOKUP($K46,Mapping!$F:$H,3,0),"") | N46: =C46&G46 -> 3
A47: 8 | B47: Wordt het verschillenrapport van de centrale stock geanalyseerd, geëvalueerd en worden er verbeterpunten opgesteld? | C47: 3 | D47: Good Practice | J47: X1 | K47: =C47&J47&G47 -> 3X1 | L47: =IFERROR(VLOOKUP($K47,Mapping!F:H,2,0),"") | M47: =IFERROR(VLOOKUP($K47,Mapping!$F:$H,3,0),"") | N47: =C47&G47 -> 3
A48: 9 | B48: Wordt het verschillenrapport van de decentrale stock geanalyseerd, geëvalueerd en worden er verbeterpunten opgesteld? | C48: 3 | D48: Good Practice | J48: X1 | K48: =C48&J48&G48 -> 3X1 | L48: =IFERROR(VLOOKUP($K48,Mapping!F:H,2,0),"") | M48: =IFERROR(VLOOKUP($K48,Mapping!$F:$H,3,0),"") | N48: =C48&G48 -> 3
A49: c | B49: Voorraadbeheer | C49: Progress :: | G49: =SUBTOTAL(3,G50:G59)/SUBTOTAL(3,C50:C59) -> 0 | L49: =SUBTOTAL(9,L50:L59) -> 0 | M49: =SUBTOTAL(9,M50:M59) -> 0
A50: 1 | B50: Wordt het stockbeheer (kritische drempels, enz...) voor de farmaceutische specialiteiten permanent herzien? | C50: 3 | D50: Good Practice | J50: X1 | K50: =C50&J50&G50 -> 3X1 | L50: =IFERROR(VLOOKUP($K50,Mapping!F:H,2,0),"") | M50: =IFERROR(VLOOKUP($K50,Mapping!$F:$H,3,0),"") | N50: =C50&G50 -> 3
A51: 2 | B51: Worden de drempels bepaald op basis van een ABC analyse? | C51: 3 | D51: Good Practice | J51: X1 | K51: =C51&J51&G51 -> 3X1 | L51: =IFERROR(VLOOKUP($K51,Mapping!F:H,2,0),"") | M51: =IFERROR(VLOOKUP($K51,Mapping!$F:$H,3,0),"") | N51: =C51&G51 -> 3
A52: 3 | B52: Wordt de rotatiesnelheid van de stock van de producten berekend om de besteldrempels te bepalen? | C52: 3 | D52: Good Practice | J52: X1 | K52: =C52&J52&G52 -> 3X1 | L52: =IFERROR(VLOOKUP($K52,Mapping!F:H,2,0),"") | M52: =IFERROR(VLOOKUP($K52,Mapping!$F:$H,3,0),"") | N52: =C52&G52 -> 3
A53: 4 | B53: Wordt de evolutie van de centrale stock systematisch opgevolgd? | C53: 3 | D53: Good Practice | J53: X1 | K53: =C53&J53&G53 -> 3X1 | L53: =IFERROR(VLOOKUP($K53,Mapping!F:H,2,0),"") | M53: =IFERROR(VLOOKUP($K53,Mapping!$F:$H,3,0),"") | N53: =C53&G53 -> 3
A54: 5 | B54: Is er een systematische opvolging van de stock van dure geneesmiddelen in de centrale apotheek? | C54: 3 | D54: Good Practice | J54: X1 | K54: =C54&J54&G54 -> 3X1 | L54: =IFERROR(VLOOKUP($K54,Mapping!F:H,2,0),"") | M54: =IFERROR(VLOOKUP($K54,Mapping!$F:$H,3,0),"") | N54: =C54&G54 -> 3
A55: 6 | B55: Is er een systematische opvolging van de stock van dure geneesmiddelen in de decentrale voorraden van de afdelingen? | C55: 3 | D55: Good Practice | J55: X1 | K55: =C55&J55&G55 -> 3X1 | L55: =IFERROR(VLOOKUP($K55,Mapping!F:H,2,0),"") | M55: =IFERROR(VLOOKUP($K55,Mapping!$F:$H,3,0),"") | N55: =C55&G55 -> 3
A56: 7 | B56: Wordt minstens jaarlijks een evaluatie (herziening) uitgevoerd volgens de noden van de dienst naar de inhoud van decentrale voorraden ? | C56: 1 | D56: KB 30 sept 2020 | E56: Bijlage ICg | J56: X1 | K56: =C56&J56&G56 -> 1X1 | L56: =IFERROR(VLOOKUP($K56,Mapping!F:H,2,0),"") | M56: =IFERROR(VLOOKUP($K56,Mapping!$F:$H,3,0),"") | N56: =C56&G56 -> 1
A57: 8 | B57: Is er voor de toevoegingen aan de inhoud van decentrale voorraden steeds een voorschrift beschikbaar? | C57: 1 | D57: KB 30 sept 2020 | E57: Art 13 | J57: X1 | K57: =C57&J57&G57 -> 1X1 | L57: =IFERROR(VLOOKUP($K57,Mapping!F:H,2,0),"") | M57: =IFERROR(VLOOKUP($K57,Mapping!$F:$H,3,0),"") | N57: =C57&G57 -> 1
A58: 9 | B58: Voldoet de inhoud van de spoedkast aan de wettelijke eis? | C58: 1 | D58: KB 30 sept 2020 | E58: Art 13 | J58: X1 | K58: =C58&J58&G58 -> 1X1 | L58: =IFERROR(VLOOKUP($K58,Mapping!F:H,2,0),"") | M58: =IFERROR(VLOOKUP($K58,Mapping!$F:$H,3,0),"") | N58: =C58&G58 -> 1
A59: 10 | B59: Indien de voorraad van de spoedkast ruimer is toegepast dan de wettelijke eisen, is er dan een validatie van het voorschrift voor toediening? | C59: 2 | D59: JCI en Qualicor | J59: X1 | K59: =C59&J59&G59 -> 2X1 | L59: =IFERROR(VLOOKUP($K59,Mapping!F:H,2,0),"") | M59: =IFERROR(VLOOKUP($K59,Mapping!$F:$H,3,0),"") | N59: =C59&G59 -> 2
A60: d | B60: Infrastructuur | C60: Progress :: | G60: =SUBTOTAL(3,G61:G65)/SUBTOTAL(3,C61:C65) -> 0 | L60: =SUBTOTAL(9,L61:L65) -> 0 | M60: =SUBTOTAL(9,M61:M65) -> 0
A61: 1 | B61: Is er voldoende opslagruimte (m2) volgens de wettelijke omschrijving? | C61: 1 | D61: KB 4 maart 1991 | E61: Art 5 | J61: X1 | K61: =C61&J61&G61 -> 1X1 | L61: =IFERROR(VLOOKUP($K61,Mapping!F:H,2,0),"") | M61: =IFERROR(VLOOKUP($K61,Mapping!$F:$H,3,0),"") | N61: =C61&G61 -> 1
A62: 2 | B62: Is de beschikbare ruimte voldoende voor het efficiënt uitoefenen van distributie gerelateerde activiteiten ? | C62: 1 | D62: KB 30 sept 2020 | E62: Bijlage IB | J62: X1 | K62: =C62&J62&G62 -> 1X1 | L62: =IFERROR(VLOOKUP($K62,Mapping!F:H,2,0),"") | M62: =IFERROR(VLOOKUP($K62,Mapping!$F:$H,3,0),"") | N62: =C62&G62 -> 1
A63: 3 | B63: Is er voldoende opslagruimte voor de geneesmiddelen op de afdelingen? | C63: 3 | D63: Good Practice | J63: X1 | K63: =C63&J63&G63 -> 3X1 | L63: =IFERROR(VLOOKUP($K63,Mapping!F:H,2,0),"") | M63: =IFERROR(VLOOKUP($K63,Mapping!$F:$H,3,0),"") | N63: =C63&G63 -> 3
A64: 4 | B64: Is de apotheek ruimtelijk vlot toegankelijk voor leveranciers, ambulante patiënten en andere zorgverstrekkers? | C64: 1 | D64: KB 4 maart 1991 | E64: Art 4 | J64: X1 | K64: =C64&J64&G64 -> 1X1 | L64: =IFERROR(VLOOKUP($K64,Mapping!F:H,2,0),"") | M64: =IFERROR(VLOOKUP($K64,Mapping!$F:$H,3,0),"") | N64: =C64&G64 -> 1
A65: 5 | B65: Is er in de distributieruimte voldoende verlichting voorzien om de activiteiten correct en veilig uit te voeren? | C65: 2 | D65: Accreditation Canada International (ACI) 12.4 | J65: X1 | K65: =C65&J65&G65 -> 2X1 | L65: =IFERROR(VLOOKUP($K65,Mapping!F:H,2,0),"") | M65: =IFERROR(VLOOKUP($K65,Mapping!$F:$H,3,0),"") | N65: =C65&G65 -> 2
A66: e | B66: Veiligheid | C66: Progress :: | G66: =SUBTOTAL(3,G67:G76)/SUBTOTAL(3,C67:C76) -> 0 | L66: =SUBTOTAL(9,L67:L76) -> 0 | M66: =SUBTOTAL(9,M67:M76) -> 0
A67: 1 | B67: Is de ontvangstzone, opslagzone, bereidingszone en afleveringszone van de apotheek enkel toegankelijk voor personeelsleden van de ziekenhuisapotheek? | C67: 1 | D67: KB 30 sept 2020 | E67: Bijlage 1B | J67: X1 | K67: =C67&J67&G67 -> 1X1 | L67: =IFERROR(VLOOKUP($K67,Mapping!F:H,2,0),"") | M67: =IFERROR(VLOOKUP($K67,Mapping!$F:$H,3,0),"") | N67: =C67&G67 -> 1
A68: 2 | B68: Wordt de toegang tot de apotheek en de stockageruimten gecontroleerd met een elektronisch toegangssysteem? | C68: 3 | D68: Good Practice | J68: X1 | K68: =C68&J68&G68 -> 3X1 | L68: =IFERROR(VLOOKUP($K68,Mapping!F:H,2,0),"") | M68: =IFERROR(VLOOKUP($K68,Mapping!$F:$H,3,0),"") | N68: =C68&G68 -> 3
A69: 3 | B69: Wordt de toegang tot de apotheek en de stockageruimten gecontroleerd met een elektronisch inbraaksysteem? | C69: 3 | D69: Good Practice | J69: X1 | K69: =C69&J69&G69 -> 3X1 | L69: =IFERROR(VLOOKUP($K69,Mapping!F:H,2,0),"") | M69: =IFERROR(VLOOKUP($K69,Mapping!$F:$H,3,0),"") | N69: =C69&G69 -> 3
A70: 4 | B70: Is er een register voor externe personen (bezoekers, technische personeel en onderhoudspersoneel) die toegang krijgen tot de apotheek? | C70: 3 | D70: Good Practice | J70: X1 | K70: =C70&J70&G70 -> 3X1 | L70: =IFERROR(VLOOKUP($K70,Mapping!F:H,2,0),"") | M70: =IFERROR(VLOOKUP($K70,Mapping!$F:$H,3,0),"") | N70: =C70&G70 -> 3
A71: 5 | B71: Zijn de decentrale voorraden afgesloten of staan ze onder direct toezicht van de zorgverstrekkers? | C71: 1 | D71: KB 30 sept 2020 | E71: Bijlage ICg | J71: X1 | K71: =C71&J71&G71 -> 1X1 | L71: =IFERROR(VLOOKUP($K71,Mapping!F:H,2,0),"") | M71: =IFERROR(VLOOKUP($K71,Mapping!$F:$H,3,0),"") | N71: =C71&G71 -> 1
A72: 6 | B72: Zijn alle decentrale voorraden toegankelijk voor de apotheek? | C72: 1 | D72: KB 30 sept 2020 | E72: Art 13 | J72: X1 | K72: =C72&J72&G72 -> 1X1 | L72: =IFERROR(VLOOKUP($K72,Mapping!F:H,2,0),"") | M72: =IFERROR(VLOOKUP($K72,Mapping!$F:$H,3,0),"") | N72: =C72&G72 -> 1
A73: 7 | B73: Zijn de decentrale voorraden beschermd tegen diefstal, beschadiging, verontreiniging en andere schadelijke invloeden van externe factoren? | C73: 1 | D73: KB 30 sept 2020 | E73: Art 13 | J73: X1 | K73: =C73&J73&G73 -> 1X1 | L73: =IFERROR(VLOOKUP($K73,Mapping!F:H,2,0),"") | M73: =IFERROR(VLOOKUP($K73,Mapping!$F:$H,3,0),"") | N73: =C73&G73 -> 1
A74: 8 | B74: Is er een procedure voor dringende ontgrendeling in noodsituaties indien men gebruik maakt van geautomatiseerde distributiekasten? | C74: 2 | D74: Zorginspectie | J74: X1 | K74: =C74&J74&G74 -> 2X1 | L74: =IFERROR(VLOOKUP($K74,Mapping!F:H,2,0),"") | M74: =IFERROR(VLOOKUP($K74,Mapping!$F:$H,3,0),"") | N74: =C74&G74 -> 2
A75: 9 | B75: Is er een registratie van het gebruik van deze procedure (wie, wanneer en waarom)? | C75: 2 | D75: JCI | J75: X1 | K75: =C75&J75&G75 -> 2X1 | L75: =IFERROR(VLOOKUP($K75,Mapping!F:H,2,0),"") | M75: =IFERROR(VLOOKUP($K75,Mapping!$F:$H,3,0),"") | N75: =C75&G75 -> 2
A76: 10 | B76: Is er bijkomende beveiliging voor verdoving of schaarste dure gm (extra badge controle, niet iedereen toegang …)? | C76: 1 | D76: KB 6 sept 2016 | E76: Art 40 | J76: X1 | K76: =C76&J76&G76 -> 1X1 | L76: =IFERROR(VLOOKUP($K76,Mapping!F:H,2,0),"") | M76: =IFERROR(VLOOKUP($K76,Mapping!$F:$H,3,0),"") | N76: =C76&G76 -> 1
A77: f | B77: Onderhoud | C77: Progress :: | G77: =SUBTOTAL(3,G78:G87)/SUBTOTAL(3,C78:C87) -> 0 | L77: =SUBTOTAL(9,L78:L87) -> 0 | M77: =SUBTOTAL(9,M78:M87) -> 0
A78: 1 | B78: Zijn de bewaringsruimten rein en in goede staat? | C78: 1 | D78: KB 30 sept 2020 | E78: Bijlage IB | J78: X1 | K78: =C78&J78&G78 -> 1X1 | L78: =IFERROR(VLOOKUP($K78,Mapping!F:H,2,0),"") | M78: =IFERROR(VLOOKUP($K78,Mapping!$F:$H,3,0),"") | N78: =C78&G78 -> 1
A79: 2 | B79: Is er een procedure voor regelmatige schoonmaak van de distributielokalen? | C79: 1 | D79: KB 30 sept 2020 | E79: Bijlage IB | J79: X1 | K79: =C79&J79&G79 -> 1X1 | L79: =IFERROR(VLOOKUP($K79,Mapping!F:H,2,0),"") | M79: =IFERROR(VLOOKUP($K79,Mapping!$F:$H,3,0),"") | N79: =C79&G79 -> 1
A80: 3 | B80: Is er een SLA met de reinigingsdienst met een duidelijk poetsplan (wanneer, waar en hoe reinigen)? | C80: 1 | D80: KB 30 sept 2020 en ISO | E80: Bijlage IB | J80: X1 | K80: =C80&J80&G80 -> 1X1 | L80: =IFERROR(VLOOKUP($K80,Mapping!F:H,2,0),"") | M80: =IFERROR(VLOOKUP($K80,Mapping!$F:$H,3,0),"") | N80: =C80&G80 -> 1
A81: 4 | B81: Is er een procedure met betrekking tot netheid, hygiëne, ontsmetting en verluchting van de lokalen? | C81: 1 | D81: KB 30 sept 2020 | E81: Art 15 en Bijlage IB | J81: X1 | K81: =C81&J81&G81 -> 1X1 | L81: =IFERROR(VLOOKUP($K81,Mapping!F:H,2,0),"") | M81: =IFERROR(VLOOKUP($K81,Mapping!$F:$H,3,0),"") | N81: =C81&G81 -> 1
A82: 5 | B82: Is er een preventief controlesysteem tegen ongedierte (vliegend en kruipend)? | C82: 1 | D82: KB 30 sept 2020 | E82: Bijlage IB | J82: X1 | K82: =C82&J82&G82 -> 1X1 | L82: =IFERROR(VLOOKUP($K82,Mapping!F:H,2,0),"") | M82: =IFERROR(VLOOKUP($K82,Mapping!$F:$H,3,0),"") | N82: =C82&G82 -> 1
A83: 6 | B83: Zijn er specifieke zones of ruimtes voorzien voor het verzamelen van afval? | C83: 1 | D83: KB 30 sept 2021 | E83: Bijlage IB | J83: X1 | K83: =C83&J83&G83 -> 1X1 | L83: =IFERROR(VLOOKUP($K83,Mapping!F:H,2,0),"") | M83: =IFERROR(VLOOKUP($K83,Mapping!$F:$H,3,0),"") | N83: =C83&G83 -> 1
A84: 7 | B84: Is er een overzicht van het geplande onderhoud van alle apparaten van de distributie (frigo, geautomatiseerde verdeelkasten, …)? | C84: 2 | D84: JCI (FMS) | J84: X1 | K84: =C84&J84&G84 -> 2X1 | L84: =IFERROR(VLOOKUP($K84,Mapping!F:H,2,0),"") | M84: =IFERROR(VLOOKUP($K84,Mapping!$F:$H,3,0),"") | N84: =C84&G84 -> 2
A85: 8 | B85: Is er een handleiding consulteerbaar van elk apparaat van de distributie? | C85: 2 | D85: JCI (FMS) | J85: X1 | K85: =C85&J85&G85 -> 2X1 | L85: =IFERROR(VLOOKUP($K85,Mapping!F:H,2,0),"") | M85: =IFERROR(VLOOKUP($K85,Mapping!$F:$H,3,0),"") | N85: =C85&G85 -> 2
A86: 9 | B86: Is het personeel op de hoogte van het goede gebruik van de aanwezige apparaten in de distributie? | C86: 2 | D86: JCI (FMS) | J86: X1 | K86: =C86&J86&G86 -> 2X1 | L86: =IFERROR(VLOOKUP($K86,Mapping!F:H,2,0),"") | M86: =IFERROR(VLOOKUP($K86,Mapping!$F:$H,3,0),"") | N86: =C86&G86 -> 2
A87: 10 | B87: Is er een opleiding voorzien voor nieuwe personeelsleden voor het goede gebruik van alle apparaten in de distributie? | C87: 2 | D87: JCI - GDP - Qualicor | J87: X1 | K87: =C87&J87&G87 -> 2X1 | L87: =IFERROR(VLOOKUP($K87,Mapping!F:H,2,0),"") | M87: =IFERROR(VLOOKUP($K87,Mapping!$F:$H,3,0),"") | N87: =C87&G87 -> 2
A88: g | B88: Zones (mix-up) | C88: Progress :: | G88: =SUBTOTAL(3,G89:G96)/SUBTOTAL(3,C89:C96) -> 0 | L88: =SUBTOTAL(9,L89:L96) -> 0 | M88: =SUBTOTAL(9,M89:M96) -> 0
A89: 1 | B89: Is de indeling van de verschillende opslagzones goed herkenbaar gemaakt zodanig dat elk risico op verwarring, fouten of verontreiniging wordt vermeden? | C89: 1 | D89: KB 30 sept 2020 | E89: Bijlage ICc | J89: X1 | K89: =C89&J89&G89 -> 1X1 | L89: =IFERROR(VLOOKUP($K89,Mapping!F:H,2,0),"") | M89: =IFERROR(VLOOKUP($K89,Mapping!$F:$H,3,0),"") | N89: =C89&G89 -> 1
A90: 2 | B90: Is er naast de fysieke scheiding van stromen ook een duidelijke scheiding van taakverdeling die voorkomt dat er fouten gebeuren? (bv retourbehandeling en aflevering geneesmiddelen …) | C90: 1 | D90: KB 30 sept 2020 | E90: Bijlage ICc | J90: X1 | K90: =C90&J90&G90 -> 1X1 | L90: =IFERROR(VLOOKUP($K90,Mapping!F:H,2,0),"") | M90: =IFERROR(VLOOKUP($K90,Mapping!$F:$H,3,0),"") | N90: =C90&G90 -> 1
A91: 3 | B91: Is er een aparte duidelijk herkenbare quarantaine zone voor niet-conforme producten? | C91: 1 | D91: KB 30 sept 2020 | E91: Art 24 en Bijlage 1Cb | J91: X1 | K91: =C91&J91&G91 -> 1X1 | L91: =IFERROR(VLOOKUP($K91,Mapping!F:H,2,0),"") | M91: =IFERROR(VLOOKUP($K91,Mapping!$F:$H,3,0),"") | N91: =C91&G91 -> 1
A92: 4 | B92: Is er een aparte duidelijk herkenbare zone voor vervallen producten? | C92: 1 | D92: KB 30 sept 2020 | E92: Art 24 en Bijlage 1Cb | J92: X1 | K92: =C92&J92&G92 -> 1X1 | L92: =IFERROR(VLOOKUP($K92,Mapping!F:H,2,0),"") | M92: =IFERROR(VLOOKUP($K92,Mapping!$F:$H,3,0),"") | N92: =C92&G92 -> 1
A93: 5 | B93: Is er een aparte duidelijk herkenbare zone voor teruggenomen (retourgeneesmiddelen) producten? | C93: 1 | D93: KB 30 sept 2020 | E93: Art 24 en Bijlage 1Cb | J93: X1 | K93: =C93&J93&G93 -> 1X1 | L93: =IFERROR(VLOOKUP($K93,Mapping!F:H,2,0),"") | M93: =IFERROR(VLOOKUP($K93,Mapping!$F:$H,3,0),"") | N93: =C93&G93 -> 1
A94: 6 | B94: Is er een zone voor de opslag van stalen? | C94: 2 | D94: JCI (MMU 6.2.1) | J94: X1 | K94: =C94&J94&G94 -> 2X1 | L94: =IFERROR(VLOOKUP($K94,Mapping!F:H,2,0),"") | M94: =IFERROR(VLOOKUP($K94,Mapping!$F:$H,3,0),"") | N94: =C94&G94 -> 2
A95: 7 | B95: Is er een zone voor retourgeneesmiddelen op de afdelingen? | C95: 2 | D95: Accreditation Canada International (ACI): 12.7 | J95: X1 | K95: =C95&J95&G95 -> 2X1 | L95: =IFERROR(VLOOKUP($K95,Mapping!F:H,2,0),"") | M95: =IFERROR(VLOOKUP($K95,Mapping!$F:$H,3,0),"") | N95: =C95&G95 -> 2
A96: 8 | B96: Is er een quarantaine zone voor niet conforme geneesmiddelen op de afdelingen? | C96: 3 | D96: Good Practice | J96: X1 | K96: =C96&J96&G96 -> 3X1 | L96: =IFERROR(VLOOKUP($K96,Mapping!F:H,2,0),"") | M96: =IFERROR(VLOOKUP($K96,Mapping!$F:$H,3,0),"") | N96: =C96&G96 -> 3
A97: h | B97: Transfer patiënt | C97: Progress :: | G97: =SUBTOTAL(3,G98:G99)/SUBTOTAL(3,C98:C99) -> 0 | L97: =SUBTOTAL(9,L98:L99) -> 0 | M97: =SUBTOTAL(9,M98:M99) -> 0
A98: 1 | B98: Is er een procedure voor de overdracht van individuele geneesmiddelen van een patiënt tijdens een transfer van de ene naar de andere zorgeenheid? | C98: 3 | D98: Good Practice | J98: X1 | K98: =C98&J98&G98 -> 3X1 | L98: =IFERROR(VLOOKUP($K98,Mapping!F:H,2,0),"") | M98: =IFERROR(VLOOKUP($K98,Mapping!$F:$H,3,0),"") | N98: =C98&G98 -> 3
A99: 2 | B99: Wordt de transfer van een patient tussen zorgeenheden digitaal ondersteund wat betreft logistieke transacties. | C99: 3 | D99: Good Practice | J99: X1 | K99: =C99&J99&G99 -> 3X1 | L99: =IFERROR(VLOOKUP($K99,Mapping!F:H,2,0),"") | M99: =IFERROR(VLOOKUP($K99,Mapping!$F:$H,3,0),"") | N99: =C99&G99 -> 3
A100: i | B100: Opslag specifieke geneesmiddelen | C100: Progress :: | G100: =SUBTOTAL(3,G101:G108)/SUBTOTAL(3,C101:C108) -> 0 | L100: =SUBTOTAL(9,L101:L108) -> 0 | M100: =SUBTOTAL(9,M101:M108) -> 0
A101: 1 | B101: Worden gevaarlijke stoffen gescheiden bewaard? | C101: 1 | D101: Europese verordening 2006/1907 betreffende chemische stoffen (REACH) en MSDS (material safety data sheet) | J101: X1 | K101: =C101&J101&G101 -> 1X1 | L101: =IFERROR(VLOOKUP($K101,Mapping!F:H,2,0),"") | M101: =IFERROR(VLOOKUP($K101,Mapping!$F:$H,3,0),"") | N101: =C101&G101 -> 1
...

Sheet rapport
B1: MAEIA Distributie Rapport
A3: Date : | I3: Adapt these cells
A4: Ziekenhuis : | I4: Adapt these cells
A5: Hoofdapotheker : | I5: Adapt these cells
A6: Auditeur naam : | I6: Adapt these cells
C7: Max | D7: Score
A8: Total score | C8: ='proces distributie'!L3 -> 5 | D8: ='proces distributie'!M3 -> 3 | K8: Make sure total is correct | L8: Make sure total is correct
A9: ='proces distributie'!A7 -> I | B9: ='proces distributie'!B7 -> Kwaliteitsopvolging van het sterilisatieproces | C9: ='proces distributie'!L7 -> 5 | D9: ='proces distributie'!M7 -> 3 | H9: Copy Paste visible cells from questionnaire sheet | I9: Copy Paste visible cells from questionnaire sheet | J9: Copy Paste visible cells from questionnaire sheet | K9: Copy Paste visible cells from questionnaire sheet | L9: Copy Paste visible cells from questionnaire sheet
A10: ='proces distributie'!A13 -> II | B10: ='proces distributie'!B13 -> Algemeen | C10: ='proces distributie'!L13 -> 0 | D10: ='proces distributie'!M13 -> 0 | H10: Copy Paste visible cells from questionnaire sheet | I10: Copy Paste visible cells from questionnaire sheet | J10: Copy Paste visible cells from questionnaire sheet | K10: Copy Paste visible cells from questionnaire sheet | L10: Copy Paste visible cells from questionnaire sheet
A11: ='proces distributie'!A23 -> III | B11: ='proces distributie'!B23 -> Opslag geneesmiddelen | C11: ='proces distributie'!L23 -> 0 | D11: ='proces distributie'!M23 -> 0 | H11: Copy Paste visible cells from questionnaire sheet | I11: Copy Paste visible cells from questionnaire sheet | J11: Copy Paste visible cells from questionnaire sheet | K11: Copy Paste visible cells from questionnaire sheet | L11: Copy Paste visible cells from questionnaire sheet
A12: ='proces distributie'!A26 -> a | B12: ='proces distributie'!B26 -> Algemeen | C12: ='proces distributie'!L26 -> 0 | D12: ='proces distributie'!M26 -> 0 | H12: Copy Paste visible cells from questionnaire sheet | I12: Copy Paste visible cells from questionnaire sheet | J12: Copy Paste visible cells from questionnaire sheet | K12: Copy Paste visible cells from questionnaire sheet | L12: Copy Paste visible cells from questionnaire sheet
A13: ='proces distributie'!A39 -> b | B13: ='proces distributie'!B39 -> Inventaris | C13: ='proces distributie'!L39 -> 0 | D13: ='proces distributie'!M39 -> 0 | H13: Copy Paste visible cells from questionnaire sheet | I13: Copy Paste visible cells from questionnaire sheet | J13: Copy Paste visible cells from questionnaire sheet | K13: Copy Paste visible cells from questionnaire sheet | L13: Copy Paste visible cells from questionnaire sheet
A14: ='proces distributie'!A49 -> c | B14: ='proces distributie'!B49 -> Voorraadbeheer | C14: ='proces distributie'!L49 -> 0 | D14: ='proces distributie'!M49 -> 0
A15: ='proces distributie'!A60 -> d | B15: ='proces distributie'!B60 -> Infrastructuur | C15: ='proces distributie'!L60 -> 0 | D15: ='proces distributie'!M60 -> 0 | H15: Copy Paste visible cells from questionnaire sheet | I15: Copy Paste visible cells from questionnaire sheet | J15: Copy Paste visible cells from questionnaire sheet | K15: Copy Paste visible cells from questionnaire sheet | L15: Copy Paste visible cells from questionnaire sheet
A16: ='proces distributie'!A66 -> e | B16: ='proces distributie'!B66 -> Veiligheid | C16: ='proces distributie'!L66 -> 0 | D16: ='proces distributie'!M66 -> 0
A17: ='proces distributie'!A77 -> f | B17: ='proces distributie'!B77 -> Onderhoud | C17: ='proces distributie'!L77 -> 0 | D17: ='proces distributie'!M77 -> 0
A18: ='proces distributie'!A88 -> g | B18: ='proces distributie'!B88 -> Zones (mix-up) | C18: ='proces distributie'!L88 -> 0 | D18: ='proces distributie'!M88 -> 0
A19: ='proces distributie'!A97 -> h | B19: ='proces distributie'!B97 -> Transfer patiënt | C19: ='proces distributie'!L97 -> 0 | D19: ='proces distributie'!M97 -> 0
A20: ='proces distributie'!A100 -> i | B20: ='proces distributie'!B100 -> Opslag specifieke geneesmiddelen | C20: ='proces distributie'!L100 -> 0 | D20: ='proces distributie'!M100 -> 0
A21: ='proces distributie'!A109 -> j | B21: ='proces distributie'!B109 -> Noodvoorraad | C21: ='proces distributie'!L109 -> 0 | D21: ='proces distributie'!M109 -> 0
A22: ='proces distributie'!A116 -> k | B22: ='proces distributie'!B116 -> Opslag persoonlijke geneesmiddelen patiënt | C22: ='proces distributie'!L116 -> 0 | D22: ='proces distributie'!M116 -> 0
A23: ='proces distributie'!A124 -> l | B23: ='proces distributie'!B124 -> Recall geneesmiddelen | C23: ='proces distributie'!L124 -> 0 | D23: ='proces distributie'!M124 -> 0
A24: ='proces distributie'!A127 -> m | B24: ='proces distributie'!B127 -> Bewarings-modaliteiten | C24: ='proces distributie'!L127 -> 0 | D24: ='proces distributie'!M127 -> 0
A25: ='proces distributie'!A149 -> n | B25: ='proces distributie'!B149 -> Vervaldatum | C25: ='proces distributie'!L149 -> 0 | D25: ='proces distributie'!M149 -> 0
A26: ='proces distributie'!A154 -> IV | B26: ='proces distributie'!B154 -> Geneesmiddelenvoorschriften | C26: ='proces distributie'!L154 -> 0 | D26: ='proces distributie'!M154 -> 0 | H26: Copy Paste visible cells from questionnaire sheet | I26: Copy Paste visible cells from questionnaire sheet | J26: Copy Paste visible cells from questionnaire sheet | K26: Copy Paste visible cells from questionnaire sheet | L26: Copy Paste visible cells from questionnaire sheet
A27: ='proces distributie'!A157 -> a | B27: ='proces distributie'!B157 -> Algemeen | C27: ='proces distributie'!L157 -> 0 | D27: ='proces distributie'!M157 -> 0 | H27: Copy Paste visible cells from questionnaire sheet | I27: Copy Paste visible cells from questionnaire sheet | J27: Copy Paste visible cells from questionnaire sheet | K27: Copy Paste visible cells from questionnaire sheet | L27: Copy Paste visible cells from questionnaire sheet
A28: ='proces distributie'!A181 -> b | B28: ='proces distributie'!B181 -> Indien nodig voorschriften | C28: ='proces distributie'!L181 -> 0 | D28: ='proces distributie'!M181 -> 0 | H28: Copy Paste visible cells from questionnaire sheet | I28: Copy Paste visible cells from questionnaire sheet | J28: Copy Paste visible cells from questionnaire sheet | K28: Copy Paste visible cells from questionnaire sheet | L28: Copy Paste visible cells from questionnaire sheet
A29: ='proces distributie'!A184 -> c | B29: ='proces distributie'!B184 -> Niet formularium voorschriften | C29: ='proces distributie'!L184 -> 0 | D29: ='proces distributie'!M184 -> 0
A30: ='proces distributie'!A186 -> d | B30: ='proces distributie'!B186 -> Staand order | C30: ='proces distributie'!L186 -> 0 | D30: ='proces distributie'!M186 -> 0
A31: ='proces distributie'!A188 -> e | B31: ='proces distributie'!B188 -> Elektronisch voorschrift | C31: ='proces distributie'!L188 -> 0 | D31: ='proces distributie'!M188 -> 0
A32: ='proces distributie'!A212 -> f | B32: ='proces distributie'!B212 -> Implementatie elektronisch voorschrift | C32: ='proces distributie'!L212 -> 0 | D32: ='proces distributie'!M212 -> 0
A33: ='proces distributie'!A230 -> g | B33: ='proces distributie'!B230 -> Systeemveiligheid elektronisch voorschrift (EV) | C33: ='proces distributie'!L230 -> 0 | D33: ='proces distributie'!M230 -> 0
A34: ='proces distributie'!A243 -> V | B34: ='proces distributie'!B243 -> Aflevering geneesmiddelen | C34: ='proces distributie'!L243 -> 0 | D34: ='proces distributie'!M243 -> 0 | H34: Copy Paste visible cells from questionnaire sheet | I34: Copy Paste visible cells from questionnaire sheet | J34: Copy Paste visible cells from questionnaire sheet | K34: Copy Paste visible cells from questionnaire sheet | L34: Copy Paste visible cells from questionnaire sheet
A35: ='proces distributie'!A246 -> a | B35: ='proces distributie'!B246 -> Algemeen | C35: ='proces distributie'!L246 -> 0 | D35: ='proces distributie'!M246 -> 0 | H35: Copy Paste visible cells from questionnaire sheet | I35: Copy Paste visible cells from questionnaire sheet | J35: Copy Paste visible cells from questionnaire sheet | K35: Copy Paste visible cells from questionnaire sheet | L35: Copy Paste visible cells from questionnaire sheet
A36: ='proces distributie'!A273 -> b | B36: ='proces distributie'!B273 -> Substitutie | C36: ='proces distributie'!L273 -> 0 | D36: ='proces distributie'!M273 -> 0
A37: ='proces distributie'!A275 -> c | B37: ='proces distributie'!B275 -> Klinische validatie voorschrift | C37: ='proces distributie'!L275 -> 0 | D37: ='proces distributie'!M275 -> 0
A38: ='proces distributie'!A277 -> d | B38: ='proces distributie'!B277 -> Logistieke controle apotheker voor aflevering | C38: ='proces distributie'!L277 -> 0 | D38: ='proces distributie'!M277 -> 0
A39: ='proces distributie'!A280 -> e | B39: ='proces distributie'!B280 -> Transport | C39: ='proces distributie'!L280 -> 0 | D39: ='proces distributie'!M280 -> 0
A40: ='proces distributie'!A308 -> f | B40: ='proces distributie'!B308 -> Aflevering bij ontslag | C40: ='proces distributie'!L308 -> 0 | D40: ='proces distributie'!M308 -> 0
A41: ='proces distributie'!A315 -> g | B41: ='proces distributie'!B315 -> Documentatie aflevering | C41: ='proces distributie'!L315 -> 0 | D41: ='proces distributie'!M315 -> 0
A42: ='proces distributie'!A323 -> VI | B42: ='proces distributie'!B323 -> Toediening | C42: ='proces distributie'!L323 -> 0 | D42: ='proces distributie'!M323 -> 0 | H42: Copy Paste visible cells from questionnaire sheet | I42: Copy Paste visible cells from questionnaire sheet | J42: Copy Paste visible cells from questionnaire sheet | K42: Copy Paste visible cells from questionnaire sheet | L42: Copy Paste visible cells from questionnaire sheet
A43: ='proces distributie'!A326 -> a | B43: ='proces distributie'!B326 -> Algemeen | C43: ='proces distributie'!L326 -> 0 | D43: ='proces distributie'!M326 -> 0
A44: ='proces distributie'!A348 -> b | B44: ='proces distributie'!B348 -> Persoonlijke geneesmiddelen van de patiënt | C44: ='proces distributie'!L348 -> 0 | D44: ='proces distributie'!M348 -> 0
A45: ='proces distributie'!A352 -> VII | B45: ='proces distributie'!B352 -> Tarificatie | C45: ='proces distributie'!L352 -> 0 | D45: ='proces distributie'!M352 -> 0
A46: ='proces distributie'!A361 -> VIII | B46: ='proces distributie'!B361 -> Verdoving | C46: ='proces distributie'!L361 -> 0 | D46: ='proces distributie'!M361 -> 0 | H46: Copy Paste visible cells from questionnaire sheet | I46: Copy Paste visible cells from questionnaire sheet | J46: Copy Paste visible cells from questionnaire sheet | K46: Copy Paste visible cells from questionnaire sheet | L46: Copy Paste visible cells from questionnaire sheet
A47: ='proces distributie'!A364 -> a | B47: ='proces distributie'!B364 -> Algemeen | C47: ='proces distributie'!L364 -> 0 | D47: ='proces distributie'!M364 -> 0
A48: ='proces distributie'!A372 -> b | B48: ='proces distributie'!B372 -> Bestelling | C48: ='proces distributie'!L372 -> 0 | D48: ='proces distributie'!M372 -> 0
A49: ='proces distributie'!A375 -> c | B49: ='proces distributie'!B375 -> Voorschrift | C49: ='proces distributie'!L375 -> 0 | D49: ='proces distributie'!M375 -> 0
A50: ='proces distributie'!A380 -> d | B50: ='proces distributie'!B380 -> Aflevering | C50: ='proces distributie'!L380 -> 0 | D50: ='proces distributie'!M380 -> 0
A51: ='proces distributie'!A383 -> e | B51: ='proces distributie'!B383 -> Infrastructuur | C51: ='proces distributie'!L383 -> 0 | D51: ='proces distributie'!M383 -> 0
A52: ='proces distributie'!A394 -> f | B52: ='proces distributie'!B394 -> Inventaris | C52: ='proces distributie'!L394 -> 0 | D52: ='proces distributie'!M394 -> 0
A53: ='proces distributie'!A400 -> g | B53: ='proces distributie'!B400 -> In process controle | C53: ='proces distributie'!L400 -> 0 | D53: ='proces distributie'!M400 -> 0
A54: ='proces distributie'!A412 -> h | B54: ='proces distributie'!B412 -> Vervaldatum | C54: ='proces distributie'!L412 -> 0 | D54: ='proces distributie'!M412 -> 0
A55: ='proces distributie'!A420 -> i | B55: ='proces distributie'!B420 -> Transport | C55: ='proces distributie'!L420 -> 0 | D55: ='proces distributie'!M420 -> 0
A56: ='proces distributie'!A427 -> j | B56: ='proces distributie'!B427 -> Toediening | C56: ='proces distributie'!L427 -> 0 | D56: ='proces distributie'!M427 -> 0
A64: Handtekeningen
A66: Hoofdapotheker | I66: Change name & signature
A69: Auditeur naam : | I69: Change name & signature
B73: MAEIA Distributie Rapport
A100: Sterke punten
A101: 1
A102: 2
A103: 3
A104: 4
A105: 5
A106: 6
A107: Tekortkomingen niveau 1
A108: 1
A109: 2
A110: 3
A111: 4
A112: 5
A113: 6
A114: Verbeterpunten niveau 2
A115: 1
A116: 2
A117: 3
A118: 4
A119: 5
A120: 6
A121: Verbeterpunten niveau 3
A122: 1
A123: 2
A124: 3
A125: 4
A126: 5
A127: 6
A128: Observaties
A129: 1
A130: 2
A131: 3
A132: 4
A133: 5
A134: 6

Sheet actiepunten auditee
A3: Actiepunt | B3: Nummer | C3: ..… | D3: Oorsprong :
D4: o Tekortkoming niveau 1
D5: o Verbeterpunt niveau 2
D6: o Verbeterpunt niveau 3
D7: o Observatie
A8: Geaudit proces | B8: ………..
A9: Auditdatum | B9: …../…../….. | D9: Auditor | E9: ……………………………………………
A10: Auditee | B10: ………………………………………………………………………………..
A11: Omschrijving van de tekortkoming / verbeterpunt / observatie
A12: Voorgestelde maatregel door de auditee | B12: Oorzaak
B15: Actie
B21: Verantwoordelijke
B23: Termijn
A26: Opvolgrapport
A27: (cumulatief)
A44: Conclusie

Sheet Mapping
B4: MAPPING TABLE | G4: points
B5: Base points | C5: Niveau | D5: Extra gewicht factor | E5: Antwoord | F5: Code | G5: Total | H5: Score | M5: Somme | P5: Speedometer | R5: Pointer
A6: Ja Groep | B6: 1 | C6: 3 | D6: X3 | E6: Ja | F6: =C6&D6&E6 -> 3X3Ja | G6: 3 | H6: 3 | L6: Ja | M6: =COUNTIF('proces distributie'!$G:$G,Mapping!$L6) -> 2 | P6: Start | Q6: 0 | R6: Value | S6: =+ROUND(M11/M10,2)*100 -> 60
A7: Ja Groep | B7: 1 | C7: 3 | D7: X2 | E7: Ja | F7: =C7&D7&E7 -> 3X2Ja | G7: 2 | H7: 2 | L7: Neen | M7: =COUNTIF('proces distributie'!$G:$G,Mapping!$L7) -> 2 | P7: Initial | Q7: 60 | R7: Pointer | S7: 1
A8: Ja Groep | B8: 1 | C8: 3 | D8: X1 | E8: Ja | F8: =C8&D8&E8 -> 3X1Ja | G8: 1 | H8: 1 | L8: NVT | M8: =COUNTIF('proces distributie'!$G:$G,Mapping!$L8) -> 1 | P8: Middle | Q8: 30 | R8: end | S8: =200-S7-S6 -> 139
A9: Ja Groep | B9: 1 | C9: 3 | D9: X0,33 | E9: Ja | F9: =C9&D9&E9 -> 3X0,33Ja | G9: =1/3 -> 0.33333333 | H9: =1/3 -> 0.33333333 | L9: Somme | M9: =SUM(M6:M8) -> 5 | P9: End | Q9: 10
A10: Ja Groep | B10: 1 | C10: 3 | D10: X0,66 | E10: Ja | F10: =C10&D10&E10 -> 3X0,66Ja | G10: =2/3 -> 0.66666667 | H10: =2/3 -> 0.66666667 | L10: Total | M10: ='proces distributie'!$L$3 -> 5 | P10: Max | Q10: 100
A11: Ja Groep | B11: 1 | C11: 3 | D11: X1 | E11: Ja | F11: =C11&D11&E11 -> 3X1Ja | G11: 1 | H11: 1 | L11: Score | M11: ='proces distributie'!$M$3 -> 3
A12: Ja Groep | B12: 3 | C12: 2 | D12: X3 | E12: Ja | F12: =C12&D12&E12 -> 2X3Ja | G12: 9 | H12: 9 | S12: ="Total Score : "&S6&"%" -> Total Score : 60%
A13: Ja Groep | B13: 3 | C13: 2 | D13: X2 | E13: Ja | F13: =C13&D13&E13 -> 2X2Ja | G13: 6 | H13: 6
A14: Ja Groep | B14: 3 | C14: 2 | D14: X1 | E14: Ja | F14: =C14&D14&E14 -> 2X1Ja | G14: 3 | H14: 3 | L14: ROUGE | M14: 60
A15: Ja Groep | B15: 3 | C15: 2 | D15: X0,33 | E15: Ja | F15: =C15&D15&E15 -> 2X0,33Ja | G15: 1 | H15: 1 | L15: ORANGE | M15: 30
A16: Ja Groep | B16: 3 | C16: 2 | D16: X0,66 | E16: Ja | F16: =C16&D16&E16 -> 2X0,66Ja | G16: 2 | H16: 2 | L16: VERT | M16: 10
A17: Ja Groep | B17: 3 | C17: 2 | D17: X1 | E17: Ja | F17: =C17&D17&E17 -> 2X1Ja | G17: 3 | H17: 3 | L17: Invisible | M17: 100
A18: Ja Groep | B18: 6 | C18: 1 | D18: X3 | E18: Ja | F18: =C18&D18&E18 -> 1X3Ja | G18: 18 | H18: 18
A19: Ja Groep | B19: 6 | C19: 1 | D19: X2 | E19: Ja | F19: =C19&D19&E19 -> 1X2Ja | G19: 12 | H19: 12
A20: Ja Groep | B20: 6 | C20: 1 | D20: X1 | E20: Ja | F20: =C20&D20&E20 -> 1X1Ja | G20: 6 | H20: 6 | L20: Aiguille | M20: =M7/M9 -> 0.4
A21: Ja Groep | B21: 6 | C21: 1 | D21: X0,33 | E21: Ja | F21: =C21&D21&E21 -> 1X0,33Ja | G21: 2 | H21: 2 | L21: Largeur | M21: 1
A22: Ja Groep | B22: 6 | C22: 1 | D22: X0,66 | E22: Ja | F22: =C22&D22&E22 -> 1X0,66Ja | G22: 4 | H22: 4 | L22: Invisible | M22: =SUM(M14:M17)-(M21+M20) -> 198.6
A23: Ja Groep | B23: 6 | C23: 1 | D23: X1 | E23: Ja | F23: =C23&D23&E23 -> 1X1Ja | G23: 6 | H23: 6
A24: Neen groep | B24: 1 | C24: 3 | D24: X3 | E24: Neen | F24: =C24&D24&E24 -> 3X3Neen | G24: 3 | H24: 0 | L24: RIEN
A25: Neen groep | B25: 1 | C25: 3 | D25: X2 | E25: Neen | F25: =C25&D25&E25 -> 3X2Neen | G25: 2 | H25: 0 | L25: Aiguille | M25: =ROUND(M20,0)&"%" -> 0%
A26: Neen groep | B26: 1 | C26: 3 | D26: X1 | E26: Neen | F26: =C26&D26&E26 -> 3X1Neen | G26: 1 | H26: 0 | L26: RIEN
A27: Neen groep | B27: 1 | C27: 3 | D27: X0,33 | E27: Neen | F27: =C27&D27&E27 -> 3X0,33Neen | G27: =1/3 -> 0.33333333 | H27: 0
A28: Neen groep | B28: 1 | C28: 3 | D28: X0,66 | E28: Neen | F28: =C28&D28&E28 -> 3X0,66Neen | G28: =2/3 -> 0.66666667 | H28: 0
A29: Neen groep | B29: 1 | C29: 3 | D29: X1 | E29: Neen | F29: =C29&D29&E29 -> 3X1Neen | G29: 1 | H29: 0
A30: Neen groep | B30: 3 | C30: 2 | D30: X3 | E30: Neen | F30: =C30&D30&E30 -> 2X3Neen | G30: 9 | H30: 0
A31: Neen groep | B31: 3 | C31: 2 | D31: X2 | E31: Neen | F31: =C31&D31&E31 -> 2X2Neen | G31: 6 | H31: 0
A32: Neen groep | B32: 3 | C32: 2 | D32: X1 | E32: Neen | F32: =C32&D32&E32 -> 2X1Neen | G32: 3 | H32: 0
A33: Neen groep | B33: 3 | C33: 2 | D33: X0,33 | E33: Neen | F33: =C33&D33&E33 -> 2X0,33Neen | G33: 1 | H33: 0
A34: Neen groep | B34: 3 | C34: 2 | D34: X0,66 | E34: Neen | F34: =C34&D34&E34 -> 2X0,66Neen | G34: 2 | H34: 0
A35: Neen groep | B35: 3 | C35: 2 | D35: X1 | E35: Neen | F35: =C35&D35&E35 -> 2X1Neen | G35: 3 | H35: 0
A36: Neen groep | B36: 6 | C36: 1 | D36: X3 | E36: Neen | F36: =C36&D36&E36 -> 1X3Neen | G36: 18 | H36: 0
A37: Neen groep | B37: 6 | C37: 1 | D37: X2 | E37: Neen | F37: =C37&D37&E37 -> 1X2Neen | G37: 12 | H37: 0
A38: Neen groep | B38: 6 | C38: 1 | D38: X1 | E38: Neen | F38: =C38&D38&E38 -> 1X1Neen | G38: 6 | H38: 0
A39: Neen groep | B39: 6 | C39: 1 | D39: X0,33 | E39: Neen | F39: =C39&D39&E39 -> 1X0,33Neen | G39: 2 | H39: 0
A40: Neen groep | B40: 6 | C40: 1 | D40: X0,66 | E40: Neen | F40: =C40&D40&E40 -> 1X0,66Neen | G40: 4 | H40: 0
... A59: NVT groep | B59: 6 | C59: 1 | D59: X1 | E59: NVT | F59: =C59&D59&E59 -> 1X1NVT | G59: 0 | H59: 0
